BEGIN:VCALENDAR
VERSION:2.0
PRODID:-//dieLiga//DE
BEGIN:VEVENT
UID:event0
DTSTAMP:20260421T095851Z
DTSTART:20260410T173000Z
DTEND:20260410T193000Z
LOCATION;LANGUAGE=de;ENCODING=QUOTED-PRINTABLE:Dohrmannweg 35\, Landensberg
SUMMARY:Punktspiel 0815 vs Hai-Tai-Tai
DESCRIPTION;LANGUAGE=de;ENCODING=QUOTED-PRINTABLE:25:17\, 21:25\, 25:21
END:VEVENT
BEGIN:VEVENT
UID:event1
DTSTAMP:20260421T095851Z
DTSTART:20260416T173000Z
DTEND:20260416T200000Z
LOCATION;LANGUAGE=de;ENCODING=QUOTED-PRINTABLE:Am Seelachwald 11\, Kötz
SUMMARY:Punktspiel Speedteam vs 0815
DESCRIPTION;LANGUAGE=de;ENCODING=QUOTED-PRINTABLE:23:25\, 16:25
END:VEVENT
BEGIN:VEVENT
UID:event2
DTSTAMP:20260421T095851Z
DTSTART:20260424T173000Z
DTEND:20260424T193000Z
LOCATION;LANGUAGE=de;ENCODING=QUOTED-PRINTABLE:Dohrmannweg 35\, Landensberg
SUMMARY:Punktspiel 0815 vs Gandhis Enkel
DESCRIPTION;LANGUAGE=de;ENCODING=QUOTED-PRINTABLE:16:25\, 25:19\, 16:25
END:VEVENT
BEGIN:VEVENT
UID:event3
DTSTAMP:20260421T095851Z
DTSTART:20260822T173000Z
LOCATION;LANGUAGE=de;ENCODING=QUOTED-PRINTABLE:
SUMMARY:Punktspiel Rasenmäher vs 0815
DESCRIPTION;LANGUAGE=de;ENCODING=QUOTED-PRINTABLE:\n\nÜbersicht https://test.dieliga.online/schedule/overview/639
END:VEVENT
BEGIN:VEVENT
UID:event4
DTSTAMP:20260421T095851Z
DTSTART:20260605T173000Z
DTEND:20260605T193000Z
LOCATION;LANGUAGE=de;ENCODING=QUOTED-PRINTABLE:Dohrmannweg 35\, Landensberg
SUMMARY:Punktspiel 0815 vs Die grünen Punkte und ihren gelben Säcke
DESCRIPTION;LANGUAGE=de;ENCODING=QUOTED-PRINTABLE:Traglufthalle Sportzentrum (Zufahrt in das Schulgelände durch das Eisentor ist nur bis ca. 19:45)\nDohrmannweg 35\nLandensberg\n(Halle hat Hausnr. 103)\n\n\nÜbersicht https://test.dieliga.online/schedule/overview/639
END:VEVENT
BEGIN:VEVENT
UID:event5
DTSTAMP:20260421T095851Z
DTSTART:20260610T180000Z
DTEND:20260610T200000Z
LOCATION;LANGUAGE=de;ENCODING=QUOTED-PRINTABLE:Prager Straße 21\, Ernsgaden
SUMMARY:Punktspiel die Alten vs 0815
DESCRIPTION;LANGUAGE=de;ENCODING=QUOTED-PRINTABLE:Halle 3\nPrager Straße 21\n26294 Ernsgaden\n\n\nÜbersicht https://test.dieliga.online/schedule/overview/639
END:VEVENT
BEGIN:VEVENT
UID:event6
DTSTAMP:20260421T095851Z
DTSTART:20260714T180000Z
DTEND:20260714T200000Z
LOCATION;LANGUAGE=de;ENCODING=QUOTED-PRINTABLE:Cordovastraße 27\, Mitwitz
SUMMARY:Punktspiel Die Maschinen vs 0815
DESCRIPTION;LANGUAGE=de;ENCODING=QUOTED-PRINTABLE:\nCordovastraße 27\n40858 Mitwitz\n\n\nÜbersicht https://test.dieliga.online/schedule/overview/639
END:VEVENT
BEGIN:VEVENT
UID:event7
DTSTAMP:20260421T095851Z
DTSTART:20260723T183000Z
DTEND:20260723T200000Z
LOCATION;LANGUAGE=de;ENCODING=QUOTED-PRINTABLE:Karl-Lemnitz-Straße 16\, Ampfing
SUMMARY:Punktspiel Hai-Tai-Tai vs 0815
DESCRIPTION;LANGUAGE=de;ENCODING=QUOTED-PRINTABLE:Grund- und Hauptschule\nKarl-Lemnitz-Straße 16\n71303 Ampfing\n5 min von S-Bahnhof\n\n\nÜbersicht https://test.dieliga.online/schedule/overview/639
END:VEVENT
BEGIN:VEVENT
UID:event8
DTSTAMP:20260421T095851Z
DTSTART:20260730T173000Z
DTEND:20260730T193000Z
LOCATION;LANGUAGE=de;ENCODING=QUOTED-PRINTABLE:Dohrmannweg 35\, Landensberg
SUMMARY:Punktspiel 0815 vs Speedteam
DESCRIPTION;LANGUAGE=de;ENCODING=QUOTED-PRINTABLE:Traglufthalle Sportzentrum (Zufahrt in das Schulgelände durch das Eisentor ist nur bis ca. 19:45)\nDohrmannweg 35\nLandensberg\n(Halle hat Hausnr. 103)\n\n\nÜbersicht https://test.dieliga.online/schedule/overview/639
END:VEVENT
BEGIN:VEVENT
UID:event9
DTSTAMP:20260421T095851Z
DTSTART:20260806T180000Z
DTEND:20260806T200000Z
LOCATION;LANGUAGE=de;ENCODING=QUOTED-PRINTABLE:Gisibodenstraße 41\, Pollenfeld
SUMMARY:Punktspiel Gandhis Enkel vs 0815
DESCRIPTION;LANGUAGE=de;ENCODING=QUOTED-PRINTABLE:Grundschule\nGisibodenstraße 41\n41676 Pollenfeld\n\n\nÜbersicht https://test.dieliga.online/schedule/overview/639
END:VEVENT
BEGIN:VEVENT
UID:event10
DTSTAMP:20260421T095851Z
DTSTART:20260827T173000Z
DTEND:20260827T193000Z
LOCATION;LANGUAGE=de;ENCODING=QUOTED-PRINTABLE:Dohrmannweg 35\, Landensberg
SUMMARY:Punktspiel 0815 vs Rasenmäher
DESCRIPTION;LANGUAGE=de;ENCODING=QUOTED-PRINTABLE:Traglufthalle Sportzentrum (Zufahrt in das Schulgelände durch das Eisentor ist nur bis ca. 19:45)\nDohrmannweg 35\nLandensberg\n(Halle hat Hausnr. 103)\n\n\nÜbersicht https://test.dieliga.online/schedule/overview/639
END:VEVENT
BEGIN:VEVENT
UID:event11
DTSTAMP:20260421T095851Z
DTSTART:20260908T180000Z
DTEND:20260908T210000Z
LOCATION;LANGUAGE=de;ENCODING=QUOTED-PRINTABLE:Zur Helling 34\, Großostheim
SUMMARY:Punktspiel Die grünen Punkte und ihren gelben Säcke vs 0815
DESCRIPTION;LANGUAGE=de;ENCODING=QUOTED-PRINTABLE:Gemeindehalle (bei der Schule)\nZur Helling 34\nGroßostheim\n\n\nÜbersicht https://test.dieliga.online/schedule/overview/639
END:VEVENT
BEGIN:VEVENT
UID:event12
DTSTAMP:20260421T095851Z
DTSTART:20260913T173000Z
DTEND:20260913T193000Z
LOCATION;LANGUAGE=de;ENCODING=QUOTED-PRINTABLE:Dohrmannweg 35\, Landensberg
SUMMARY:Punktspiel 0815 vs die Alten
DESCRIPTION;LANGUAGE=de;ENCODING=QUOTED-PRINTABLE:Traglufthalle Sportzentrum (Zufahrt in das Schulgelände durch das Eisentor ist nur bis ca. 19:45)\nDohrmannweg 35\nLandensberg\n(Halle hat Hausnr. 103)\n\n\nÜbersicht https://test.dieliga.online/schedule/overview/639
END:VEVENT
BEGIN:VEVENT
UID:event13
DTSTAMP:20260421T095851Z
DTSTART:20260920T173000Z
DTEND:20260920T193000Z
LOCATION;LANGUAGE=de;ENCODING=QUOTED-PRINTABLE:Dohrmannweg 35\, Landensberg
SUMMARY:Punktspiel 0815 vs Die Maschinen
DESCRIPTION;LANGUAGE=de;ENCODING=QUOTED-PRINTABLE:Traglufthalle Sportzentrum (Zufahrt in das Schulgelände durch das Eisentor ist nur bis ca. 19:45)\nDohrmannweg 35\nLandensberg\n(Halle hat Hausnr. 103)\n\n\nÜbersicht https://test.dieliga.online/schedule/overview/639
END:VEVENT
END:VCALENDAR