BEGIN:VCALENDAR
VERSION:2.0
PRODID:-//dieLiga//DE
BEGIN:VEVENT
UID:event0
DTSTAMP:20260421T084950Z
DTSTART:20260424T173000Z
DTEND:20260424T193000Z
LOCATION;LANGUAGE=de;ENCODING=QUOTED-PRINTABLE:Dohrmannweg 35\, Landensberg
SUMMARY:Punktspiel 0815 vs Gandhis Enkel
DESCRIPTION;LANGUAGE=de;ENCODING=QUOTED-PRINTABLE:16:25\, 25:19\, 16:25
END:VEVENT
BEGIN:VEVENT
UID:event1
DTSTAMP:20260421T084950Z
DTSTART:20260514T180000Z
DTEND:20260514T200000Z
LOCATION;LANGUAGE=de;ENCODING=QUOTED-PRINTABLE:Gisibodenstraße 41\, Pollenfeld
SUMMARY:Punktspiel Gandhis Enkel vs Die Maschinen
DESCRIPTION;LANGUAGE=de;ENCODING=QUOTED-PRINTABLE:Grundschule\nGisibodenstraße 41\n41676 Pollenfeld\n\n\nÜbersicht https://test.dieliga.online/schedule/overview/639
END:VEVENT
BEGIN:VEVENT
UID:event2
DTSTAMP:20260421T084950Z
DTSTART:20260605T183000Z
DTEND:20260605T200000Z
LOCATION;LANGUAGE=de;ENCODING=QUOTED-PRINTABLE:Karl-Lemnitz-Straße 16\, Ampfing
SUMMARY:Punktspiel Hai-Tai-Tai vs Gandhis Enkel
DESCRIPTION;LANGUAGE=de;ENCODING=QUOTED-PRINTABLE:Grund- und Hauptschule\nKarl-Lemnitz-Straße 16\n71303 Ampfing\n5 min von S-Bahnhof\n\n\nÜbersicht https://test.dieliga.online/schedule/overview/639
END:VEVENT
BEGIN:VEVENT
UID:event3
DTSTAMP:20260421T084950Z
DTSTART:20260612T180000Z
DTEND:20260612T200000Z
LOCATION;LANGUAGE=de;ENCODING=QUOTED-PRINTABLE:Gisibodenstraße 41\, Pollenfeld
SUMMARY:Punktspiel Gandhis Enkel vs Speedteam
DESCRIPTION;LANGUAGE=de;ENCODING=QUOTED-PRINTABLE:Grundschule\nGisibodenstraße 41\n41676 Pollenfeld\n\n\nÜbersicht https://test.dieliga.online/schedule/overview/639
END:VEVENT
BEGIN:VEVENT
UID:event4
DTSTAMP:20260421T084950Z
DTSTART:20260716T180000Z
DTEND:20260716T200000Z
LOCATION;LANGUAGE=de;ENCODING=QUOTED-PRINTABLE:Gisibodenstraße 41\, Pollenfeld
SUMMARY:Punktspiel Gandhis Enkel vs die Alten
DESCRIPTION;LANGUAGE=de;ENCODING=QUOTED-PRINTABLE:Grundschule\nGisibodenstraße 41\n41676 Pollenfeld\n\n\nÜbersicht https://test.dieliga.online/schedule/overview/639
END:VEVENT
BEGIN:VEVENT
UID:event5
DTSTAMP:20260421T084950Z
DTSTART:20260723T180000Z
DTEND:20260723T200000Z
LOCATION;LANGUAGE=de;ENCODING=QUOTED-PRINTABLE:Gisibodenstraße 41\, Pollenfeld
SUMMARY:Punktspiel Gandhis Enkel vs Rasenmäher
DESCRIPTION;LANGUAGE=de;ENCODING=QUOTED-PRINTABLE:Grundschule\nGisibodenstraße 41\n41676 Pollenfeld\n\n\nÜbersicht https://test.dieliga.online/schedule/overview/639
END:VEVENT
BEGIN:VEVENT
UID:event6
DTSTAMP:20260421T084950Z
DTSTART:20260801T180000Z
DTEND:20260801T210000Z
LOCATION;LANGUAGE=de;ENCODING=QUOTED-PRINTABLE:Zur Helling 34\, Großostheim
SUMMARY:Punktspiel Die grünen Punkte und ihren gelben Säcke vs Gandhis Enkel
DESCRIPTION;LANGUAGE=de;ENCODING=QUOTED-PRINTABLE:Gemeindehalle (bei der Schule)\nZur Helling 34\nGroßostheim\n\n\nÜbersicht https://test.dieliga.online/schedule/overview/639
END:VEVENT
BEGIN:VEVENT
UID:event7
DTSTAMP:20260421T084950Z
DTSTART:20260806T180000Z
DTEND:20260806T200000Z
LOCATION;LANGUAGE=de;ENCODING=QUOTED-PRINTABLE:Gisibodenstraße 41\, Pollenfeld
SUMMARY:Punktspiel Gandhis Enkel vs 0815
DESCRIPTION;LANGUAGE=de;ENCODING=QUOTED-PRINTABLE:Grundschule\nGisibodenstraße 41\n41676 Pollenfeld\n\n\nÜbersicht https://test.dieliga.online/schedule/overview/639
END:VEVENT
BEGIN:VEVENT
UID:event8
DTSTAMP:20260421T084950Z
DTSTART:20260825T180000Z
DTEND:20260825T200000Z
LOCATION;LANGUAGE=de;ENCODING=QUOTED-PRINTABLE:Cordovastraße 27\, Mitwitz
SUMMARY:Punktspiel Die Maschinen vs Gandhis Enkel
DESCRIPTION;LANGUAGE=de;ENCODING=QUOTED-PRINTABLE:\nCordovastraße 27\n40858 Mitwitz\n\n\nÜbersicht https://test.dieliga.online/schedule/overview/639
END:VEVENT
BEGIN:VEVENT
UID:event9
DTSTAMP:20260421T084950Z
DTSTART:20260906T180000Z
DTEND:20260906T200000Z
LOCATION;LANGUAGE=de;ENCODING=QUOTED-PRINTABLE:Gisibodenstraße 41\, Pollenfeld
SUMMARY:Punktspiel Gandhis Enkel vs Hai-Tai-Tai
DESCRIPTION;LANGUAGE=de;ENCODING=QUOTED-PRINTABLE:Grundschule\nGisibodenstraße 41\n41676 Pollenfeld\n\n\nÜbersicht https://test.dieliga.online/schedule/overview/639
END:VEVENT
BEGIN:VEVENT
UID:event10
DTSTAMP:20260421T084950Z
DTSTART:20260912T173000Z
DTEND:20260912T200000Z
LOCATION;LANGUAGE=de;ENCODING=QUOTED-PRINTABLE:Am Seelachwald 11\, Kötz
SUMMARY:Punktspiel Speedteam vs Gandhis Enkel
DESCRIPTION;LANGUAGE=de;ENCODING=QUOTED-PRINTABLE: (Parkplätze sind Mangelware ...)\nAm Seelachwald 11\n30732 Kötz\n\n\nÜbersicht https://test.dieliga.online/schedule/overview/639
END:VEVENT
BEGIN:VEVENT
UID:event11
DTSTAMP:20260421T084950Z
DTSTART:20260918T180000Z
DTEND:20260918T200000Z
LOCATION;LANGUAGE=de;ENCODING=QUOTED-PRINTABLE:Prager Straße 21\, Ernsgaden
SUMMARY:Punktspiel die Alten vs Gandhis Enkel
DESCRIPTION;LANGUAGE=de;ENCODING=QUOTED-PRINTABLE:Halle 3\nPrager Straße 21\n26294 Ernsgaden\n\n\nÜbersicht https://test.dieliga.online/schedule/overview/639
END:VEVENT
END:VCALENDAR