BEGIN:VCALENDAR
VERSION:2.0
PRODID:-//dieLiga//DE
BEGIN:VEVENT
UID:event0
DTSTAMP:20260423T110235Z
DTSTART:20260709T180000Z
DTEND:20260709T200000Z
LOCATION;LANGUAGE=de;ENCODING=QUOTED-PRINTABLE:Bernhard-Hoetger-Straße 19\, Igensdorf
SUMMARY:Punktspiel Experimentierer vs Die wo mit dem Udo spielen
DESCRIPTION;LANGUAGE=de;ENCODING=QUOTED-PRINTABLE:Halle 3\nBernhard-Hoetger-Straße 19\n84831 Igensdorf\n\n\nÜbersicht https://test.dieliga.online/schedule/overview/642
END:VEVENT
BEGIN:VEVENT
UID:event1
DTSTAMP:20260423T110235Z
DTSTART:20260508T164500Z
DTEND:20260508T190000Z
LOCATION;LANGUAGE=de;ENCODING=QUOTED-PRINTABLE:Am Hofberg 12\, Gollhofen
SUMMARY:Punktspiel Die wo mit dem Udo spielen vs Balltöter
DESCRIPTION;LANGUAGE=de;ENCODING=QUOTED-PRINTABLE:Dreifachhalle\nAm Hofberg 12\n76762 Gollhofen\nParkplätze in der Tiefgarage auf der gegenüberliegenden Strassenseite\n\n\nÜbersicht https://test.dieliga.online/schedule/overview/642
END:VEVENT
BEGIN:VEVENT
UID:event2
DTSTAMP:20260423T110235Z
DTSTART:20260529T180000Z
DTEND:20260529T200000Z
LOCATION;LANGUAGE=de;ENCODING=QUOTED-PRINTABLE:An St. Theresia 51\, Aidhausen
SUMMARY:Punktspiel Die 3 lustigen 2 vs Die wo mit dem Udo spielen
DESCRIPTION;LANGUAGE=de;ENCODING=QUOTED-PRINTABLE:mittlere Halle\nAn St. Theresia 51\n69571 Aidhausen\nausreichend Parkplätze vor der Halle vorhanden\n\n\nÜbersicht https://test.dieliga.online/schedule/overview/642
END:VEVENT
BEGIN:VEVENT
UID:event3
DTSTAMP:20260423T110235Z
DTSTART:20260418T164500Z
DTEND:20260418T190000Z
LOCATION;LANGUAGE=de;ENCODING=QUOTED-PRINTABLE:Am Hofberg 12\, Gollhofen
SUMMARY:Punktspiel Die wo mit dem Udo spielen vs Birgites Pritscher
DESCRIPTION;LANGUAGE=de;ENCODING=QUOTED-PRINTABLE:18:25\, 13:25
END:VEVENT
BEGIN:VEVENT
UID:event4
DTSTAMP:20260423T110235Z
DTSTART:20260515T164500Z
DTEND:20260515T190000Z
LOCATION;LANGUAGE=de;ENCODING=QUOTED-PRINTABLE:Am Hofberg 12\, Gollhofen
SUMMARY:Punktspiel Die wo mit dem Udo spielen vs Springflöhe
DESCRIPTION;LANGUAGE=de;ENCODING=QUOTED-PRINTABLE:Dreifachhalle\nAm Hofberg 12\n76762 Gollhofen\nParkplätze in der Tiefgarage auf der gegenüberliegenden Strassenseite\n\n\nÜbersicht https://test.dieliga.online/schedule/overview/642
END:VEVENT
BEGIN:VEVENT
UID:event5
DTSTAMP:20260423T110235Z
DTSTART:20260606T164500Z
DTEND:20260606T190000Z
LOCATION;LANGUAGE=de;ENCODING=QUOTED-PRINTABLE:Am Hofberg 12\, Gollhofen
SUMMARY:Punktspiel Die wo mit dem Udo spielen vs Saubär
DESCRIPTION;LANGUAGE=de;ENCODING=QUOTED-PRINTABLE:Dreifachhalle\nAm Hofberg 12\n76762 Gollhofen\nParkplätze in der Tiefgarage auf der gegenüberliegenden Strassenseite\n\n\nÜbersicht https://test.dieliga.online/schedule/overview/642
END:VEVENT
BEGIN:VEVENT
UID:event6
DTSTAMP:20260423T110235Z
DTSTART:20260717T164500Z
DTEND:20260717T190000Z
LOCATION;LANGUAGE=de;ENCODING=QUOTED-PRINTABLE:Am Hofberg 12\, Gollhofen
SUMMARY:Punktspiel Die wo mit dem Udo spielen vs Your Mom’s favorite Team
DESCRIPTION;LANGUAGE=de;ENCODING=QUOTED-PRINTABLE:Dreifachhalle\nAm Hofberg 12\n76762 Gollhofen\nParkplätze in der Tiefgarage auf der gegenüberliegenden Strassenseite\n\n\nÜbersicht https://test.dieliga.online/schedule/overview/642
END:VEVENT
BEGIN:VEVENT
UID:event7
DTSTAMP:20260423T110235Z
DTSTART:20260724T164500Z
DTEND:20260724T190000Z
LOCATION;LANGUAGE=de;ENCODING=QUOTED-PRINTABLE:Am Hofberg 12\, Gollhofen
SUMMARY:Punktspiel Die wo mit dem Udo spielen vs Experimentierer
DESCRIPTION;LANGUAGE=de;ENCODING=QUOTED-PRINTABLE:Dreifachhalle\nAm Hofberg 12\n76762 Gollhofen\nParkplätze in der Tiefgarage auf der gegenüberliegenden Strassenseite\n\n\nÜbersicht https://test.dieliga.online/schedule/overview/642
END:VEVENT
BEGIN:VEVENT
UID:event8
DTSTAMP:20260423T110235Z
DTSTART:20260729T173000Z
DTEND:20260729T193000Z
LOCATION;LANGUAGE=de;ENCODING=QUOTED-PRINTABLE:Kaliwerk 11\, Aura im Sinngrund
SUMMARY:Punktspiel Balltöter vs Die wo mit dem Udo spielen
DESCRIPTION;LANGUAGE=de;ENCODING=QUOTED-PRINTABLE:Gymnasium\nKaliwerk 11\n24613 Aura im Sinngrund\nZufahrt über Am alten Brunnen\n\n\nÜbersicht https://test.dieliga.online/schedule/overview/642
END:VEVENT
BEGIN:VEVENT
UID:event9
DTSTAMP:20260423T110235Z
DTSTART:20260807T164500Z
DTEND:20260807T190000Z
LOCATION;LANGUAGE=de;ENCODING=QUOTED-PRINTABLE:Am Hofberg 12\, Gollhofen
SUMMARY:Punktspiel Die wo mit dem Udo spielen vs Die 3 lustigen 2
DESCRIPTION;LANGUAGE=de;ENCODING=QUOTED-PRINTABLE:Dreifachhalle\nAm Hofberg 12\n76762 Gollhofen\nParkplätze in der Tiefgarage auf der gegenüberliegenden Strassenseite\n\n\nÜbersicht https://test.dieliga.online/schedule/overview/642
END:VEVENT
BEGIN:VEVENT
UID:event10
DTSTAMP:20260423T110235Z
DTSTART:20260827T173000Z
DTEND:20260827T193000Z
LOCATION;LANGUAGE=de;ENCODING=QUOTED-PRINTABLE:Geistweg 21\, Markt Indersdorf
SUMMARY:Punktspiel Birgites Pritscher vs Die wo mit dem Udo spielen
DESCRIPTION;LANGUAGE=de;ENCODING=QUOTED-PRINTABLE:Hauptschulturnhalle\nGeistweg 21\n49715 Markt Indersdorf\n\n\nÜbersicht https://test.dieliga.online/schedule/overview/642
END:VEVENT
BEGIN:VEVENT
UID:event11
DTSTAMP:20260423T110235Z
DTSTART:20260907T164500Z
DTEND:20260907T190000Z
LOCATION;LANGUAGE=de;ENCODING=QUOTED-PRINTABLE:Am Hofberg 12\, Gollhofen
SUMMARY:Punktspiel Die wo mit dem Udo spielen vs Hart reimt sich auf Bart
DESCRIPTION;LANGUAGE=de;ENCODING=QUOTED-PRINTABLE:Dreifachhalle\nAm Hofberg 12\n76762 Gollhofen\nParkplätze in der Tiefgarage auf der gegenüberliegenden Strassenseite\n\n\nÜbersicht https://test.dieliga.online/schedule/overview/642
END:VEVENT
BEGIN:VEVENT
UID:event12
DTSTAMP:20260423T110235Z
DTSTART:20260912T173000Z
DTEND:20260912T193000Z
LOCATION;LANGUAGE=de;ENCODING=QUOTED-PRINTABLE:Weiherbachstraße 10\, Westerheim
SUMMARY:Punktspiel Springflöhe vs Die wo mit dem Udo spielen
DESCRIPTION;LANGUAGE=de;ENCODING=QUOTED-PRINTABLE:Halle II (Neue Einfachhalle)\nWeiherbachstraße 10\nWesterheim\n\n\nÜbersicht https://test.dieliga.online/schedule/overview/642
END:VEVENT
BEGIN:VEVENT
UID:event13
DTSTAMP:20260423T110235Z
DTSTART:20260921T180000Z
DTEND:20260921T200000Z
LOCATION;LANGUAGE=de;ENCODING=QUOTED-PRINTABLE:Fritz-Schmenkel-Straße 33\, Bellenberg
SUMMARY:Punktspiel Saubär vs Die wo mit dem Udo spielen
DESCRIPTION;LANGUAGE=de;ENCODING=QUOTED-PRINTABLE:Gymnasium (Training + Punktspiele)\nFritz-Schmenkel-Straße 33\n62224 Bellenberg\n\n\nÜbersicht https://test.dieliga.online/schedule/overview/642
END:VEVENT
BEGIN:VEVENT
UID:event14
DTSTAMP:20260423T110235Z
DTSTART:20261025T183000Z
DTEND:20261025T203000Z
LOCATION;LANGUAGE=de;ENCODING=QUOTED-PRINTABLE:Zschertnitzer Straße 50\, Hunderdorf
SUMMARY:Punktspiel Your Mom’s favorite Team vs Die wo mit dem Udo spielen
DESCRIPTION;LANGUAGE=de;ENCODING=QUOTED-PRINTABLE:Grundschule\nZschertnitzer Straße 50\n20239 Hunderdorf\n\n\nÜbersicht https://test.dieliga.online/schedule/overview/642
END:VEVENT
END:VCALENDAR