BEGIN:VCALENDAR
VERSION:2.0
PRODID:-//dieLiga//DE
BEGIN:VEVENT
UID:event0
DTSTAMP:20260421T070718Z
DTSTART:20260401T160000Z
DTEND:20260401T180000Z
LOCATION;LANGUAGE=de;ENCODING=QUOTED-PRINTABLE:Brünnersgasse 4\, Pleinfeld
SUMMARY:Punktspiel Schnapshamster vs Geh ans Netz und mach was
DESCRIPTION;LANGUAGE=de;ENCODING=QUOTED-PRINTABLE:25:16\, 20:25\, 13:25
END:VEVENT
BEGIN:VEVENT
UID:event1
DTSTAMP:20260421T070718Z
DTSTART:20260325T190000Z
DTEND:20260325T210000Z
LOCATION;LANGUAGE=de;ENCODING=QUOTED-PRINTABLE:Dachsbergweg 39\, Hollenbach
SUMMARY:Punktspiel Erdnuckel vs Schnapshamster
DESCRIPTION;LANGUAGE=de;ENCODING=QUOTED-PRINTABLE:25:12\, 24:26\, 19:25
END:VEVENT
BEGIN:VEVENT
UID:event2
DTSTAMP:20260421T070718Z
DTSTART:20260408T180000Z
LOCATION;LANGUAGE=de;ENCODING=QUOTED-PRINTABLE:
SUMMARY:Punktspiel Schnapshamster vs bis einer weint
DESCRIPTION;LANGUAGE=de;ENCODING=QUOTED-PRINTABLE:25:22\, 20:25\, 23:25
END:VEVENT
BEGIN:VEVENT
UID:event3
DTSTAMP:20260421T070718Z
DTSTART:20260419T180000Z
DTEND:20260419T200000Z
LOCATION;LANGUAGE=de;ENCODING=QUOTED-PRINTABLE:Zur Stegge 51\, Nittendorf
SUMMARY:Punktspiel Hobbybatscher vs Schnapshamster
DESCRIPTION;LANGUAGE=de;ENCODING=QUOTED-PRINTABLE:25:16\, 25:23
END:VEVENT
BEGIN:VEVENT
UID:event4
DTSTAMP:20260421T070718Z
DTSTART:20260422T180000Z
LOCATION;LANGUAGE=de;ENCODING=QUOTED-PRINTABLE:
SUMMARY:Punktspiel Schnapshamster vs Muschelmixer
DESCRIPTION;LANGUAGE=de;ENCODING=QUOTED-PRINTABLE:25:15\, 25:23
END:VEVENT
BEGIN:VEVENT
UID:event5
DTSTAMP:20260421T070718Z
DTSTART:20260516T180000Z
DTEND:20260516T200000Z
LOCATION;LANGUAGE=de;ENCODING=QUOTED-PRINTABLE:Wienkeweg 14\, Hirschaid
SUMMARY:Punktspiel Piranhas vs Schnapshamster
DESCRIPTION;LANGUAGE=de;ENCODING=QUOTED-PRINTABLE:Schulturnhalle\nWienkeweg 14\nHirschaid\n\n\nÜbersicht https://test.dieliga.online/schedule/overview/640
END:VEVENT
BEGIN:VEVENT
UID:event6
DTSTAMP:20260421T070718Z
DTSTART:20260603T160000Z
DTEND:20260603T180000Z
LOCATION;LANGUAGE=de;ENCODING=QUOTED-PRINTABLE:Brünnersgasse 4\, Pleinfeld
SUMMARY:Punktspiel Schnapshamster vs No pain no gain
DESCRIPTION;LANGUAGE=de;ENCODING=QUOTED-PRINTABLE:obere Halle\nBrünnersgasse 4\n13306 Pleinfeld\n\n\nÜbersicht https://test.dieliga.online/schedule/overview/640
END:VEVENT
BEGIN:VEVENT
UID:event7
DTSTAMP:20260421T070718Z
DTSTART:20260614T173000Z
DTEND:20260614T192500Z
LOCATION;LANGUAGE=de;ENCODING=QUOTED-PRINTABLE:Am Wingertsberg 44\, Deuerling
SUMMARY:Punktspiel Geh ans Netz und mach was vs Schnapshamster
DESCRIPTION;LANGUAGE=de;ENCODING=QUOTED-PRINTABLE:Traglufthalle Sportzentrum\nAm Wingertsberg 44\n49038 Deuerling\n\n\nÜbersicht https://test.dieliga.online/schedule/overview/640
END:VEVENT
BEGIN:VEVENT
UID:event8
DTSTAMP:20260421T070718Z
DTSTART:20260714T160000Z
DTEND:20260714T180000Z
LOCATION;LANGUAGE=de;ENCODING=QUOTED-PRINTABLE:Brünnersgasse 4\, Pleinfeld
SUMMARY:Punktspiel Schnapshamster vs Erdnuckel
DESCRIPTION;LANGUAGE=de;ENCODING=QUOTED-PRINTABLE:obere Halle\nBrünnersgasse 4\n13306 Pleinfeld\n\n\nÜbersicht https://test.dieliga.online/schedule/overview/640
END:VEVENT
BEGIN:VEVENT
UID:event9
DTSTAMP:20260421T070718Z
DTSTART:20260725T173000Z
DTEND:20260725T200000Z
LOCATION;LANGUAGE=de;ENCODING=QUOTED-PRINTABLE:Zum Wasserschloß 3\, Neustadt
SUMMARY:Punktspiel bis einer weint vs Schnapshamster
DESCRIPTION;LANGUAGE=de;ENCODING=QUOTED-PRINTABLE:Vereinshalle (Parkplätze über Geitnerweg erreichbar)\nZum Wasserschloß 3\n39382 Neustadt\n\n\nÜbersicht https://test.dieliga.online/schedule/overview/640
END:VEVENT
BEGIN:VEVENT
UID:event10
DTSTAMP:20260421T070718Z
DTSTART:20260728T160000Z
DTEND:20260728T180000Z
LOCATION;LANGUAGE=de;ENCODING=QUOTED-PRINTABLE:Brünnersgasse 4\, Pleinfeld
SUMMARY:Punktspiel Schnapshamster vs Hobbybatscher
DESCRIPTION;LANGUAGE=de;ENCODING=QUOTED-PRINTABLE:obere Halle\nBrünnersgasse 4\n13306 Pleinfeld\n\n\nÜbersicht https://test.dieliga.online/schedule/overview/640
END:VEVENT
BEGIN:VEVENT
UID:event11
DTSTAMP:20260421T070718Z
DTSTART:20260806T171500Z
DTEND:20260806T193000Z
LOCATION;LANGUAGE=de;ENCODING=QUOTED-PRINTABLE:Brabantstraße\, Starnberg
SUMMARY:Punktspiel Muschelmixer vs Schnapshamster
DESCRIPTION;LANGUAGE=de;ENCODING=QUOTED-PRINTABLE:Traglufthalle Sportzentrum (Zugang Halle über Marksburgstraße)\nBrabantstraße\nStarnberg\n\n\nÜbersicht https://test.dieliga.online/schedule/overview/640
END:VEVENT
BEGIN:VEVENT
UID:event12
DTSTAMP:20260421T070718Z
DTSTART:20260825T160000Z
DTEND:20260825T180000Z
LOCATION;LANGUAGE=de;ENCODING=QUOTED-PRINTABLE:Brünnersgasse 4\, Pleinfeld
SUMMARY:Punktspiel Schnapshamster vs Piranhas
DESCRIPTION;LANGUAGE=de;ENCODING=QUOTED-PRINTABLE:obere Halle\nBrünnersgasse 4\n13306 Pleinfeld\n\n\nÜbersicht https://test.dieliga.online/schedule/overview/640
END:VEVENT
BEGIN:VEVENT
UID:event13
DTSTAMP:20260421T070718Z
DTSTART:20260905T180000Z
DTEND:20260905T200000Z
LOCATION;LANGUAGE=de;ENCODING=QUOTED-PRINTABLE:Am Eckernkamp 32\, Roding
SUMMARY:Punktspiel No pain no gain vs Schnapshamster
DESCRIPTION;LANGUAGE=de;ENCODING=QUOTED-PRINTABLE:Halle 3\nAm Eckernkamp 32\n91610 Roding\n\n\nÜbersicht https://test.dieliga.online/schedule/overview/640
END:VEVENT
END:VCALENDAR