BEGIN:VCALENDAR
VERSION:2.0
PRODID:-//dieLiga//DE
BEGIN:VEVENT
UID:event0
DTSTAMP:20260421T070631Z
DTSTART:20260321T190000Z
DTEND:20260321T210000Z
LOCATION;LANGUAGE=de;ENCODING=QUOTED-PRINTABLE:Wienkeweg 14\, Hirschaid
SUMMARY:Punktspiel Piranhas vs bis einer weint
DESCRIPTION;LANGUAGE=de;ENCODING=QUOTED-PRINTABLE:16:25\, 14:25
END:VEVENT
BEGIN:VEVENT
UID:event1
DTSTAMP:20260421T070631Z
DTSTART:20260328T183000Z
DTEND:20260328T210000Z
LOCATION;LANGUAGE=de;ENCODING=QUOTED-PRINTABLE:Zum Wasserschloß 3\, Neustadt
SUMMARY:Punktspiel bis einer weint vs No pain no gain
DESCRIPTION;LANGUAGE=de;ENCODING=QUOTED-PRINTABLE:25:20\, 25:13
END:VEVENT
BEGIN:VEVENT
UID:event2
DTSTAMP:20260421T070631Z
DTSTART:20260408T180000Z
LOCATION;LANGUAGE=de;ENCODING=QUOTED-PRINTABLE:
SUMMARY:Punktspiel Schnapshamster vs bis einer weint
DESCRIPTION;LANGUAGE=de;ENCODING=QUOTED-PRINTABLE:25:22\, 20:25\, 23:25
END:VEVENT
BEGIN:VEVENT
UID:event3
DTSTAMP:20260421T070631Z
DTSTART:20260530T173000Z
DTEND:20260530T200000Z
LOCATION;LANGUAGE=de;ENCODING=QUOTED-PRINTABLE:Zum Wasserschloß 3\, Neustadt
SUMMARY:Punktspiel bis einer weint vs Erdnuckel
DESCRIPTION;LANGUAGE=de;ENCODING=QUOTED-PRINTABLE:Vereinshalle (Parkplätze über Geitnerweg erreichbar)\nZum Wasserschloß 3\n39382 Neustadt\n\n\nÜbersicht https://test.dieliga.online/schedule/overview/640
END:VEVENT
BEGIN:VEVENT
UID:event4
DTSTAMP:20260421T070631Z
DTSTART:20260426T173000Z
DTEND:20260426T200000Z
LOCATION;LANGUAGE=de;ENCODING=QUOTED-PRINTABLE:Zum Wasserschloß 3\, Neustadt
SUMMARY:Punktspiel bis einer weint vs Geh ans Netz und mach was
DESCRIPTION;LANGUAGE=de;ENCODING=QUOTED-PRINTABLE:25:23\, 18:25\, 29:27
END:VEVENT
BEGIN:VEVENT
UID:event5
DTSTAMP:20260421T070631Z
DTSTART:20260516T180000Z
DTEND:20260516T200000Z
LOCATION;LANGUAGE=de;ENCODING=QUOTED-PRINTABLE:Zur Stegge 51\, Nittendorf
SUMMARY:Punktspiel Hobbybatscher vs bis einer weint
DESCRIPTION;LANGUAGE=de;ENCODING=QUOTED-PRINTABLE:Halle 3\nZur Stegge 51\n53177 Nittendorf\nWohngebiet - Nur wenige Parkplätze\n\n\nÜbersicht https://test.dieliga.online/schedule/overview/640
END:VEVENT
BEGIN:VEVENT
UID:event6
DTSTAMP:20260421T070631Z
DTSTART:20260607T173000Z
DTEND:20260607T200000Z
LOCATION;LANGUAGE=de;ENCODING=QUOTED-PRINTABLE:Zum Wasserschloß 3\, Neustadt
SUMMARY:Punktspiel bis einer weint vs Muschelmixer
DESCRIPTION;LANGUAGE=de;ENCODING=QUOTED-PRINTABLE:Vereinshalle (Parkplätze über Geitnerweg erreichbar)\nZum Wasserschloß 3\n39382 Neustadt\n\n\nÜbersicht https://test.dieliga.online/schedule/overview/640
END:VEVENT
BEGIN:VEVENT
UID:event7
DTSTAMP:20260421T070631Z
DTSTART:20260614T173000Z
DTEND:20260614T200000Z
LOCATION;LANGUAGE=de;ENCODING=QUOTED-PRINTABLE:Zum Wasserschloß 3\, Neustadt
SUMMARY:Punktspiel bis einer weint vs Piranhas
DESCRIPTION;LANGUAGE=de;ENCODING=QUOTED-PRINTABLE:Vereinshalle (Parkplätze über Geitnerweg erreichbar)\nZum Wasserschloß 3\n39382 Neustadt\n\n\nÜbersicht https://test.dieliga.online/schedule/overview/640
END:VEVENT
BEGIN:VEVENT
UID:event8
DTSTAMP:20260421T070631Z
DTSTART:20260715T180000Z
DTEND:20260715T200000Z
LOCATION;LANGUAGE=de;ENCODING=QUOTED-PRINTABLE:Am Eckernkamp 32\, Roding
SUMMARY:Punktspiel No pain no gain vs bis einer weint
DESCRIPTION;LANGUAGE=de;ENCODING=QUOTED-PRINTABLE:Halle 3\nAm Eckernkamp 32\n91610 Roding\n\n\nÜbersicht https://test.dieliga.online/schedule/overview/640
END:VEVENT
BEGIN:VEVENT
UID:event9
DTSTAMP:20260421T070631Z
DTSTART:20260725T173000Z
DTEND:20260725T200000Z
LOCATION;LANGUAGE=de;ENCODING=QUOTED-PRINTABLE:Zum Wasserschloß 3\, Neustadt
SUMMARY:Punktspiel bis einer weint vs Schnapshamster
DESCRIPTION;LANGUAGE=de;ENCODING=QUOTED-PRINTABLE:Vereinshalle (Parkplätze über Geitnerweg erreichbar)\nZum Wasserschloß 3\n39382 Neustadt\n\n\nÜbersicht https://test.dieliga.online/schedule/overview/640
END:VEVENT
BEGIN:VEVENT
UID:event10
DTSTAMP:20260421T070631Z
DTSTART:20260729T180000Z
DTEND:20260729T200000Z
LOCATION;LANGUAGE=de;ENCODING=QUOTED-PRINTABLE:Dachsbergweg 39\, Hollenbach
SUMMARY:Punktspiel Erdnuckel vs bis einer weint
DESCRIPTION;LANGUAGE=de;ENCODING=QUOTED-PRINTABLE:Sporthalle am Hallenbad\nDachsbergweg 39\n17710 Hollenbach\n\n\nÜbersicht https://test.dieliga.online/schedule/overview/640
END:VEVENT
BEGIN:VEVENT
UID:event11
DTSTAMP:20260421T070631Z
DTSTART:20260808T173000Z
DTEND:20260808T192500Z
LOCATION;LANGUAGE=de;ENCODING=QUOTED-PRINTABLE:Am Wingertsberg 44\, Deuerling
SUMMARY:Punktspiel Geh ans Netz und mach was vs bis einer weint
DESCRIPTION;LANGUAGE=de;ENCODING=QUOTED-PRINTABLE:Traglufthalle Sportzentrum\nAm Wingertsberg 44\n49038 Deuerling\n\n\nÜbersicht https://test.dieliga.online/schedule/overview/640
END:VEVENT
BEGIN:VEVENT
UID:event12
DTSTAMP:20260421T070631Z
DTSTART:20260901T173000Z
DTEND:20260901T200000Z
LOCATION;LANGUAGE=de;ENCODING=QUOTED-PRINTABLE:Zum Wasserschloß 3\, Neustadt
SUMMARY:Punktspiel bis einer weint vs Hobbybatscher
DESCRIPTION;LANGUAGE=de;ENCODING=QUOTED-PRINTABLE:Vereinshalle (Parkplätze über Geitnerweg erreichbar)\nZum Wasserschloß 3\n39382 Neustadt\n\n\nÜbersicht https://test.dieliga.online/schedule/overview/640
END:VEVENT
BEGIN:VEVENT
UID:event13
DTSTAMP:20260421T070631Z
DTSTART:20260906T171500Z
DTEND:20260906T193000Z
LOCATION;LANGUAGE=de;ENCODING=QUOTED-PRINTABLE:Brabantstraße\, Starnberg
SUMMARY:Punktspiel Muschelmixer vs bis einer weint
DESCRIPTION;LANGUAGE=de;ENCODING=QUOTED-PRINTABLE:Traglufthalle Sportzentrum (Zugang Halle über Marksburgstraße)\nBrabantstraße\nStarnberg\n\n\nÜbersicht https://test.dieliga.online/schedule/overview/640
END:VEVENT
END:VCALENDAR