BEGIN:VCALENDAR
VERSION:2.0
PRODID:-//dieLiga//DE
BEGIN:VEVENT
UID:event0
DTSTAMP:20260423T084140Z
DTSTART:20260408T180000Z
DTEND:20260408T200000Z
LOCATION;LANGUAGE=de;ENCODING=QUOTED-PRINTABLE:Am Springbruch 15\, Teuschnitz
SUMMARY:Punktspiel Die Kolibris vs Nimm 2
DESCRIPTION;LANGUAGE=de;ENCODING=QUOTED-PRINTABLE:26:28\, 25:17\, 28:26
END:VEVENT
BEGIN:VEVENT
UID:event1
DTSTAMP:20260423T084140Z
DTSTART:20260528T183000Z
DTEND:20260528T200000Z
LOCATION;LANGUAGE=de;ENCODING=QUOTED-PRINTABLE:Obersteig 55\, Vöhringen
SUMMARY:Punktspiel Gruppe-X vs Die Kolibris
DESCRIPTION;LANGUAGE=de;ENCODING=QUOTED-PRINTABLE:Grund- und Hauptschule\nObersteig 55\n63039 Vöhringen\n5 min von S-Bahnhof\n\n\nÜbersicht https://test.dieliga.online/schedule/overview/639
END:VEVENT
BEGIN:VEVENT
UID:event2
DTSTAMP:20260423T084140Z
DTSTART:20260514T180000Z
DTEND:20260514T200000Z
LOCATION;LANGUAGE=de;ENCODING=QUOTED-PRINTABLE:Neuhauser Hauptstraße 59\, Baar
SUMMARY:Punktspiel Bauer rein\, Bauer raus! vs Die Kolibris
DESCRIPTION;LANGUAGE=de;ENCODING=QUOTED-PRINTABLE:Grundschule\nNeuhauser Hauptstraße 59\n18580 Baar\n\n\nÜbersicht https://test.dieliga.online/schedule/overview/639
END:VEVENT
BEGIN:VEVENT
UID:event3
DTSTAMP:20260423T084140Z
DTSTART:20260603T180000Z
DTEND:20260603T200000Z
LOCATION;LANGUAGE=de;ENCODING=QUOTED-PRINTABLE:Am Springbruch 15\, Teuschnitz
SUMMARY:Punktspiel Die Kolibris vs Grauen Raben
DESCRIPTION;LANGUAGE=de;ENCODING=QUOTED-PRINTABLE:\nAm Springbruch 15\n54708 Teuschnitz\n\n\nÜbersicht https://test.dieliga.online/schedule/overview/639
END:VEVENT
BEGIN:VEVENT
UID:event4
DTSTAMP:20260423T084140Z
DTSTART:20260614T180000Z
DTEND:20260614T210000Z
LOCATION;LANGUAGE=de;ENCODING=QUOTED-PRINTABLE:Bachhof 48\, Uehlfeld
SUMMARY:Punktspiel Die Überspitzen vs Die Kolibris
DESCRIPTION;LANGUAGE=de;ENCODING=QUOTED-PRINTABLE:Jahnsporthalle\nBachhof 48\nUehlfeld\n\n\nÜbersicht https://test.dieliga.online/schedule/overview/639
END:VEVENT
BEGIN:VEVENT
UID:event5
DTSTAMP:20260423T084140Z
DTSTART:20260714T180000Z
DTEND:20260714T200000Z
LOCATION;LANGUAGE=de;ENCODING=QUOTED-PRINTABLE:Am Springbruch 15\, Teuschnitz
SUMMARY:Punktspiel Die Kolibris vs Sandbankrocker
DESCRIPTION;LANGUAGE=de;ENCODING=QUOTED-PRINTABLE:\nAm Springbruch 15\n54708 Teuschnitz\n\n\nÜbersicht https://test.dieliga.online/schedule/overview/639
END:VEVENT
BEGIN:VEVENT
UID:event6
DTSTAMP:20260423T084140Z
DTSTART:20260721T180000Z
DTEND:20260721T200000Z
LOCATION;LANGUAGE=de;ENCODING=QUOTED-PRINTABLE:Rottenweg 20\, Kirchlauter
SUMMARY:Punktspiel Nimm 2 vs Die Kolibris
DESCRIPTION;LANGUAGE=de;ENCODING=QUOTED-PRINTABLE:rechte Halle\nRottenweg 20\n14259 Kirchlauter\n\n\nÜbersicht https://test.dieliga.online/schedule/overview/639
END:VEVENT
BEGIN:VEVENT
UID:event7
DTSTAMP:20260423T084140Z
DTSTART:20260728T180000Z
DTEND:20260728T200000Z
LOCATION;LANGUAGE=de;ENCODING=QUOTED-PRINTABLE:Am Springbruch 15\, Teuschnitz
SUMMARY:Punktspiel Die Kolibris vs Gruppe-X
DESCRIPTION;LANGUAGE=de;ENCODING=QUOTED-PRINTABLE:\nAm Springbruch 15\n54708 Teuschnitz\n\n\nÜbersicht https://test.dieliga.online/schedule/overview/639
END:VEVENT
BEGIN:VEVENT
UID:event8
DTSTAMP:20260423T084140Z
DTSTART:20260805T173000Z
DTEND:20260805T200000Z
LOCATION;LANGUAGE=de;ENCODING=QUOTED-PRINTABLE:Am Semberg 27\, Giebelstadt
SUMMARY:Punktspiel Netz Boxxer vs Die Kolibris
DESCRIPTION;LANGUAGE=de;ENCODING=QUOTED-PRINTABLE: (Parkplätze sind Mangelware ...)\nAm Semberg 27\n38438 Giebelstadt\n\n\nÜbersicht https://test.dieliga.online/schedule/overview/639
END:VEVENT
BEGIN:VEVENT
UID:event9
DTSTAMP:20260423T084140Z
DTSTART:20260825T180000Z
DTEND:20260825T200000Z
LOCATION;LANGUAGE=de;ENCODING=QUOTED-PRINTABLE:Am Springbruch 15\, Teuschnitz
SUMMARY:Punktspiel Die Kolibris vs Bauer rein\, Bauer raus!
DESCRIPTION;LANGUAGE=de;ENCODING=QUOTED-PRINTABLE:\nAm Springbruch 15\n54708 Teuschnitz\n\n\nÜbersicht https://test.dieliga.online/schedule/overview/639
END:VEVENT
BEGIN:VEVENT
UID:event10
DTSTAMP:20260423T084140Z
DTSTART:20260908T173000Z
DTEND:20260908T200000Z
LOCATION;LANGUAGE=de;ENCODING=QUOTED-PRINTABLE:Gussenstadter Straße
SUMMARY:Punktspiel Grauen Raben vs Die Kolibris
DESCRIPTION;LANGUAGE=de;ENCODING=QUOTED-PRINTABLE:Goldachhalle\nGussenstadter Straße\nTreffpunkt an der Treppe\, späterer Einlass nicht möglich\, da in der Halle kein Handy-Empfang\, 2min von S-Bahn Hackerbrücke\n\n\nÜbersicht https://test.dieliga.online/schedule/overview/639
END:VEVENT
BEGIN:VEVENT
UID:event11
DTSTAMP:20260423T084140Z
DTSTART:20260911T180000Z
DTEND:20260911T200000Z
LOCATION;LANGUAGE=de;ENCODING=QUOTED-PRINTABLE:Am Springbruch 15\, Teuschnitz
SUMMARY:Punktspiel Die Kolibris vs Die Überspitzen
DESCRIPTION;LANGUAGE=de;ENCODING=QUOTED-PRINTABLE:\nAm Springbruch 15\n54708 Teuschnitz\n\n\nÜbersicht https://test.dieliga.online/schedule/overview/639
END:VEVENT
BEGIN:VEVENT
UID:event12
DTSTAMP:20260423T084140Z
DTSTART:20260920T173000Z
DTEND:20260920T193000Z
LOCATION;LANGUAGE=de;ENCODING=QUOTED-PRINTABLE:Türkenfeldstraße 54\, Rödelsee
SUMMARY:Punktspiel Sandbankrocker vs Die Kolibris
DESCRIPTION;LANGUAGE=de;ENCODING=QUOTED-PRINTABLE:Halle I (Zufahrt in das Schulgelände durch das Eisentor ist nur bis ca. 19:45)\nTürkenfeldstraße 54\nRödelsee\n(Halle hat Hausnr. 103)\n\n\nÜbersicht https://test.dieliga.online/schedule/overview/639
END:VEVENT
END:VCALENDAR