BEGIN:VCALENDAR
VERSION:2.0
PRODID:-//dieLiga//DE
BEGIN:VEVENT
UID:event0
DTSTAMP:20260421T074242Z
DTSTART:20260523T173000Z
DTEND:20260523T193000Z
LOCATION;LANGUAGE=de;ENCODING=QUOTED-PRINTABLE:Quitzowstraße 37\, Finsing
SUMMARY:Punktspiel Die Unbestechlichen vs Trommelwirbel
DESCRIPTION;LANGUAGE=de;ENCODING=QUOTED-PRINTABLE:\nQuitzowstraße 37\n80865 Finsing\nwenig Parkplätze zur Verfügung!\n\n\nÜbersicht https://test.dieliga.online/schedule/overview/646
END:VEVENT
BEGIN:VEVENT
UID:event1
DTSTAMP:20260421T074242Z
DTSTART:20260325T190000Z
DTEND:20260325T210000Z
LOCATION;LANGUAGE=de;ENCODING=QUOTED-PRINTABLE:Aroser Allee 22\, Kraftisried
SUMMARY:Punktspiel Punkteräuber vs Die Unbestechlichen
DESCRIPTION;LANGUAGE=de;ENCODING=QUOTED-PRINTABLE:21:25\, 25:21\, 22:25
END:VEVENT
BEGIN:VEVENT
UID:event2
DTSTAMP:20260421T074242Z
DTSTART:20260412T173000Z
DTEND:20260412T193000Z
LOCATION;LANGUAGE=de;ENCODING=QUOTED-PRINTABLE:Kösters Feld 52\, Lutzingen
SUMMARY:Punktspiel Grauen Raben vs Die Unbestechlichen
DESCRIPTION;LANGUAGE=de;ENCODING=QUOTED-PRINTABLE:18:25\, 24:26
END:VEVENT
BEGIN:VEVENT
UID:event3
DTSTAMP:20260421T074242Z
DTSTART:20260419T173000Z
DTEND:20260419T193000Z
LOCATION;LANGUAGE=de;ENCODING=QUOTED-PRINTABLE:Quitzowstraße 37\, Finsing
SUMMARY:Punktspiel Die Unbestechlichen vs Ein Hauch von Gewalt und eine Ladung von Gefühl
DESCRIPTION;LANGUAGE=de;ENCODING=QUOTED-PRINTABLE:25:15\, 27:25
END:VEVENT
BEGIN:VEVENT
UID:event4
DTSTAMP:20260421T074242Z
DTSTART:20260527T174500Z
LOCATION;LANGUAGE=de;ENCODING=QUOTED-PRINTABLE:
SUMMARY:Punktspiel Saubär vs Die Unbestechlichen
DESCRIPTION;LANGUAGE=de;ENCODING=QUOTED-PRINTABLE:\n\nÜbersicht https://test.dieliga.online/schedule/overview/646
END:VEVENT
BEGIN:VEVENT
UID:event5
DTSTAMP:20260421T074242Z
DTSTART:20260516T173000Z
DTEND:20260516T193000Z
LOCATION;LANGUAGE=de;ENCODING=QUOTED-PRINTABLE:Quitzowstraße 37\, Finsing
SUMMARY:Punktspiel Die Unbestechlichen vs Blind Desaster
DESCRIPTION;LANGUAGE=de;ENCODING=QUOTED-PRINTABLE:\nQuitzowstraße 37\n80865 Finsing\nwenig Parkplätze zur Verfügung!\n\n\nÜbersicht https://test.dieliga.online/schedule/overview/646
END:VEVENT
BEGIN:VEVENT
UID:event6
DTSTAMP:20260421T074242Z
DTSTART:20260606T180000Z
DTEND:20260606T200000Z
LOCATION;LANGUAGE=de;ENCODING=QUOTED-PRINTABLE:Unterschöbling 31\, Irlbach
SUMMARY:Punktspiel De Banane Biegers vs Die Unbestechlichen
DESCRIPTION;LANGUAGE=de;ENCODING=QUOTED-PRINTABLE:3fach-Halle\nUnterschöbling 31\nIrlbach\n\n\nÜbersicht https://test.dieliga.online/schedule/overview/646
END:VEVENT
BEGIN:VEVENT
UID:event7
DTSTAMP:20260421T074242Z
DTSTART:20260611T170000Z
DTEND:20260611T200000Z
LOCATION;LANGUAGE=de;ENCODING=QUOTED-PRINTABLE:Schleiermacherstraße\, Eberfing
SUMMARY:Punktspiel Trommelwirbel vs Die Unbestechlichen
DESCRIPTION;LANGUAGE=de;ENCODING=QUOTED-PRINTABLE:Gemeindehalle (bei der Schule) (Training und Spielbetrieb)\nSchleiermacherstraße\nEberfing\nzweites Tor rechts neben der Packstation\, Backsteingebäude\n\n\nÜbersicht https://test.dieliga.online/schedule/overview/646
END:VEVENT
BEGIN:VEVENT
UID:event8
DTSTAMP:20260421T074242Z
DTSTART:20260718T173000Z
DTEND:20260718T193000Z
LOCATION;LANGUAGE=de;ENCODING=QUOTED-PRINTABLE:Quitzowstraße 37\, Finsing
SUMMARY:Punktspiel Die Unbestechlichen vs Punkteräuber
DESCRIPTION;LANGUAGE=de;ENCODING=QUOTED-PRINTABLE:\nQuitzowstraße 37\n80865 Finsing\nwenig Parkplätze zur Verfügung!\n\n\nÜbersicht https://test.dieliga.online/schedule/overview/646
END:VEVENT
BEGIN:VEVENT
UID:event9
DTSTAMP:20260421T074242Z
DTSTART:20260725T173000Z
DTEND:20260725T193000Z
LOCATION;LANGUAGE=de;ENCODING=QUOTED-PRINTABLE:Quitzowstraße 37\, Finsing
SUMMARY:Punktspiel Die Unbestechlichen vs Grauen Raben
DESCRIPTION;LANGUAGE=de;ENCODING=QUOTED-PRINTABLE:\nQuitzowstraße 37\n80865 Finsing\nwenig Parkplätze zur Verfügung!\n\n\nÜbersicht https://test.dieliga.online/schedule/overview/646
END:VEVENT
BEGIN:VEVENT
UID:event10
DTSTAMP:20260421T074242Z
DTSTART:20260801T180000Z
DTEND:20260801T200000Z
LOCATION;LANGUAGE=de;ENCODING=QUOTED-PRINTABLE:Katzenbauerstraße 37\, Bobingen
SUMMARY:Punktspiel Ein Hauch von Gewalt und eine Ladung von Gefühl vs Die Unbestechlichen
DESCRIPTION;LANGUAGE=de;ENCODING=QUOTED-PRINTABLE:Hauptschulturnhalle (Neue Turnhalle)\nKatzenbauerstraße 37\n62039 Bobingen\n\n\nÜbersicht https://test.dieliga.online/schedule/overview/646
END:VEVENT
BEGIN:VEVENT
UID:event11
DTSTAMP:20260421T074242Z
DTSTART:20260808T173000Z
DTEND:20260808T193000Z
LOCATION;LANGUAGE=de;ENCODING=QUOTED-PRINTABLE:Quitzowstraße 37\, Finsing
SUMMARY:Punktspiel Die Unbestechlichen vs Saubär
DESCRIPTION;LANGUAGE=de;ENCODING=QUOTED-PRINTABLE:\nQuitzowstraße 37\n80865 Finsing\nwenig Parkplätze zur Verfügung!\n\n\nÜbersicht https://test.dieliga.online/schedule/overview/646
END:VEVENT
BEGIN:VEVENT
UID:event12
DTSTAMP:20260421T074242Z
DTSTART:20260828T180000Z
DTEND:20260828T200000Z
LOCATION;LANGUAGE=de;ENCODING=QUOTED-PRINTABLE:Gondelsheimer Straße 52\, Schnaitsee
SUMMARY:Punktspiel Blind Desaster vs Die Unbestechlichen
DESCRIPTION;LANGUAGE=de;ENCODING=QUOTED-PRINTABLE:Halle I\nGondelsheimer Straße 52\nSchnaitsee\n\n\nÜbersicht https://test.dieliga.online/schedule/overview/646
END:VEVENT
BEGIN:VEVENT
UID:event13
DTSTAMP:20260421T074242Z
DTSTART:20260908T173000Z
DTEND:20260908T193000Z
LOCATION;LANGUAGE=de;ENCODING=QUOTED-PRINTABLE:Quitzowstraße 37\, Finsing
SUMMARY:Punktspiel Die Unbestechlichen vs De Banane Biegers
DESCRIPTION;LANGUAGE=de;ENCODING=QUOTED-PRINTABLE:\nQuitzowstraße 37\n80865 Finsing\nwenig Parkplätze zur Verfügung!\n\n\nÜbersicht https://test.dieliga.online/schedule/overview/646
END:VEVENT
END:VCALENDAR