BEGIN:VCALENDAR
VERSION:2.0
PRODID:-//dieLiga//DE
BEGIN:VEVENT
UID:event0
DTSTAMP:20260421T070440Z
DTSTART:20260507T173000Z
DTEND:20260507T190000Z
LOCATION;LANGUAGE=de;ENCODING=QUOTED-PRINTABLE:Synagogenplatz 27\, Schöllkrippen
SUMMARY:Punktspiel Doppelpunkt vs Rookies
DESCRIPTION;LANGUAGE=de;ENCODING=QUOTED-PRINTABLE:linke Halle\nSynagogenplatz 27\n57270 Schöllkrippen\n\n\nÜbersicht https://test.dieliga.online/schedule/overview/651
END:VEVENT
BEGIN:VEVENT
UID:event1
DTSTAMP:20260421T070440Z
DTSTART:20260527T174500Z
DTEND:20260527T194500Z
LOCATION;LANGUAGE=de;ENCODING=QUOTED-PRINTABLE:Geniner Dorfstraße 25\, Syrgenstein
SUMMARY:Punktspiel Rotkäppchen und der böse Wolf vs Doppelpunkt
DESCRIPTION;LANGUAGE=de;ENCODING=QUOTED-PRINTABLE:Halle 1\, links (AKTUELL NOCH IMMER KEINE DUSCHEN!!!!!)\nGeniner Dorfstraße 25\n80771 Syrgenstein\nEingang/Parken Oberer Schozachweg\n\n\nÜbersicht https://test.dieliga.online/schedule/overview/651
END:VEVENT
BEGIN:VEVENT
UID:event2
DTSTAMP:20260421T070440Z
DTSTART:20260410T173000Z
DTEND:20260410T190000Z
LOCATION;LANGUAGE=de;ENCODING=QUOTED-PRINTABLE:Synagogenplatz 27\, Schöllkrippen
SUMMARY:Punktspiel Doppelpunkt vs Familienbande
DESCRIPTION;LANGUAGE=de;ENCODING=QUOTED-PRINTABLE:25:13\, 25:12
END:VEVENT
BEGIN:VEVENT
UID:event3
DTSTAMP:20260421T070440Z
DTSTART:20260513T173000Z
DTEND:20260513T193000Z
LOCATION;LANGUAGE=de;ENCODING=QUOTED-PRINTABLE:Falstaffweg 4\, Donnersdorf
SUMMARY:Punktspiel Baller die Waldfee vs Doppelpunkt
DESCRIPTION;LANGUAGE=de;ENCODING=QUOTED-PRINTABLE:Halle 1\, links (Es stehen wenige kostenlose Parkplätze zur Verfügung.)\nFalstaffweg 4\n34210 Donnersdorf\nEingang gegenüber Tramhaltestelle\n\n\nÜbersicht https://test.dieliga.online/schedule/overview/651
END:VEVENT
BEGIN:VEVENT
UID:event4
DTSTAMP:20260421T070440Z
DTSTART:20260605T173000Z
DTEND:20260605T190000Z
LOCATION;LANGUAGE=de;ENCODING=QUOTED-PRINTABLE:Synagogenplatz 27\, Schöllkrippen
SUMMARY:Punktspiel Doppelpunkt vs Lustig Baggern
DESCRIPTION;LANGUAGE=de;ENCODING=QUOTED-PRINTABLE:linke Halle\nSynagogenplatz 27\n57270 Schöllkrippen\n\n\nÜbersicht https://test.dieliga.online/schedule/overview/651
END:VEVENT
BEGIN:VEVENT
UID:event5
DTSTAMP:20260421T070440Z
DTSTART:20260618T170000Z
LOCATION;LANGUAGE=de;ENCODING=QUOTED-PRINTABLE:
SUMMARY:Punktspiel Die glücklichen Hummeln vs Doppelpunkt
DESCRIPTION;LANGUAGE=de;ENCODING=QUOTED-PRINTABLE:\n\nÜbersicht https://test.dieliga.online/schedule/overview/651
END:VEVENT
BEGIN:VEVENT
UID:event6
DTSTAMP:20260421T070440Z
DTSTART:20260716T173000Z
DTEND:20260716T190000Z
LOCATION;LANGUAGE=de;ENCODING=QUOTED-PRINTABLE:Synagogenplatz 27\, Schöllkrippen
SUMMARY:Punktspiel Doppelpunkt vs Top im Alter
DESCRIPTION;LANGUAGE=de;ENCODING=QUOTED-PRINTABLE:linke Halle\nSynagogenplatz 27\n57270 Schöllkrippen\n\n\nÜbersicht https://test.dieliga.online/schedule/overview/651
END:VEVENT
BEGIN:VEVENT
UID:event7
DTSTAMP:20260421T070440Z
DTSTART:20260725T173000Z
DTEND:20260725T200000Z
LOCATION;LANGUAGE=de;ENCODING=QUOTED-PRINTABLE:Eichamtstraße 52\, Altenkunstadt
SUMMARY:Punktspiel Rookies vs Doppelpunkt
DESCRIPTION;LANGUAGE=de;ENCODING=QUOTED-PRINTABLE:Hauptschulturnhalle\nEichamtstraße 52\n42609 Altenkunstadt\n\n\nÜbersicht https://test.dieliga.online/schedule/overview/651
END:VEVENT
BEGIN:VEVENT
UID:event8
DTSTAMP:20260421T070440Z
DTSTART:20260730T173000Z
DTEND:20260730T190000Z
LOCATION;LANGUAGE=de;ENCODING=QUOTED-PRINTABLE:Synagogenplatz 27\, Schöllkrippen
SUMMARY:Punktspiel Doppelpunkt vs Rotkäppchen und der böse Wolf
DESCRIPTION;LANGUAGE=de;ENCODING=QUOTED-PRINTABLE:linke Halle\nSynagogenplatz 27\n57270 Schöllkrippen\n\n\nÜbersicht https://test.dieliga.online/schedule/overview/651
END:VEVENT
BEGIN:VEVENT
UID:event9
DTSTAMP:20260421T070440Z
DTSTART:20260808T180000Z
DTEND:20260808T200000Z
LOCATION;LANGUAGE=de;ENCODING=QUOTED-PRINTABLE:Max-Osterloh-Platz 20\, Obing
SUMMARY:Punktspiel Familienbande vs Doppelpunkt
DESCRIPTION;LANGUAGE=de;ENCODING=QUOTED-PRINTABLE:untere Halle\nMax-Osterloh-Platz 20\n58268 Obing\n\n\nÜbersicht https://test.dieliga.online/schedule/overview/651
END:VEVENT
BEGIN:VEVENT
UID:event10
DTSTAMP:20260421T070440Z
DTSTART:20260827T173000Z
DTEND:20260827T190000Z
LOCATION;LANGUAGE=de;ENCODING=QUOTED-PRINTABLE:Synagogenplatz 27\, Schöllkrippen
SUMMARY:Punktspiel Doppelpunkt vs Vater Abrahm hat seine 7 Söhne
DESCRIPTION;LANGUAGE=de;ENCODING=QUOTED-PRINTABLE:linke Halle\nSynagogenplatz 27\n57270 Schöllkrippen\n\n\nÜbersicht https://test.dieliga.online/schedule/overview/651
END:VEVENT
BEGIN:VEVENT
UID:event11
DTSTAMP:20260421T070440Z
DTSTART:20260913T173000Z
DTEND:20260913T190000Z
LOCATION;LANGUAGE=de;ENCODING=QUOTED-PRINTABLE:Synagogenplatz 27\, Schöllkrippen
SUMMARY:Punktspiel Doppelpunkt vs Baller die Waldfee
DESCRIPTION;LANGUAGE=de;ENCODING=QUOTED-PRINTABLE:linke Halle\nSynagogenplatz 27\n57270 Schöllkrippen\n\n\nÜbersicht https://test.dieliga.online/schedule/overview/651
END:VEVENT
BEGIN:VEVENT
UID:event12
DTSTAMP:20260421T070440Z
DTSTART:20260921T173000Z
DTEND:20260921T193000Z
LOCATION;LANGUAGE=de;ENCODING=QUOTED-PRINTABLE:Freester Weg 23\, Bad Endorf
SUMMARY:Punktspiel Lustig Baggern vs Doppelpunkt
DESCRIPTION;LANGUAGE=de;ENCODING=QUOTED-PRINTABLE:\nFreester Weg 23\n94200 Bad Endorf\nsehr schlechte Parkenmöglichkeiten!\n\n\nÜbersicht https://test.dieliga.online/schedule/overview/651
END:VEVENT
BEGIN:VEVENT
UID:event13
DTSTAMP:20260421T070440Z
DTSTART:20261017T173000Z
DTEND:20261017T190000Z
LOCATION;LANGUAGE=de;ENCODING=QUOTED-PRINTABLE:Synagogenplatz 27\, Schöllkrippen
SUMMARY:Punktspiel Doppelpunkt vs Die glücklichen Hummeln
DESCRIPTION;LANGUAGE=de;ENCODING=QUOTED-PRINTABLE:linke Halle\nSynagogenplatz 27\n57270 Schöllkrippen\n\n\nÜbersicht https://test.dieliga.online/schedule/overview/651
END:VEVENT
BEGIN:VEVENT
UID:event14
DTSTAMP:20260421T070440Z
DTSTART:20261024T170000Z
DTEND:20261024T183000Z
LOCATION;LANGUAGE=de;ENCODING=QUOTED-PRINTABLE:Am Hankhauser Busch 30
SUMMARY:Punktspiel Top im Alter vs Doppelpunkt
DESCRIPTION;LANGUAGE=de;ENCODING=QUOTED-PRINTABLE:Halle 1\nAm Hankhauser Busch 30\n\n\nÜbersicht https://test.dieliga.online/schedule/overview/651
END:VEVENT
END:VCALENDAR