BEGIN:VCALENDAR
VERSION:2.0
PRODID:-//dieLiga//DE
BEGIN:VEVENT
UID:event0
DTSTAMP:20260423T110347Z
DTSTART:20260325T183000Z
DTEND:20260325T203000Z
LOCATION;LANGUAGE=de;ENCODING=QUOTED-PRINTABLE:Weiherbachstraße 10\, Westerheim
SUMMARY:Punktspiel Springflöhe vs Die 3 lustigen 2
DESCRIPTION;LANGUAGE=de;ENCODING=QUOTED-PRINTABLE:25:13\, 25:22
END:VEVENT
BEGIN:VEVENT
UID:event1
DTSTAMP:20260423T110347Z
DTSTART:20260529T180000Z
DTEND:20260529T200000Z
LOCATION;LANGUAGE=de;ENCODING=QUOTED-PRINTABLE:An St. Theresia 51\, Aidhausen
SUMMARY:Punktspiel Die 3 lustigen 2 vs Die wo mit dem Udo spielen
DESCRIPTION;LANGUAGE=de;ENCODING=QUOTED-PRINTABLE:mittlere Halle\nAn St. Theresia 51\n69571 Aidhausen\nausreichend Parkplätze vor der Halle vorhanden\n\n\nÜbersicht https://test.dieliga.online/schedule/overview/642
END:VEVENT
BEGIN:VEVENT
UID:event2
DTSTAMP:20260423T110347Z
DTSTART:20260425T180000Z
DTEND:20260425T200000Z
LOCATION;LANGUAGE=de;ENCODING=QUOTED-PRINTABLE:An St. Theresia 51\, Aidhausen
SUMMARY:Punktspiel Die 3 lustigen 2 vs Your Mom’s favorite Team
DESCRIPTION;LANGUAGE=de;ENCODING=QUOTED-PRINTABLE:23:25\, 21:25
END:VEVENT
BEGIN:VEVENT
UID:event3
DTSTAMP:20260423T110347Z
DTSTART:20260514T180000Z
DTEND:20260514T200000Z
LOCATION;LANGUAGE=de;ENCODING=QUOTED-PRINTABLE:Bernhard-Hoetger-Straße 19\, Igensdorf
SUMMARY:Punktspiel Experimentierer vs Die 3 lustigen 2
DESCRIPTION;LANGUAGE=de;ENCODING=QUOTED-PRINTABLE:Halle 3\nBernhard-Hoetger-Straße 19\n84831 Igensdorf\n\n\nÜbersicht https://test.dieliga.online/schedule/overview/642
END:VEVENT
BEGIN:VEVENT
UID:event4
DTSTAMP:20260423T110347Z
DTSTART:20260606T180000Z
DTEND:20260606T200000Z
LOCATION;LANGUAGE=de;ENCODING=QUOTED-PRINTABLE:An St. Theresia 51\, Aidhausen
SUMMARY:Punktspiel Die 3 lustigen 2 vs Balltöter
DESCRIPTION;LANGUAGE=de;ENCODING=QUOTED-PRINTABLE:mittlere Halle\nAn St. Theresia 51\n69571 Aidhausen\nausreichend Parkplätze vor der Halle vorhanden\n\n\nÜbersicht https://test.dieliga.online/schedule/overview/642
END:VEVENT
BEGIN:VEVENT
UID:event5
DTSTAMP:20260423T110347Z
DTSTART:20260522T180000Z
LOCATION;LANGUAGE=de;ENCODING=QUOTED-PRINTABLE:
SUMMARY:Punktspiel Saubär vs Die 3 lustigen 2
DESCRIPTION;LANGUAGE=de;ENCODING=QUOTED-PRINTABLE:\n\nÜbersicht https://test.dieliga.online/schedule/overview/642
END:VEVENT
BEGIN:VEVENT
UID:event6
DTSTAMP:20260423T110347Z
DTSTART:20260716T173000Z
DTEND:20260716T193000Z
LOCATION;LANGUAGE=de;ENCODING=QUOTED-PRINTABLE:Geistweg 21\, Markt Indersdorf
SUMMARY:Punktspiel Birgites Pritscher vs Die 3 lustigen 2
DESCRIPTION;LANGUAGE=de;ENCODING=QUOTED-PRINTABLE:Hauptschulturnhalle\nGeistweg 21\n49715 Markt Indersdorf\n\n\nÜbersicht https://test.dieliga.online/schedule/overview/642
END:VEVENT
BEGIN:VEVENT
UID:event7
DTSTAMP:20260423T110347Z
DTSTART:20260723T180000Z
DTEND:20260723T193000Z
LOCATION;LANGUAGE=de;ENCODING=QUOTED-PRINTABLE:Morillenhang 10\, Stadelhofen
SUMMARY:Punktspiel Hart reimt sich auf Bart vs Die 3 lustigen 2
DESCRIPTION;LANGUAGE=de;ENCODING=QUOTED-PRINTABLE:Vereinshalle\nMorillenhang 10\nStadelhofen\n\n\nÜbersicht https://test.dieliga.online/schedule/overview/642
END:VEVENT
BEGIN:VEVENT
UID:event8
DTSTAMP:20260423T110347Z
DTSTART:20260731T180000Z
DTEND:20260731T200000Z
LOCATION;LANGUAGE=de;ENCODING=QUOTED-PRINTABLE:An St. Theresia 51\, Aidhausen
SUMMARY:Punktspiel Die 3 lustigen 2 vs Springflöhe
DESCRIPTION;LANGUAGE=de;ENCODING=QUOTED-PRINTABLE:mittlere Halle\nAn St. Theresia 51\n69571 Aidhausen\nausreichend Parkplätze vor der Halle vorhanden\n\n\nÜbersicht https://test.dieliga.online/schedule/overview/642
END:VEVENT
BEGIN:VEVENT
UID:event9
DTSTAMP:20260423T110347Z
DTSTART:20260807T164500Z
DTEND:20260807T190000Z
LOCATION;LANGUAGE=de;ENCODING=QUOTED-PRINTABLE:Am Hofberg 12\, Gollhofen
SUMMARY:Punktspiel Die wo mit dem Udo spielen vs Die 3 lustigen 2
DESCRIPTION;LANGUAGE=de;ENCODING=QUOTED-PRINTABLE:Dreifachhalle\nAm Hofberg 12\n76762 Gollhofen\nParkplätze in der Tiefgarage auf der gegenüberliegenden Strassenseite\n\n\nÜbersicht https://test.dieliga.online/schedule/overview/642
END:VEVENT
BEGIN:VEVENT
UID:event10
DTSTAMP:20260423T110347Z
DTSTART:20260907T173000Z
DTEND:20260907T193000Z
LOCATION;LANGUAGE=de;ENCODING=QUOTED-PRINTABLE:Zschertnitzer Straße 50\, Hunderdorf
SUMMARY:Punktspiel Your Mom’s favorite Team vs Die 3 lustigen 2
DESCRIPTION;LANGUAGE=de;ENCODING=QUOTED-PRINTABLE:Grundschule\nZschertnitzer Straße 50\n20239 Hunderdorf\n\n\nÜbersicht https://test.dieliga.online/schedule/overview/642
END:VEVENT
BEGIN:VEVENT
UID:event11
DTSTAMP:20260423T110347Z
DTSTART:20260914T180000Z
DTEND:20260914T200000Z
LOCATION;LANGUAGE=de;ENCODING=QUOTED-PRINTABLE:An St. Theresia 51\, Aidhausen
SUMMARY:Punktspiel Die 3 lustigen 2 vs Experimentierer
DESCRIPTION;LANGUAGE=de;ENCODING=QUOTED-PRINTABLE:mittlere Halle\nAn St. Theresia 51\n69571 Aidhausen\nausreichend Parkplätze vor der Halle vorhanden\n\n\nÜbersicht https://test.dieliga.online/schedule/overview/642
END:VEVENT
BEGIN:VEVENT
UID:event12
DTSTAMP:20260423T110347Z
DTSTART:20260919T173000Z
DTEND:20260919T193000Z
LOCATION;LANGUAGE=de;ENCODING=QUOTED-PRINTABLE:Kaliwerk 11\, Aura im Sinngrund
SUMMARY:Punktspiel Balltöter vs Die 3 lustigen 2
DESCRIPTION;LANGUAGE=de;ENCODING=QUOTED-PRINTABLE:Gymnasium\nKaliwerk 11\n24613 Aura im Sinngrund\nZufahrt über Am alten Brunnen\n\n\nÜbersicht https://test.dieliga.online/schedule/overview/642
END:VEVENT
BEGIN:VEVENT
UID:event13
DTSTAMP:20260423T110347Z
DTSTART:20261018T180000Z
DTEND:20261018T200000Z
LOCATION;LANGUAGE=de;ENCODING=QUOTED-PRINTABLE:An St. Theresia 51\, Aidhausen
SUMMARY:Punktspiel Die 3 lustigen 2 vs Saubär
DESCRIPTION;LANGUAGE=de;ENCODING=QUOTED-PRINTABLE:mittlere Halle\nAn St. Theresia 51\n69571 Aidhausen\nausreichend Parkplätze vor der Halle vorhanden\n\n\nÜbersicht https://test.dieliga.online/schedule/overview/642
END:VEVENT
BEGIN:VEVENT
UID:event14
DTSTAMP:20260423T110347Z
DTSTART:20261025T190000Z
DTEND:20261025T210000Z
LOCATION;LANGUAGE=de;ENCODING=QUOTED-PRINTABLE:An St. Theresia 51\, Aidhausen
SUMMARY:Punktspiel Die 3 lustigen 2 vs Birgites Pritscher
DESCRIPTION;LANGUAGE=de;ENCODING=QUOTED-PRINTABLE:mittlere Halle\nAn St. Theresia 51\n69571 Aidhausen\nausreichend Parkplätze vor der Halle vorhanden\n\n\nÜbersicht https://test.dieliga.online/schedule/overview/642
END:VEVENT
END:VCALENDAR