BEGIN:VCALENDAR
VERSION:2.0
PRODID:-//dieLiga//DE
BEGIN:VEVENT
UID:event0
DTSTAMP:20260423T100411Z
DTSTART:20260325T191500Z
DTEND:20260325T213000Z
LOCATION;LANGUAGE=de;ENCODING=QUOTED-PRINTABLE:Burscheider Straße 33\, Hohenfels
SUMMARY:Punktspiel 0815 vs Familienbande
DESCRIPTION;LANGUAGE=de;ENCODING=QUOTED-PRINTABLE:21:25\, 12:25
END:VEVENT
BEGIN:VEVENT
UID:event1
DTSTAMP:20260423T100411Z
DTSTART:20260410T170000Z
DTEND:20260410T190000Z
LOCATION;LANGUAGE=de;ENCODING=QUOTED-PRINTABLE:Moose 8\, Leiblfing
SUMMARY:Punktspiel KannNIXchen vs 0815
DESCRIPTION;LANGUAGE=de;ENCODING=QUOTED-PRINTABLE:22:25\, 21:25
END:VEVENT
BEGIN:VEVENT
UID:event2
DTSTAMP:20260423T100411Z
DTSTART:20260416T181500Z
DTEND:20260416T203000Z
LOCATION;LANGUAGE=de;ENCODING=QUOTED-PRINTABLE:Burscheider Straße 33\, Hohenfels
SUMMARY:Punktspiel 0815 vs Die Sandballer
DESCRIPTION;LANGUAGE=de;ENCODING=QUOTED-PRINTABLE:mittlere Halle\nBurscheider Straße 33\nHohenfels\n\n\nÜbersicht https://test.dieliga.online/schedule/overview/649
END:VEVENT
BEGIN:VEVENT
UID:event3
DTSTAMP:20260423T100411Z
DTSTART:20260425T183000Z
DTEND:20260425T200000Z
LOCATION;LANGUAGE=de;ENCODING=QUOTED-PRINTABLE:Emmenhäuser Straße 30\, Thurmansbang
SUMMARY:Punktspiel Netzquäler vs 0815
DESCRIPTION;LANGUAGE=de;ENCODING=QUOTED-PRINTABLE:25:12\, 25:22
END:VEVENT
BEGIN:VEVENT
UID:event4
DTSTAMP:20260423T100411Z
DTSTART:20260513T181500Z
DTEND:20260513T203000Z
LOCATION;LANGUAGE=de;ENCODING=QUOTED-PRINTABLE:Burscheider Straße 33\, Hohenfels
SUMMARY:Punktspiel 0815 vs Bettnässer
DESCRIPTION;LANGUAGE=de;ENCODING=QUOTED-PRINTABLE:mittlere Halle\nBurscheider Straße 33\nHohenfels\n\n\nÜbersicht https://test.dieliga.online/schedule/overview/649
END:VEVENT
BEGIN:VEVENT
UID:event5
DTSTAMP:20260423T100411Z
DTSTART:20260604T181500Z
DTEND:20260604T203000Z
LOCATION;LANGUAGE=de;ENCODING=QUOTED-PRINTABLE:Burscheider Straße 33\, Hohenfels
SUMMARY:Punktspiel 0815 vs Maskuline Frauen
DESCRIPTION;LANGUAGE=de;ENCODING=QUOTED-PRINTABLE:mittlere Halle\nBurscheider Straße 33\nHohenfels\n\n\nÜbersicht https://test.dieliga.online/schedule/overview/649
END:VEVENT
BEGIN:VEVENT
UID:event6
DTSTAMP:20260423T100411Z
DTSTART:20260715T181500Z
DTEND:20260715T203000Z
LOCATION;LANGUAGE=de;ENCODING=QUOTED-PRINTABLE:Burscheider Straße 33\, Hohenfels
SUMMARY:Punktspiel 0815 vs Ohne Uschi
DESCRIPTION;LANGUAGE=de;ENCODING=QUOTED-PRINTABLE:mittlere Halle\nBurscheider Straße 33\nHohenfels\n\n\nÜbersicht https://test.dieliga.online/schedule/overview/649
END:VEVENT
BEGIN:VEVENT
UID:event7
DTSTAMP:20260423T100411Z
DTSTART:20260722T181500Z
DTEND:20260722T203000Z
LOCATION;LANGUAGE=de;ENCODING=QUOTED-PRINTABLE:Burscheider Straße 33\, Hohenfels
SUMMARY:Punktspiel 0815 vs Rasenbeacher
DESCRIPTION;LANGUAGE=de;ENCODING=QUOTED-PRINTABLE:mittlere Halle\nBurscheider Straße 33\nHohenfels\n\n\nÜbersicht https://test.dieliga.online/schedule/overview/649
END:VEVENT
BEGIN:VEVENT
UID:event8
DTSTAMP:20260423T100411Z
DTSTART:20260801T180000Z
DTEND:20260801T203000Z
LOCATION;LANGUAGE=de;ENCODING=QUOTED-PRINTABLE:Simeonistraße\, Apfeldorf
SUMMARY:Punktspiel Familienbande vs 0815
DESCRIPTION;LANGUAGE=de;ENCODING=QUOTED-PRINTABLE:Halle II\nSimeonistraße\n98940 Apfeldorf\n\n\nÜbersicht https://test.dieliga.online/schedule/overview/649
END:VEVENT
BEGIN:VEVENT
UID:event9
DTSTAMP:20260423T100411Z
DTSTART:20260805T181500Z
DTEND:20260805T203000Z
LOCATION;LANGUAGE=de;ENCODING=QUOTED-PRINTABLE:Burscheider Straße 33\, Hohenfels
SUMMARY:Punktspiel 0815 vs KannNIXchen
DESCRIPTION;LANGUAGE=de;ENCODING=QUOTED-PRINTABLE:mittlere Halle\nBurscheider Straße 33\nHohenfels\n\n\nÜbersicht https://test.dieliga.online/schedule/overview/649
END:VEVENT
BEGIN:VEVENT
UID:event10
DTSTAMP:20260423T100411Z
DTSTART:20260901T173000Z
DTEND:20260901T193000Z
LOCATION;LANGUAGE=de;ENCODING=QUOTED-PRINTABLE:Wormlager Straße 3\, Prackenbach
SUMMARY:Punktspiel Die Sandballer vs 0815
DESCRIPTION;LANGUAGE=de;ENCODING=QUOTED-PRINTABLE:\nWormlager Straße 3\nPrackenbach\n\n\nÜbersicht https://test.dieliga.online/schedule/overview/649
END:VEVENT
BEGIN:VEVENT
UID:event11
DTSTAMP:20260423T100411Z
DTSTART:20260905T181500Z
DTEND:20260905T203000Z
LOCATION;LANGUAGE=de;ENCODING=QUOTED-PRINTABLE:Burscheider Straße 33\, Hohenfels
SUMMARY:Punktspiel 0815 vs Netzquäler
DESCRIPTION;LANGUAGE=de;ENCODING=QUOTED-PRINTABLE:mittlere Halle\nBurscheider Straße 33\nHohenfels\n\n\nÜbersicht https://test.dieliga.online/schedule/overview/649
END:VEVENT
BEGIN:VEVENT
UID:event12
DTSTAMP:20260423T100411Z
DTSTART:20260915T170000Z
DTEND:20260915T193000Z
LOCATION;LANGUAGE=de;ENCODING=QUOTED-PRINTABLE:Osemundstraße 46\, Prosselsheim
SUMMARY:Punktspiel Bettnässer vs 0815
DESCRIPTION;LANGUAGE=de;ENCODING=QUOTED-PRINTABLE:Sporthalle am Hallenbad\nOsemundstraße 46\nProsselsheim\n\n\nÜbersicht https://test.dieliga.online/schedule/overview/649
END:VEVENT
BEGIN:VEVENT
UID:event13
DTSTAMP:20260423T100411Z
DTSTART:20260920T180000Z
DTEND:20260920T200000Z
LOCATION;LANGUAGE=de;ENCODING=QUOTED-PRINTABLE:Nittumer Weg 39\, Langweid am Lech
SUMMARY:Punktspiel Maskuline Frauen vs 0815
DESCRIPTION;LANGUAGE=de;ENCODING=QUOTED-PRINTABLE:TSV Sportzentrum\nNittumer Weg 39\n85222 Langweid am Lech\n\n\nÜbersicht https://test.dieliga.online/schedule/overview/649
END:VEVENT
BEGIN:VEVENT
UID:event14
DTSTAMP:20260423T100411Z
DTSTART:20261024T173000Z
DTEND:20261024T192000Z
LOCATION;LANGUAGE=de;ENCODING=QUOTED-PRINTABLE:Am Eichwinkel 16\, Söchtenau
SUMMARY:Punktspiel Ohne Uschi vs 0815
DESCRIPTION;LANGUAGE=de;ENCODING=QUOTED-PRINTABLE:Halle 1\nAm Eichwinkel 16\nSöchtenau\n\n\nÜbersicht https://test.dieliga.online/schedule/overview/649
END:VEVENT
END:VCALENDAR