BEGIN:VCALENDAR
VERSION:2.0
PRODID:-//dieLiga//DE
BEGIN:VEVENT
UID:event0
DTSTAMP:20260421T082501Z
DTSTART:20260327T184500Z
DTEND:20260327T204500Z
LOCATION;LANGUAGE=de;ENCODING=QUOTED-PRINTABLE:Vorhölterstraße 38\, Kammlach
SUMMARY:Punktspiel SMarties vs Angry Nerds
DESCRIPTION;LANGUAGE=de;ENCODING=QUOTED-PRINTABLE:9:25\, 25:11\, 25:16
END:VEVENT
BEGIN:VEVENT
UID:event1
DTSTAMP:20260421T082501Z
DTSTART:20260409T173000Z
DTEND:20260409T194500Z
LOCATION;LANGUAGE=de;ENCODING=QUOTED-PRINTABLE:Kirchenring 45\, Brand
SUMMARY:Punktspiel Killerbienen vs SMarties
DESCRIPTION;LANGUAGE=de;ENCODING=QUOTED-PRINTABLE:25:23\, 15:25\, 25:21
END:VEVENT
BEGIN:VEVENT
UID:event2
DTSTAMP:20260421T082501Z
DTSTART:20260527T180000Z
LOCATION;LANGUAGE=de;ENCODING=QUOTED-PRINTABLE:
SUMMARY:Punktspiel SMarties vs Die Überspitzen
DESCRIPTION;LANGUAGE=de;ENCODING=QUOTED-PRINTABLE:\n\nÜbersicht https://test.dieliga.online/schedule/overview/647
END:VEVENT
BEGIN:VEVENT
UID:event3
DTSTAMP:20260421T082501Z
DTSTART:20260425T174500Z
DTEND:20260425T194500Z
LOCATION;LANGUAGE=de;ENCODING=QUOTED-PRINTABLE:Vorhölterstraße 38\, Kammlach
SUMMARY:Punktspiel SMarties vs Sonnige Grüße\, sandige Füße
DESCRIPTION;LANGUAGE=de;ENCODING=QUOTED-PRINTABLE:25:16\, 30:28
END:VEVENT
BEGIN:VEVENT
UID:event4
DTSTAMP:20260421T082501Z
DTSTART:20260513T180000Z
DTEND:20260513T200000Z
LOCATION;LANGUAGE=de;ENCODING=QUOTED-PRINTABLE:An der Waldlust 33\, Kirchdorf
SUMMARY:Punktspiel Trockeneis vs SMarties
DESCRIPTION;LANGUAGE=de;ENCODING=QUOTED-PRINTABLE:Mehrzweckhalle (keine Parkmöglichkeit)\nAn der Waldlust 33\n66301 Kirchdorf\n\n\nÜbersicht https://test.dieliga.online/schedule/overview/647
END:VEVENT
BEGIN:VEVENT
UID:event5
DTSTAMP:20260421T082501Z
DTSTART:20260606T174500Z
DTEND:20260606T194500Z
LOCATION;LANGUAGE=de;ENCODING=QUOTED-PRINTABLE:Vorhölterstraße 38\, Kammlach
SUMMARY:Punktspiel SMarties vs NimDuIchHabIhnSicha
DESCRIPTION;LANGUAGE=de;ENCODING=QUOTED-PRINTABLE:Halle 1\nVorhölterstraße 38\n31452 Kammlach\nEingang Lankerner Schulweg\n\n\nÜbersicht https://test.dieliga.online/schedule/overview/647
END:VEVENT
BEGIN:VEVENT
UID:event6
DTSTAMP:20260421T082501Z
DTSTART:20260613T174500Z
DTEND:20260613T194500Z
LOCATION;LANGUAGE=de;ENCODING=QUOTED-PRINTABLE:Vorhölterstraße 38\, Kammlach
SUMMARY:Punktspiel SMarties vs Krampfadergeschwader
DESCRIPTION;LANGUAGE=de;ENCODING=QUOTED-PRINTABLE:Halle 1\nVorhölterstraße 38\n31452 Kammlach\nEingang Lankerner Schulweg\n\n\nÜbersicht https://test.dieliga.online/schedule/overview/647
END:VEVENT
BEGIN:VEVENT
UID:event7
DTSTAMP:20260421T082501Z
DTSTART:20260715T180000Z
DTEND:20260715T200000Z
LOCATION;LANGUAGE=de;ENCODING=QUOTED-PRINTABLE:Erbenova 45\, Kranzberg
SUMMARY:Punktspiel Angry Nerds vs SMarties
DESCRIPTION;LANGUAGE=de;ENCODING=QUOTED-PRINTABLE:obere Halle\nErbenova 45\n33124 Kranzberg\n\n\nÜbersicht https://test.dieliga.online/schedule/overview/647
END:VEVENT
BEGIN:VEVENT
UID:event8
DTSTAMP:20260421T082501Z
DTSTART:20260724T174500Z
DTEND:20260724T194500Z
LOCATION;LANGUAGE=de;ENCODING=QUOTED-PRINTABLE:Vorhölterstraße 38\, Kammlach
SUMMARY:Punktspiel SMarties vs Killerbienen
DESCRIPTION;LANGUAGE=de;ENCODING=QUOTED-PRINTABLE:Halle 1\nVorhölterstraße 38\n31452 Kammlach\nEingang Lankerner Schulweg\n\n\nÜbersicht https://test.dieliga.online/schedule/overview/647
END:VEVENT
BEGIN:VEVENT
UID:event9
DTSTAMP:20260421T082501Z
DTSTART:20260731T180000Z
DTEND:20260731T194500Z
LOCATION;LANGUAGE=de;ENCODING=QUOTED-PRINTABLE:Heidbüchel 22\, Eching
SUMMARY:Punktspiel Die Überspitzen vs SMarties
DESCRIPTION;LANGUAGE=de;ENCODING=QUOTED-PRINTABLE:Gemeindehalle (bei der Schule) (keine Straßenschuhe in der Halle\; in den Schulferien KEIN Hallentraining)\nHeidbüchel 22\n58210 Eching\nEingang befindet sich gegenüber Korseltstraße: durch das kleine Tor\, dann einmal quer über den Pausenhof\, die Turnhalle ist 2. OG\n\n\nÜbersicht https://test.dieliga.online/schedule/overview/647
END:VEVENT
BEGIN:VEVENT
UID:event10
DTSTAMP:20260421T082501Z
DTSTART:20260806T173000Z
DTEND:20260806T193000Z
LOCATION;LANGUAGE=de;ENCODING=QUOTED-PRINTABLE:Heiliggrabstraße\, Habach
SUMMARY:Punktspiel Sonnige Grüße\, sandige Füße vs SMarties
DESCRIPTION;LANGUAGE=de;ENCODING=QUOTED-PRINTABLE:Elly-Heuss-Realschule\nHeiliggrabstraße\nHabach\n\n\nÜbersicht https://test.dieliga.online/schedule/overview/647
END:VEVENT
BEGIN:VEVENT
UID:event11
DTSTAMP:20260421T082501Z
DTSTART:20260828T174500Z
DTEND:20260828T194500Z
LOCATION;LANGUAGE=de;ENCODING=QUOTED-PRINTABLE:Vorhölterstraße 38\, Kammlach
SUMMARY:Punktspiel SMarties vs Trockeneis
DESCRIPTION;LANGUAGE=de;ENCODING=QUOTED-PRINTABLE:Halle 1\nVorhölterstraße 38\n31452 Kammlach\nEingang Lankerner Schulweg\n\n\nÜbersicht https://test.dieliga.online/schedule/overview/647
END:VEVENT
BEGIN:VEVENT
UID:event12
DTSTAMP:20260421T082501Z
DTSTART:20260905T173000Z
DTEND:20260905T193000Z
LOCATION;LANGUAGE=de;ENCODING=QUOTED-PRINTABLE:Hohlleite 49\, Eitensheim
SUMMARY:Punktspiel NimDuIchHabIhnSicha vs SMarties
DESCRIPTION;LANGUAGE=de;ENCODING=QUOTED-PRINTABLE:Halle II (keine Trinkflaschen/Straßenschuhe in der Halle\;    in den Schulferien KEIN Hallentraining  )\nHohlleite 49\n38047 Eitensheim\nPKW-Parkplätze vor dem Gebäude\n\n\nÜbersicht https://test.dieliga.online/schedule/overview/647
END:VEVENT
END:VCALENDAR