BEGIN:VCALENDAR
VERSION:2.0
PRODID:-//dieLiga//DE
BEGIN:VEVENT
UID:event0
DTSTAMP:20260421T074053Z
DTSTART:20260523T173000Z
DTEND:20260523T193000Z
LOCATION;LANGUAGE=de;ENCODING=QUOTED-PRINTABLE:Quitzowstraße 37\, Finsing
SUMMARY:Punktspiel Die Unbestechlichen vs Trommelwirbel
DESCRIPTION;LANGUAGE=de;ENCODING=QUOTED-PRINTABLE:\nQuitzowstraße 37\n80865 Finsing\nwenig Parkplätze zur Verfügung!\n\n\nÜbersicht https://test.dieliga.online/schedule/overview/646
END:VEVENT
BEGIN:VEVENT
UID:event1
DTSTAMP:20260421T074053Z
DTSTART:20260325T180000Z
DTEND:20260325T210000Z
LOCATION;LANGUAGE=de;ENCODING=QUOTED-PRINTABLE:Schleiermacherstraße\, Eberfing
SUMMARY:Punktspiel Trommelwirbel vs Grauen Raben
DESCRIPTION;LANGUAGE=de;ENCODING=QUOTED-PRINTABLE:25:13\, 17:25\, 17:25
END:VEVENT
BEGIN:VEVENT
UID:event2
DTSTAMP:20260421T074053Z
DTSTART:20260412T180000Z
DTEND:20260412T200000Z
LOCATION;LANGUAGE=de;ENCODING=QUOTED-PRINTABLE:Katzenbauerstraße 37\, Bobingen
SUMMARY:Punktspiel Ein Hauch von Gewalt und eine Ladung von Gefühl vs Trommelwirbel
DESCRIPTION;LANGUAGE=de;ENCODING=QUOTED-PRINTABLE:25:15\, 25:14
END:VEVENT
BEGIN:VEVENT
UID:event3
DTSTAMP:20260421T074053Z
DTSTART:20260416T170000Z
DTEND:20260416T200000Z
LOCATION;LANGUAGE=de;ENCODING=QUOTED-PRINTABLE:Schleiermacherstraße\, Eberfing
SUMMARY:Punktspiel Trommelwirbel vs Saubär
DESCRIPTION;LANGUAGE=de;ENCODING=QUOTED-PRINTABLE:25:14\, 25:16
END:VEVENT
BEGIN:VEVENT
UID:event4
DTSTAMP:20260421T074053Z
DTSTART:20260513T170000Z
DTEND:20260513T200000Z
LOCATION;LANGUAGE=de;ENCODING=QUOTED-PRINTABLE:Schleiermacherstraße\, Eberfing
SUMMARY:Punktspiel Trommelwirbel vs De Banane Biegers
DESCRIPTION;LANGUAGE=de;ENCODING=QUOTED-PRINTABLE:Gemeindehalle (bei der Schule) (Training und Spielbetrieb)\nSchleiermacherstraße\nEberfing\nzweites Tor rechts neben der Packstation\, Backsteingebäude\n\n\nÜbersicht https://test.dieliga.online/schedule/overview/646
END:VEVENT
BEGIN:VEVENT
UID:event5
DTSTAMP:20260421T074053Z
DTSTART:20260604T170000Z
DTEND:20260604T200000Z
LOCATION;LANGUAGE=de;ENCODING=QUOTED-PRINTABLE:Schleiermacherstraße\, Eberfing
SUMMARY:Punktspiel Trommelwirbel vs Punkteräuber
DESCRIPTION;LANGUAGE=de;ENCODING=QUOTED-PRINTABLE:Gemeindehalle (bei der Schule) (Training und Spielbetrieb)\nSchleiermacherstraße\nEberfing\nzweites Tor rechts neben der Packstation\, Backsteingebäude\n\n\nÜbersicht https://test.dieliga.online/schedule/overview/646
END:VEVENT
BEGIN:VEVENT
UID:event6
DTSTAMP:20260421T074053Z
DTSTART:20260611T170000Z
DTEND:20260611T200000Z
LOCATION;LANGUAGE=de;ENCODING=QUOTED-PRINTABLE:Schleiermacherstraße\, Eberfing
SUMMARY:Punktspiel Trommelwirbel vs Die Unbestechlichen
DESCRIPTION;LANGUAGE=de;ENCODING=QUOTED-PRINTABLE:Gemeindehalle (bei der Schule) (Training und Spielbetrieb)\nSchleiermacherstraße\nEberfing\nzweites Tor rechts neben der Packstation\, Backsteingebäude\n\n\nÜbersicht https://test.dieliga.online/schedule/overview/646
END:VEVENT
BEGIN:VEVENT
UID:event7
DTSTAMP:20260421T074053Z
DTSTART:20260718T173000Z
DTEND:20260718T193000Z
LOCATION;LANGUAGE=de;ENCODING=QUOTED-PRINTABLE:Kösters Feld 52\, Lutzingen
SUMMARY:Punktspiel Grauen Raben vs Trommelwirbel
DESCRIPTION;LANGUAGE=de;ENCODING=QUOTED-PRINTABLE:Halle 1\, links (Parkplätze an der Schule vorhanden)\nKösters Feld 52\n10913 Lutzingen\n\n\nÜbersicht https://test.dieliga.online/schedule/overview/646
END:VEVENT
BEGIN:VEVENT
UID:event8
DTSTAMP:20260421T074053Z
DTSTART:20260722T170000Z
DTEND:20260722T200000Z
LOCATION;LANGUAGE=de;ENCODING=QUOTED-PRINTABLE:Schleiermacherstraße\, Eberfing
SUMMARY:Punktspiel Trommelwirbel vs Ein Hauch von Gewalt und eine Ladung von Gefühl
DESCRIPTION;LANGUAGE=de;ENCODING=QUOTED-PRINTABLE:Gemeindehalle (bei der Schule) (Training und Spielbetrieb)\nSchleiermacherstraße\nEberfing\nzweites Tor rechts neben der Packstation\, Backsteingebäude\n\n\nÜbersicht https://test.dieliga.online/schedule/overview/646
END:VEVENT
BEGIN:VEVENT
UID:event9
DTSTAMP:20260421T074053Z
DTSTART:20260729T174500Z
LOCATION;LANGUAGE=de;ENCODING=QUOTED-PRINTABLE:
SUMMARY:Punktspiel Saubär vs Trommelwirbel
DESCRIPTION;LANGUAGE=de;ENCODING=QUOTED-PRINTABLE:\n\nÜbersicht https://test.dieliga.online/schedule/overview/646
END:VEVENT
BEGIN:VEVENT
UID:event10
DTSTAMP:20260421T074053Z
DTSTART:20260805T170000Z
DTEND:20260805T200000Z
LOCATION;LANGUAGE=de;ENCODING=QUOTED-PRINTABLE:Schleiermacherstraße\, Eberfing
SUMMARY:Punktspiel Trommelwirbel vs Blind Desaster
DESCRIPTION;LANGUAGE=de;ENCODING=QUOTED-PRINTABLE:Gemeindehalle (bei der Schule) (Training und Spielbetrieb)\nSchleiermacherstraße\nEberfing\nzweites Tor rechts neben der Packstation\, Backsteingebäude\n\n\nÜbersicht https://test.dieliga.online/schedule/overview/646
END:VEVENT
BEGIN:VEVENT
UID:event11
DTSTAMP:20260421T074053Z
DTSTART:20260828T180000Z
DTEND:20260828T200000Z
LOCATION;LANGUAGE=de;ENCODING=QUOTED-PRINTABLE:Unterschöbling 31\, Irlbach
SUMMARY:Punktspiel De Banane Biegers vs Trommelwirbel
DESCRIPTION;LANGUAGE=de;ENCODING=QUOTED-PRINTABLE:3fach-Halle\nUnterschöbling 31\nIrlbach\n\n\nÜbersicht https://test.dieliga.online/schedule/overview/646
END:VEVENT
BEGIN:VEVENT
UID:event12
DTSTAMP:20260421T074053Z
DTSTART:20260905T180000Z
DTEND:20260905T200000Z
LOCATION;LANGUAGE=de;ENCODING=QUOTED-PRINTABLE:Aroser Allee 22\, Kraftisried
SUMMARY:Punktspiel Punkteräuber vs Trommelwirbel
DESCRIPTION;LANGUAGE=de;ENCODING=QUOTED-PRINTABLE:Halle an der Alfonsschule\nAroser Allee 22\n87764 Kraftisried\n\n\nÜbersicht https://test.dieliga.online/schedule/overview/646
END:VEVENT
END:VCALENDAR