BEGIN:VCALENDAR
VERSION:2.0
PRODID:-//dieLiga//DE
BEGIN:VEVENT
UID:event0
DTSTAMP:20260421T082827Z
DTSTART:20260521T180000Z
DTEND:20260521T200000Z
LOCATION;LANGUAGE=de;ENCODING=QUOTED-PRINTABLE:Kesselbrink 19\, Geratskirchen
SUMMARY:Punktspiel Jung\, dynamisch und erfolglos vs Netzathleten Stonebridge
DESCRIPTION;LANGUAGE=de;ENCODING=QUOTED-PRINTABLE:\nKesselbrink 19\nGeratskirchen\nParkplätze vorhanden\n\n\nÜbersicht https://test.dieliga.online/schedule/overview/650
END:VEVENT
BEGIN:VEVENT
UID:event1
DTSTAMP:20260421T082827Z
DTSTART:20260417T180000Z
DTEND:20260417T200000Z
LOCATION;LANGUAGE=de;ENCODING=QUOTED-PRINTABLE:Kesselbrink 19\, Geratskirchen
SUMMARY:Punktspiel Jung\, dynamisch und erfolglos vs Die Tasmanischen Teufel
DESCRIPTION;LANGUAGE=de;ENCODING=QUOTED-PRINTABLE:\nKesselbrink 19\nGeratskirchen\nParkplätze vorhanden\n\n\nÜbersicht https://test.dieliga.online/schedule/overview/650
END:VEVENT
BEGIN:VEVENT
UID:event2
DTSTAMP:20260421T082827Z
DTSTART:20260425T180000Z
DTEND:20260425T200000Z
LOCATION;LANGUAGE=de;ENCODING=QUOTED-PRINTABLE:Von-Alten-Allee 5\, Bogen
SUMMARY:Punktspiel Zebradamen vs Jung\, dynamisch und erfolglos
DESCRIPTION;LANGUAGE=de;ENCODING=QUOTED-PRINTABLE:Gemeindehalle (bei der Schule)\nVon-Alten-Allee 5\n62011 Bogen\nBitte eigene Bälle mitbringen! \n\n\nÜbersicht https://test.dieliga.online/schedule/overview/650
END:VEVENT
BEGIN:VEVENT
UID:event3
DTSTAMP:20260421T082827Z
DTSTART:20260514T180000Z
DTEND:20260514T200000Z
LOCATION;LANGUAGE=de;ENCODING=QUOTED-PRINTABLE:Kesselbrink 19\, Geratskirchen
SUMMARY:Punktspiel Jung\, dynamisch und erfolglos vs Netzquäler
DESCRIPTION;LANGUAGE=de;ENCODING=QUOTED-PRINTABLE:\nKesselbrink 19\nGeratskirchen\nParkplätze vorhanden\n\n\nÜbersicht https://test.dieliga.online/schedule/overview/650
END:VEVENT
BEGIN:VEVENT
UID:event4
DTSTAMP:20260421T082827Z
DTSTART:20260604T183000Z
DTEND:20260604T203000Z
LOCATION;LANGUAGE=de;ENCODING=QUOTED-PRINTABLE:Wahmstraße 43\, Bergrheinfeld
SUMMARY:Punktspiel Kein Kindergeburtstag vs Jung\, dynamisch und erfolglos
DESCRIPTION;LANGUAGE=de;ENCODING=QUOTED-PRINTABLE:Halle 2 (genug Parkplätze vorhanden)\nWahmstraße 43\n55732 Bergrheinfeld\n\n\nÜbersicht https://test.dieliga.online/schedule/overview/650
END:VEVENT
BEGIN:VEVENT
UID:event5
DTSTAMP:20260421T082827Z
DTSTART:20260611T173000Z
DTEND:20260611T190000Z
LOCATION;LANGUAGE=de;ENCODING=QUOTED-PRINTABLE:An der Kolonnade\, Apfeltrach
SUMMARY:Punktspiel Netzathleten Stonebridge vs Jung\, dynamisch und erfolglos
DESCRIPTION;LANGUAGE=de;ENCODING=QUOTED-PRINTABLE:Halle II\nAn der Kolonnade\n96568 Apfeltrach\n\n\nÜbersicht https://test.dieliga.online/schedule/overview/650
END:VEVENT
BEGIN:VEVENT
UID:event6
DTSTAMP:20260421T082827Z
DTSTART:20260716T180000Z
DTEND:20260716T200000Z
LOCATION;LANGUAGE=de;ENCODING=QUOTED-PRINTABLE:Kesselbrink 19\, Geratskirchen
SUMMARY:Punktspiel Jung\, dynamisch und erfolglos vs Hai Happen
DESCRIPTION;LANGUAGE=de;ENCODING=QUOTED-PRINTABLE:\nKesselbrink 19\nGeratskirchen\nParkplätze vorhanden\n\n\nÜbersicht https://test.dieliga.online/schedule/overview/650
END:VEVENT
BEGIN:VEVENT
UID:event7
DTSTAMP:20260421T082827Z
DTSTART:20260723T180000Z
DTEND:20260723T200000Z
LOCATION;LANGUAGE=de;ENCODING=QUOTED-PRINTABLE:Kesselbrink 19\, Geratskirchen
SUMMARY:Punktspiel Jung\, dynamisch und erfolglos vs Akademiker und Singels mit Niveau!
DESCRIPTION;LANGUAGE=de;ENCODING=QUOTED-PRINTABLE:\nKesselbrink 19\nGeratskirchen\nParkplätze vorhanden\n\n\nÜbersicht https://test.dieliga.online/schedule/overview/650
END:VEVENT
BEGIN:VEVENT
UID:event8
DTSTAMP:20260421T082827Z
DTSTART:20260801T171500Z
DTEND:20260801T191500Z
LOCATION;LANGUAGE=de;ENCODING=QUOTED-PRINTABLE:Linder Mauspfad 29\, Holzkirchen
SUMMARY:Punktspiel Die Tasmanischen Teufel vs Jung\, dynamisch und erfolglos
DESCRIPTION;LANGUAGE=de;ENCODING=QUOTED-PRINTABLE:Vereinshalle (Parken gut möglich.)\nLinder Mauspfad 29\n62602 Holzkirchen\n\n\nÜbersicht https://test.dieliga.online/schedule/overview/650
END:VEVENT
BEGIN:VEVENT
UID:event9
DTSTAMP:20260421T082827Z
DTSTART:20260806T180000Z
DTEND:20260806T200000Z
LOCATION;LANGUAGE=de;ENCODING=QUOTED-PRINTABLE:Kesselbrink 19\, Geratskirchen
SUMMARY:Punktspiel Jung\, dynamisch und erfolglos vs Zebradamen
DESCRIPTION;LANGUAGE=de;ENCODING=QUOTED-PRINTABLE:\nKesselbrink 19\nGeratskirchen\nParkplätze vorhanden\n\n\nÜbersicht https://test.dieliga.online/schedule/overview/650
END:VEVENT
BEGIN:VEVENT
UID:event10
DTSTAMP:20260421T082827Z
DTSTART:20260828T170000Z
DTEND:20260828T200000Z
LOCATION;LANGUAGE=de;ENCODING=QUOTED-PRINTABLE:Am Neudeck 19\, Arnstein
SUMMARY:Punktspiel Netzquäler vs Jung\, dynamisch und erfolglos
DESCRIPTION;LANGUAGE=de;ENCODING=QUOTED-PRINTABLE:Gymnasium\nAm Neudeck 19\n25398 Arnstein\n\n\nÜbersicht https://test.dieliga.online/schedule/overview/650
END:VEVENT
BEGIN:VEVENT
UID:event11
DTSTAMP:20260421T082827Z
DTSTART:20260906T180000Z
DTEND:20260906T200000Z
LOCATION;LANGUAGE=de;ENCODING=QUOTED-PRINTABLE:Kesselbrink 19\, Geratskirchen
SUMMARY:Punktspiel Jung\, dynamisch und erfolglos vs Kein Kindergeburtstag
DESCRIPTION;LANGUAGE=de;ENCODING=QUOTED-PRINTABLE:\nKesselbrink 19\nGeratskirchen\nParkplätze vorhanden\n\n\nÜbersicht https://test.dieliga.online/schedule/overview/650
END:VEVENT
END:VCALENDAR