BEGIN:VCALENDAR
VERSION:2.0
PRODID:-//dieLiga//DE
BEGIN:VEVENT
UID:event0
DTSTAMP:20260421T070641Z
DTSTART:20260913T183000Z
DTEND:20260913T200000Z
LOCATION;LANGUAGE=de;ENCODING=QUOTED-PRINTABLE:Schmitzstraße 15\, Westendorf
SUMMARY:Punktspiel Krampfadergeschwader vs NimDuIchHabIhnSicha
DESCRIPTION;LANGUAGE=de;ENCODING=QUOTED-PRINTABLE:Mehrzweckhalle\nSchmitzstraße 15\n92936 Westendorf\n\n\nÜbersicht https://test.dieliga.online/schedule/overview/647
END:VEVENT
BEGIN:VEVENT
UID:event1
DTSTAMP:20260421T070641Z
DTSTART:20260417T173000Z
DTEND:20260417T193000Z
LOCATION;LANGUAGE=de;ENCODING=QUOTED-PRINTABLE:Heiliggrabstraße\, Habach
SUMMARY:Punktspiel Sonnige Grüße\, sandige Füße vs Krampfadergeschwader
DESCRIPTION;LANGUAGE=de;ENCODING=QUOTED-PRINTABLE:25:14\, 13:25\, 25:18
END:VEVENT
BEGIN:VEVENT
UID:event2
DTSTAMP:20260421T070641Z
DTSTART:20260423T180000Z
DTEND:20260423T200000Z
LOCATION;LANGUAGE=de;ENCODING=QUOTED-PRINTABLE:Erbenova 45\, Kranzberg
SUMMARY:Punktspiel Angry Nerds vs Krampfadergeschwader
DESCRIPTION;LANGUAGE=de;ENCODING=QUOTED-PRINTABLE:25:23\, 25:22
END:VEVENT
BEGIN:VEVENT
UID:event3
DTSTAMP:20260421T070641Z
DTSTART:20260514T183000Z
DTEND:20260514T200000Z
LOCATION;LANGUAGE=de;ENCODING=QUOTED-PRINTABLE:Schmitzstraße 15\, Westendorf
SUMMARY:Punktspiel Krampfadergeschwader vs Killerbienen
DESCRIPTION;LANGUAGE=de;ENCODING=QUOTED-PRINTABLE:Mehrzweckhalle\nSchmitzstraße 15\n92936 Westendorf\n\n\nÜbersicht https://test.dieliga.online/schedule/overview/647
END:VEVENT
BEGIN:VEVENT
UID:event4
DTSTAMP:20260421T070641Z
DTSTART:20260606T180000Z
DTEND:20260606T194500Z
LOCATION;LANGUAGE=de;ENCODING=QUOTED-PRINTABLE:Heidbüchel 22\, Eching
SUMMARY:Punktspiel Die Überspitzen vs Krampfadergeschwader
DESCRIPTION;LANGUAGE=de;ENCODING=QUOTED-PRINTABLE:Gemeindehalle (bei der Schule) (keine Straßenschuhe in der Halle\; in den Schulferien KEIN Hallentraining)\nHeidbüchel 22\n58210 Eching\nEingang befindet sich gegenüber Korseltstraße: durch das kleine Tor\, dann einmal quer über den Pausenhof\, die Turnhalle ist 2. OG\n\n\nÜbersicht https://test.dieliga.online/schedule/overview/647
END:VEVENT
BEGIN:VEVENT
UID:event5
DTSTAMP:20260421T070641Z
DTSTART:20260613T174500Z
DTEND:20260613T194500Z
LOCATION;LANGUAGE=de;ENCODING=QUOTED-PRINTABLE:Vorhölterstraße 38\, Kammlach
SUMMARY:Punktspiel SMarties vs Krampfadergeschwader
DESCRIPTION;LANGUAGE=de;ENCODING=QUOTED-PRINTABLE:Halle 1\nVorhölterstraße 38\n31452 Kammlach\nEingang Lankerner Schulweg\n\n\nÜbersicht https://test.dieliga.online/schedule/overview/647
END:VEVENT
BEGIN:VEVENT
UID:event6
DTSTAMP:20260421T070641Z
DTSTART:20260716T183000Z
DTEND:20260716T200000Z
LOCATION;LANGUAGE=de;ENCODING=QUOTED-PRINTABLE:Schmitzstraße 15\, Westendorf
SUMMARY:Punktspiel Krampfadergeschwader vs Trockeneis
DESCRIPTION;LANGUAGE=de;ENCODING=QUOTED-PRINTABLE:Mehrzweckhalle\nSchmitzstraße 15\n92936 Westendorf\n\n\nÜbersicht https://test.dieliga.online/schedule/overview/647
END:VEVENT
BEGIN:VEVENT
UID:event7
DTSTAMP:20260421T070641Z
DTSTART:20260722T173000Z
DTEND:20260722T193000Z
LOCATION;LANGUAGE=de;ENCODING=QUOTED-PRINTABLE:Hohlleite 49\, Eitensheim
SUMMARY:Punktspiel NimDuIchHabIhnSicha vs Krampfadergeschwader
DESCRIPTION;LANGUAGE=de;ENCODING=QUOTED-PRINTABLE:Halle II (keine Trinkflaschen/Straßenschuhe in der Halle\;    in den Schulferien KEIN Hallentraining  )\nHohlleite 49\n38047 Eitensheim\nPKW-Parkplätze vor dem Gebäude\n\n\nÜbersicht https://test.dieliga.online/schedule/overview/647
END:VEVENT
BEGIN:VEVENT
UID:event8
DTSTAMP:20260421T070641Z
DTSTART:20260730T183000Z
DTEND:20260730T200000Z
LOCATION;LANGUAGE=de;ENCODING=QUOTED-PRINTABLE:Schmitzstraße 15\, Westendorf
SUMMARY:Punktspiel Krampfadergeschwader vs Sonnige Grüße\, sandige Füße
DESCRIPTION;LANGUAGE=de;ENCODING=QUOTED-PRINTABLE:Mehrzweckhalle\nSchmitzstraße 15\n92936 Westendorf\n\n\nÜbersicht https://test.dieliga.online/schedule/overview/647
END:VEVENT
BEGIN:VEVENT
UID:event9
DTSTAMP:20260421T070641Z
DTSTART:20260806T183000Z
DTEND:20260806T200000Z
LOCATION;LANGUAGE=de;ENCODING=QUOTED-PRINTABLE:Schmitzstraße 15\, Westendorf
SUMMARY:Punktspiel Krampfadergeschwader vs Angry Nerds
DESCRIPTION;LANGUAGE=de;ENCODING=QUOTED-PRINTABLE:Mehrzweckhalle\nSchmitzstraße 15\n92936 Westendorf\n\n\nÜbersicht https://test.dieliga.online/schedule/overview/647
END:VEVENT
BEGIN:VEVENT
UID:event10
DTSTAMP:20260421T070641Z
DTSTART:20260826T173000Z
DTEND:20260826T194500Z
LOCATION;LANGUAGE=de;ENCODING=QUOTED-PRINTABLE:Kirchenring 45\, Brand
SUMMARY:Punktspiel Killerbienen vs Krampfadergeschwader
DESCRIPTION;LANGUAGE=de;ENCODING=QUOTED-PRINTABLE:Sporthalle am Hallenbad (In der Ferienzeit kein Trainingsbetrieb möglich)\nKirchenring 45\n47119 Brand\ngegenüber der Feuerwehr\n\n\nÜbersicht https://test.dieliga.online/schedule/overview/647
END:VEVENT
BEGIN:VEVENT
UID:event11
DTSTAMP:20260421T070641Z
DTSTART:20260906T183000Z
DTEND:20260906T200000Z
LOCATION;LANGUAGE=de;ENCODING=QUOTED-PRINTABLE:Schmitzstraße 15\, Westendorf
SUMMARY:Punktspiel Krampfadergeschwader vs Die Überspitzen
DESCRIPTION;LANGUAGE=de;ENCODING=QUOTED-PRINTABLE:Mehrzweckhalle\nSchmitzstraße 15\n92936 Westendorf\n\n\nÜbersicht https://test.dieliga.online/schedule/overview/647
END:VEVENT
END:VCALENDAR