BEGIN:VCALENDAR
VERSION:2.0
PRODID:-//dieLiga//DE
BEGIN:VEVENT
UID:event0
DTSTAMP:20260421T070714Z
DTSTART:20260321T190000Z
DTEND:20260321T213000Z
LOCATION;LANGUAGE=de;ENCODING=QUOTED-PRINTABLE:Am Eichbächle\, Chieming
SUMMARY:Punktspiel Blockwürstchen vs Die kleinen Hirsche
DESCRIPTION;LANGUAGE=de;ENCODING=QUOTED-PRINTABLE:25:19\, 25:20
END:VEVENT
BEGIN:VEVENT
UID:event1
DTSTAMP:20260421T070714Z
DTSTART:20260325T191500Z
DTEND:20260325T213000Z
LOCATION;LANGUAGE=de;ENCODING=QUOTED-PRINTABLE:Altheimer Straße 34\, Aßling
SUMMARY:Punktspiel Stauseetigers vs Blockwürstchen
DESCRIPTION;LANGUAGE=de;ENCODING=QUOTED-PRINTABLE:21:25\, 12:25
END:VEVENT
BEGIN:VEVENT
UID:event2
DTSTAMP:20260421T070714Z
DTSTART:20260417T173000Z
DTEND:20260417T192000Z
LOCATION;LANGUAGE=de;ENCODING=QUOTED-PRINTABLE:Frickensteinplatz 44\, Reischach
SUMMARY:Punktspiel Gardoffelsalaad vs Blockwürstchen
DESCRIPTION;LANGUAGE=de;ENCODING=QUOTED-PRINTABLE:20:25\, 25:18\, 24:26
END:VEVENT
BEGIN:VEVENT
UID:event3
DTSTAMP:20260421T070714Z
DTSTART:20260426T180000Z
DTEND:20260426T203000Z
LOCATION;LANGUAGE=de;ENCODING=QUOTED-PRINTABLE:Am Eichbächle\, Chieming
SUMMARY:Punktspiel Blockwürstchen vs Schubidu
DESCRIPTION;LANGUAGE=de;ENCODING=QUOTED-PRINTABLE:14:25\, 22:25
END:VEVENT
BEGIN:VEVENT
UID:event4
DTSTAMP:20260421T070714Z
DTSTART:20260514T180000Z
DTEND:20260514T200000Z
LOCATION;LANGUAGE=de;ENCODING=QUOTED-PRINTABLE:Langenhakenweg 16\, Tuntenhausen
SUMMARY:Punktspiel Volleybären vs Blockwürstchen
DESCRIPTION;LANGUAGE=de;ENCODING=QUOTED-PRINTABLE:3fach-Halle\nLangenhakenweg 16\n26798 Tuntenhausen\n\n\nÜbersicht https://test.dieliga.online/schedule/overview/649
END:VEVENT
BEGIN:VEVENT
UID:event5
DTSTAMP:20260421T070714Z
DTSTART:20260605T170000Z
DTEND:20260605T190000Z
LOCATION;LANGUAGE=de;ENCODING=QUOTED-PRINTABLE:Zum Schulkamp 29\, Piding
SUMMARY:Punktspiel Waikiki Beachbombers vs Blockwürstchen
DESCRIPTION;LANGUAGE=de;ENCODING=QUOTED-PRINTABLE:Halle I (Eingang Sporthallen)\nZum Schulkamp 29\n82021 Piding\n\n\nÜbersicht https://test.dieliga.online/schedule/overview/649
END:VEVENT
BEGIN:VEVENT
UID:event6
DTSTAMP:20260421T070714Z
DTSTART:20260523T180000Z
DTEND:20260523T203000Z
LOCATION;LANGUAGE=de;ENCODING=QUOTED-PRINTABLE:Am Eichbächle\, Chieming
SUMMARY:Punktspiel Blockwürstchen vs Sunblocker
DESCRIPTION;LANGUAGE=de;ENCODING=QUOTED-PRINTABLE:Traglufthalle Sportzentrum\nAm Eichbächle\n55004 Chieming\n\n\nÜbersicht https://test.dieliga.online/schedule/overview/649
END:VEVENT
BEGIN:VEVENT
UID:event7
DTSTAMP:20260421T070714Z
DTSTART:20260717T183000Z
DTEND:20260717T200000Z
LOCATION;LANGUAGE=de;ENCODING=QUOTED-PRINTABLE:Apfelgarten 42\, Nesselwang
SUMMARY:Punktspiel Netz Boxxer vs Blockwürstchen
DESCRIPTION;LANGUAGE=de;ENCODING=QUOTED-PRINTABLE:3fach-Halle\nApfelgarten 42\n62079 Nesselwang\nParkplatz vor der Halle\n\n\nÜbersicht https://test.dieliga.online/schedule/overview/649
END:VEVENT
BEGIN:VEVENT
UID:event8
DTSTAMP:20260421T070714Z
DTSTART:20260725T170000Z
DTEND:20260725T193000Z
LOCATION;LANGUAGE=de;ENCODING=QUOTED-PRINTABLE:Urselbachstraße 9\, Altenthann
SUMMARY:Punktspiel Die kleinen Hirsche vs Blockwürstchen
DESCRIPTION;LANGUAGE=de;ENCODING=QUOTED-PRINTABLE:mittlere Halle\nUrselbachstraße 9\nAltenthann\n\n\nÜbersicht https://test.dieliga.online/schedule/overview/649
END:VEVENT
BEGIN:VEVENT
UID:event9
DTSTAMP:20260421T070714Z
DTSTART:20260801T180000Z
DTEND:20260801T203000Z
LOCATION;LANGUAGE=de;ENCODING=QUOTED-PRINTABLE:Am Eichbächle\, Chieming
SUMMARY:Punktspiel Blockwürstchen vs Stauseetigers
DESCRIPTION;LANGUAGE=de;ENCODING=QUOTED-PRINTABLE:Traglufthalle Sportzentrum\nAm Eichbächle\n55004 Chieming\n\n\nÜbersicht https://test.dieliga.online/schedule/overview/649
END:VEVENT
BEGIN:VEVENT
UID:event10
DTSTAMP:20260421T070714Z
DTSTART:20260901T180000Z
DTEND:20260901T203000Z
LOCATION;LANGUAGE=de;ENCODING=QUOTED-PRINTABLE:Am Eichbächle\, Chieming
SUMMARY:Punktspiel Blockwürstchen vs Gardoffelsalaad
DESCRIPTION;LANGUAGE=de;ENCODING=QUOTED-PRINTABLE:Traglufthalle Sportzentrum\nAm Eichbächle\n55004 Chieming\n\n\nÜbersicht https://test.dieliga.online/schedule/overview/649
END:VEVENT
BEGIN:VEVENT
UID:event11
DTSTAMP:20260421T070714Z
DTSTART:20260906T183000Z
DTEND:20260906T200000Z
LOCATION;LANGUAGE=de;ENCODING=QUOTED-PRINTABLE:Am Riddershof 17\, Kunreuth
SUMMARY:Punktspiel Schubidu vs Blockwürstchen
DESCRIPTION;LANGUAGE=de;ENCODING=QUOTED-PRINTABLE:\nAm Riddershof 17\n97289 Kunreuth\n\n\nÜbersicht https://test.dieliga.online/schedule/overview/649
END:VEVENT
BEGIN:VEVENT
UID:event12
DTSTAMP:20260421T070714Z
DTSTART:20260915T180000Z
DTEND:20260915T203000Z
LOCATION;LANGUAGE=de;ENCODING=QUOTED-PRINTABLE:Am Eichbächle\, Chieming
SUMMARY:Punktspiel Blockwürstchen vs Volleybären
DESCRIPTION;LANGUAGE=de;ENCODING=QUOTED-PRINTABLE:Traglufthalle Sportzentrum\nAm Eichbächle\n55004 Chieming\n\n\nÜbersicht https://test.dieliga.online/schedule/overview/649
END:VEVENT
BEGIN:VEVENT
UID:event13
DTSTAMP:20260421T070714Z
DTSTART:20260922T180000Z
DTEND:20260922T203000Z
LOCATION;LANGUAGE=de;ENCODING=QUOTED-PRINTABLE:Am Eichbächle\, Chieming
SUMMARY:Punktspiel Blockwürstchen vs Waikiki Beachbombers
DESCRIPTION;LANGUAGE=de;ENCODING=QUOTED-PRINTABLE:Traglufthalle Sportzentrum\nAm Eichbächle\n55004 Chieming\n\n\nÜbersicht https://test.dieliga.online/schedule/overview/649
END:VEVENT
BEGIN:VEVENT
UID:event14
DTSTAMP:20260421T070714Z
DTSTART:20261019T173000Z
DTEND:20261019T193000Z
LOCATION;LANGUAGE=de;ENCODING=QUOTED-PRINTABLE:Fehnkerweg 10\, Geroldshausen
SUMMARY:Punktspiel Sunblocker vs Blockwürstchen
DESCRIPTION;LANGUAGE=de;ENCODING=QUOTED-PRINTABLE:\nFehnkerweg 10\nGeroldshausen\n\n\nÜbersicht https://test.dieliga.online/schedule/overview/649
END:VEVENT
BEGIN:VEVENT
UID:event15
DTSTAMP:20260421T070714Z
DTSTART:20261026T190000Z
DTEND:20261026T213000Z
LOCATION;LANGUAGE=de;ENCODING=QUOTED-PRINTABLE:Am Eichbächle\, Chieming
SUMMARY:Punktspiel Blockwürstchen vs Netz Boxxer
DESCRIPTION;LANGUAGE=de;ENCODING=QUOTED-PRINTABLE:Traglufthalle Sportzentrum\nAm Eichbächle\n55004 Chieming\n\n\nÜbersicht https://test.dieliga.online/schedule/overview/649
END:VEVENT
END:VCALENDAR