BEGIN:VCALENDAR
VERSION:2.0
PRODID:-//dieLiga//DE
BEGIN:VEVENT
UID:event0
DTSTAMP:20260423T100555Z
DTSTART:20260410T173000Z
DTEND:20260410T193000Z
LOCATION;LANGUAGE=de;ENCODING=QUOTED-PRINTABLE:Türkenfeldstraße 54\, Rödelsee
SUMMARY:Punktspiel Sandbankrocker vs Gruppe-X
DESCRIPTION;LANGUAGE=de;ENCODING=QUOTED-PRINTABLE:25:17\, 21:25\, 25:21
END:VEVENT
BEGIN:VEVENT
UID:event1
DTSTAMP:20260423T100555Z
DTSTART:20260528T183000Z
DTEND:20260528T200000Z
LOCATION;LANGUAGE=de;ENCODING=QUOTED-PRINTABLE:Obersteig 55\, Vöhringen
SUMMARY:Punktspiel Gruppe-X vs Die Kolibris
DESCRIPTION;LANGUAGE=de;ENCODING=QUOTED-PRINTABLE:Grund- und Hauptschule\nObersteig 55\n63039 Vöhringen\n5 min von S-Bahnhof\n\n\nÜbersicht https://test.dieliga.online/schedule/overview/639
END:VEVENT
BEGIN:VEVENT
UID:event2
DTSTAMP:20260423T100555Z
DTSTART:20260806T183000Z
DTEND:20260806T200000Z
LOCATION;LANGUAGE=de;ENCODING=QUOTED-PRINTABLE:Obersteig 55\, Vöhringen
SUMMARY:Punktspiel Gruppe-X vs Nimm 2
DESCRIPTION;LANGUAGE=de;ENCODING=QUOTED-PRINTABLE:Grund- und Hauptschule\nObersteig 55\n63039 Vöhringen\n5 min von S-Bahnhof\n\n\nÜbersicht https://test.dieliga.online/schedule/overview/639
END:VEVENT
BEGIN:VEVENT
UID:event3
DTSTAMP:20260423T100555Z
DTSTART:20260513T173000Z
DTEND:20260513T200000Z
LOCATION;LANGUAGE=de;ENCODING=QUOTED-PRINTABLE:Am Semberg 27\, Giebelstadt
SUMMARY:Punktspiel Netz Boxxer vs Gruppe-X
DESCRIPTION;LANGUAGE=de;ENCODING=QUOTED-PRINTABLE: (Parkplätze sind Mangelware ...)\nAm Semberg 27\n38438 Giebelstadt\n\n\nÜbersicht https://test.dieliga.online/schedule/overview/639
END:VEVENT
BEGIN:VEVENT
UID:event4
DTSTAMP:20260423T100555Z
DTSTART:20260605T183000Z
DTEND:20260605T200000Z
LOCATION;LANGUAGE=de;ENCODING=QUOTED-PRINTABLE:Obersteig 55\, Vöhringen
SUMMARY:Punktspiel Gruppe-X vs Bauer rein\, Bauer raus!
DESCRIPTION;LANGUAGE=de;ENCODING=QUOTED-PRINTABLE:Grund- und Hauptschule\nObersteig 55\n63039 Vöhringen\n5 min von S-Bahnhof\n\n\nÜbersicht https://test.dieliga.online/schedule/overview/639
END:VEVENT
BEGIN:VEVENT
UID:event5
DTSTAMP:20260423T100555Z
DTSTART:20260614T173000Z
DTEND:20260614T200000Z
LOCATION;LANGUAGE=de;ENCODING=QUOTED-PRINTABLE:Gussenstadter Straße
SUMMARY:Punktspiel Grauen Raben vs Gruppe-X
DESCRIPTION;LANGUAGE=de;ENCODING=QUOTED-PRINTABLE:Goldachhalle\nGussenstadter Straße\nTreffpunkt an der Treppe\, späterer Einlass nicht möglich\, da in der Halle kein Handy-Empfang\, 2min von S-Bahn Hackerbrücke\n\n\nÜbersicht https://test.dieliga.online/schedule/overview/639
END:VEVENT
BEGIN:VEVENT
UID:event6
DTSTAMP:20260423T100555Z
DTSTART:20260716T183000Z
DTEND:20260716T200000Z
LOCATION;LANGUAGE=de;ENCODING=QUOTED-PRINTABLE:Obersteig 55\, Vöhringen
SUMMARY:Punktspiel Gruppe-X vs Die Überspitzen
DESCRIPTION;LANGUAGE=de;ENCODING=QUOTED-PRINTABLE:Grund- und Hauptschule\nObersteig 55\n63039 Vöhringen\n5 min von S-Bahnhof\n\n\nÜbersicht https://test.dieliga.online/schedule/overview/639
END:VEVENT
BEGIN:VEVENT
UID:event7
DTSTAMP:20260423T100555Z
DTSTART:20260723T183000Z
DTEND:20260723T200000Z
LOCATION;LANGUAGE=de;ENCODING=QUOTED-PRINTABLE:Obersteig 55\, Vöhringen
SUMMARY:Punktspiel Gruppe-X vs Sandbankrocker
DESCRIPTION;LANGUAGE=de;ENCODING=QUOTED-PRINTABLE:Grund- und Hauptschule\nObersteig 55\n63039 Vöhringen\n5 min von S-Bahnhof\n\n\nÜbersicht https://test.dieliga.online/schedule/overview/639
END:VEVENT
BEGIN:VEVENT
UID:event8
DTSTAMP:20260423T100555Z
DTSTART:20260728T180000Z
DTEND:20260728T200000Z
LOCATION;LANGUAGE=de;ENCODING=QUOTED-PRINTABLE:Am Springbruch 15\, Teuschnitz
SUMMARY:Punktspiel Die Kolibris vs Gruppe-X
DESCRIPTION;LANGUAGE=de;ENCODING=QUOTED-PRINTABLE:\nAm Springbruch 15\n54708 Teuschnitz\n\n\nÜbersicht https://test.dieliga.online/schedule/overview/639
END:VEVENT
BEGIN:VEVENT
UID:event9
DTSTAMP:20260423T100555Z
DTSTART:20260519T180000Z
DTEND:20260519T200000Z
LOCATION;LANGUAGE=de;ENCODING=QUOTED-PRINTABLE:Rottenweg 20\, Kirchlauter
SUMMARY:Punktspiel Nimm 2 vs Gruppe-X
DESCRIPTION;LANGUAGE=de;ENCODING=QUOTED-PRINTABLE:rechte Halle\nRottenweg 20\n14259 Kirchlauter\n\n\nÜbersicht https://test.dieliga.online/schedule/overview/639
END:VEVENT
BEGIN:VEVENT
UID:event10
DTSTAMP:20260423T100555Z
DTSTART:20260827T183000Z
DTEND:20260827T200000Z
LOCATION;LANGUAGE=de;ENCODING=QUOTED-PRINTABLE:Obersteig 55\, Vöhringen
SUMMARY:Punktspiel Gruppe-X vs Netz Boxxer
DESCRIPTION;LANGUAGE=de;ENCODING=QUOTED-PRINTABLE:Grund- und Hauptschule\nObersteig 55\n63039 Vöhringen\n5 min von S-Bahnhof\n\n\nÜbersicht https://test.dieliga.online/schedule/overview/639
END:VEVENT
BEGIN:VEVENT
UID:event11
DTSTAMP:20260423T100555Z
DTSTART:20260906T180000Z
DTEND:20260906T200000Z
LOCATION;LANGUAGE=de;ENCODING=QUOTED-PRINTABLE:Neuhauser Hauptstraße 59\, Baar
SUMMARY:Punktspiel Bauer rein\, Bauer raus! vs Gruppe-X
DESCRIPTION;LANGUAGE=de;ENCODING=QUOTED-PRINTABLE:Grundschule\nNeuhauser Hauptstraße 59\n18580 Baar\n\n\nÜbersicht https://test.dieliga.online/schedule/overview/639
END:VEVENT
BEGIN:VEVENT
UID:event12
DTSTAMP:20260423T100555Z
DTSTART:20260913T183000Z
DTEND:20260913T200000Z
LOCATION;LANGUAGE=de;ENCODING=QUOTED-PRINTABLE:Obersteig 55\, Vöhringen
SUMMARY:Punktspiel Gruppe-X vs Grauen Raben
DESCRIPTION;LANGUAGE=de;ENCODING=QUOTED-PRINTABLE:Grund- und Hauptschule\nObersteig 55\n63039 Vöhringen\n5 min von S-Bahnhof\n\n\nÜbersicht https://test.dieliga.online/schedule/overview/639
END:VEVENT
BEGIN:VEVENT
UID:event13
DTSTAMP:20260423T100555Z
DTSTART:20260922T180000Z
DTEND:20260922T210000Z
LOCATION;LANGUAGE=de;ENCODING=QUOTED-PRINTABLE:Bachhof 48\, Uehlfeld
SUMMARY:Punktspiel Die Überspitzen vs Gruppe-X
DESCRIPTION;LANGUAGE=de;ENCODING=QUOTED-PRINTABLE:Jahnsporthalle\nBachhof 48\nUehlfeld\n\n\nÜbersicht https://test.dieliga.online/schedule/overview/639
END:VEVENT
END:VCALENDAR