BEGIN:VCALENDAR
VERSION:2.0
PRODID:-//dieLiga//DE
BEGIN:VEVENT
UID:event0
DTSTAMP:20260423T101013Z
DTSTART:20260506T174500Z
LOCATION;LANGUAGE=de;ENCODING=QUOTED-PRINTABLE:
SUMMARY:Punktspiel Nacktschneckenerschrecker vs Ex KGB
DESCRIPTION;LANGUAGE=de;ENCODING=QUOTED-PRINTABLE:\n\nÜbersicht https://test.dieliga.online/schedule/overview/646
END:VEVENT
BEGIN:VEVENT
UID:event1
DTSTAMP:20260423T101013Z
DTSTART:20260416T170000Z
DTEND:20260416T200000Z
LOCATION;LANGUAGE=de;ENCODING=QUOTED-PRINTABLE:Wagenerstraße\, Bergrheinfeld
SUMMARY:Punktspiel Netzathleten Stonebridge vs Nacktschneckenerschrecker
DESCRIPTION;LANGUAGE=de;ENCODING=QUOTED-PRINTABLE:25:14\, 25:16
END:VEVENT
BEGIN:VEVENT
UID:event2
DTSTAMP:20260423T101013Z
DTSTART:20260527T174500Z
LOCATION;LANGUAGE=de;ENCODING=QUOTED-PRINTABLE:
SUMMARY:Punktspiel Nacktschneckenerschrecker vs Jumping Kangaroos
DESCRIPTION;LANGUAGE=de;ENCODING=QUOTED-PRINTABLE:\n\nÜbersicht https://test.dieliga.online/schedule/overview/646
END:VEVENT
BEGIN:VEVENT
UID:event3
DTSTAMP:20260423T101013Z
DTSTART:20260516T173000Z
DTEND:20260516T193000Z
LOCATION;LANGUAGE=de;ENCODING=QUOTED-PRINTABLE:Am Winkelsweg 35\, Reit im Winkl
SUMMARY:Punktspiel Los Ballitos vs Nacktschneckenerschrecker
DESCRIPTION;LANGUAGE=de;ENCODING=QUOTED-PRINTABLE:3fach-Halle (Parkplätze an der Schule vorhanden)\nAm Winkelsweg 35\n59117 Reit im Winkl\n\n\nÜbersicht https://test.dieliga.online/schedule/overview/646
END:VEVENT
BEGIN:VEVENT
UID:event4
DTSTAMP:20260423T101013Z
DTSTART:20260604T174500Z
LOCATION;LANGUAGE=de;ENCODING=QUOTED-PRINTABLE:
SUMMARY:Punktspiel Nacktschneckenerschrecker vs Lückensucher
DESCRIPTION;LANGUAGE=de;ENCODING=QUOTED-PRINTABLE:\n\nÜbersicht https://test.dieliga.online/schedule/overview/646
END:VEVENT
BEGIN:VEVENT
UID:event5
DTSTAMP:20260423T101013Z
DTSTART:20260611T180000Z
DTEND:20260611T200000Z
LOCATION;LANGUAGE=de;ENCODING=QUOTED-PRINTABLE:Mittelstedter Straße 3\, Egglkofen
SUMMARY:Punktspiel Ex KGB vs Nacktschneckenerschrecker
DESCRIPTION;LANGUAGE=de;ENCODING=QUOTED-PRINTABLE:Gemeindehalle (bei der Schule)\nMittelstedter Straße 3\n13659 Egglkofen\n\n\nÜbersicht https://test.dieliga.online/schedule/overview/646
END:VEVENT
BEGIN:VEVENT
UID:event6
DTSTAMP:20260423T101013Z
DTSTART:20260715T174500Z
LOCATION;LANGUAGE=de;ENCODING=QUOTED-PRINTABLE:
SUMMARY:Punktspiel Nacktschneckenerschrecker vs Proleten von Platz
DESCRIPTION;LANGUAGE=de;ENCODING=QUOTED-PRINTABLE:\n\nÜbersicht https://test.dieliga.online/schedule/overview/646
END:VEVENT
BEGIN:VEVENT
UID:event7
DTSTAMP:20260423T101013Z
DTSTART:20260724T180000Z
DTEND:20260724T200000Z
LOCATION;LANGUAGE=de;ENCODING=QUOTED-PRINTABLE:Steges Helgen 23\, Immenreuth
SUMMARY:Punktspiel Blind Desaster vs Nacktschneckenerschrecker
DESCRIPTION;LANGUAGE=de;ENCODING=QUOTED-PRINTABLE:Traglufthalle Sportzentrum\nSteges Helgen 23\nImmenreuth\n\n\nÜbersicht https://test.dieliga.online/schedule/overview/646
END:VEVENT
BEGIN:VEVENT
UID:event8
DTSTAMP:20260423T101013Z
DTSTART:20260729T174500Z
LOCATION;LANGUAGE=de;ENCODING=QUOTED-PRINTABLE:
SUMMARY:Punktspiel Nacktschneckenerschrecker vs Netzathleten Stonebridge
DESCRIPTION;LANGUAGE=de;ENCODING=QUOTED-PRINTABLE:\n\nÜbersicht https://test.dieliga.online/schedule/overview/646
END:VEVENT
BEGIN:VEVENT
UID:event9
DTSTAMP:20260423T101013Z
DTSTART:20260808T173000Z
DTEND:20260808T193000Z
LOCATION;LANGUAGE=de;ENCODING=QUOTED-PRINTABLE:Hellensteinstraße 60\, Burgkunstadt
SUMMARY:Punktspiel Jumping Kangaroos vs Nacktschneckenerschrecker
DESCRIPTION;LANGUAGE=de;ENCODING=QUOTED-PRINTABLE:\nHellensteinstraße 60\n10182 Burgkunstadt\nwenig Parkplätze zur Verfügung!\n\n\nÜbersicht https://test.dieliga.online/schedule/overview/646
END:VEVENT
BEGIN:VEVENT
UID:event10
DTSTAMP:20260423T101013Z
DTSTART:20260826T174500Z
LOCATION;LANGUAGE=de;ENCODING=QUOTED-PRINTABLE:
SUMMARY:Punktspiel Nacktschneckenerschrecker vs Los Ballitos
DESCRIPTION;LANGUAGE=de;ENCODING=QUOTED-PRINTABLE:\n\nÜbersicht https://test.dieliga.online/schedule/overview/646
END:VEVENT
BEGIN:VEVENT
UID:event11
DTSTAMP:20260423T101013Z
DTSTART:20260908T180000Z
DTEND:20260908T200000Z
LOCATION;LANGUAGE=de;ENCODING=QUOTED-PRINTABLE:St. Benedictstraße 43\, Bernau
SUMMARY:Punktspiel Lückensucher vs Nacktschneckenerschrecker
DESCRIPTION;LANGUAGE=de;ENCODING=QUOTED-PRINTABLE:Traglufthalle Sportzentrum (Neue Turnhalle)\nSt. Benedictstraße 43\n87752 Bernau\n\n\nÜbersicht https://test.dieliga.online/schedule/overview/646
END:VEVENT
END:VCALENDAR