BEGIN:VCALENDAR
VERSION:2.0
PRODID:-//dieLiga//DE
BEGIN:VEVENT
UID:event0
DTSTAMP:20260423T084130Z
DTSTART:20260507T173000Z
DTEND:20260507T190000Z
LOCATION;LANGUAGE=de;ENCODING=QUOTED-PRINTABLE:Wiedstraße 45\, Andechs
SUMMARY:Punktspiel Volleybären vs Mut zur Lücke
DESCRIPTION;LANGUAGE=de;ENCODING=QUOTED-PRINTABLE:rechte Halle\nWiedstraße 45\n35962 Andechs\n\n\nÜbersicht https://test.dieliga.online/schedule/overview/651
END:VEVENT
BEGIN:VEVENT
UID:event1
DTSTAMP:20260423T084130Z
DTSTART:20260409T174500Z
DTEND:20260409T194500Z
LOCATION;LANGUAGE=de;ENCODING=QUOTED-PRINTABLE:Untere Kieselbergstraße 33\, Helmstadt
SUMMARY:Punktspiel Wühlmäuse vs Mut zur Lücke
DESCRIPTION;LANGUAGE=de;ENCODING=QUOTED-PRINTABLE:25:21\, 19:25\, 14:25
END:VEVENT
BEGIN:VEVENT
UID:event2
DTSTAMP:20260423T084130Z
DTSTART:20260426T180000Z
DTEND:20260426T200000Z
LOCATION;LANGUAGE=de;ENCODING=QUOTED-PRINTABLE:Kahlhorststraße 20\, Schollbrunn
SUMMARY:Punktspiel Zweiundvierzig vs Mut zur Lücke
DESCRIPTION;LANGUAGE=de;ENCODING=QUOTED-PRINTABLE:Grund- und Förderschule\nKahlhorststraße 20\n69372 Schollbrunn\n\n\nÜbersicht https://test.dieliga.online/schedule/overview/651
END:VEVENT
BEGIN:VEVENT
UID:event3
DTSTAMP:20260423T084130Z
DTSTART:20260516T173000Z
DTEND:20260516T200000Z
LOCATION;LANGUAGE=de;ENCODING=QUOTED-PRINTABLE:Maurenstraße 6\, Nassenfels
SUMMARY:Punktspiel Mut zur Lücke vs Die Hottentotten
DESCRIPTION;LANGUAGE=de;ENCODING=QUOTED-PRINTABLE:Halle 1\, links\nMaurenstraße 6\n37496 Nassenfels\n\n\nÜbersicht https://test.dieliga.online/schedule/overview/651
END:VEVENT
BEGIN:VEVENT
UID:event4
DTSTAMP:20260423T084130Z
DTSTART:20260605T170500Z
DTEND:20260605T193000Z
LOCATION;LANGUAGE=de;ENCODING=QUOTED-PRINTABLE:Auf dem Stoppelkamp 41\, Benningen
SUMMARY:Punktspiel Hanuta vs Mut zur Lücke
DESCRIPTION;LANGUAGE=de;ENCODING=QUOTED-PRINTABLE:Mehrzweckhalle\nAuf dem Stoppelkamp 41\n18359 Benningen\nBitte nicht auf dem Lehrerparkplatz stellen\, sondern in den (Klein-)Straßen. Ausreichend Plätze da (max. so 2 Min. zur Halle)\n\n\nÜbersicht https://test.dieliga.online/schedule/overview/651
END:VEVENT
BEGIN:VEVENT
UID:event5
DTSTAMP:20260423T084130Z
DTSTART:20260614T173000Z
DTEND:20260614T200000Z
LOCATION;LANGUAGE=de;ENCODING=QUOTED-PRINTABLE:Maurenstraße 6\, Nassenfels
SUMMARY:Punktspiel Mut zur Lücke vs 4 und ein Keks
DESCRIPTION;LANGUAGE=de;ENCODING=QUOTED-PRINTABLE:Halle 1\, links\nMaurenstraße 6\n37496 Nassenfels\n\n\nÜbersicht https://test.dieliga.online/schedule/overview/651
END:VEVENT
BEGIN:VEVENT
UID:event6
DTSTAMP:20260423T084130Z
DTSTART:20260725T173000Z
DTEND:20260725T200000Z
LOCATION;LANGUAGE=de;ENCODING=QUOTED-PRINTABLE:Maurenstraße 6\, Nassenfels
SUMMARY:Punktspiel Mut zur Lücke vs Volleybären
DESCRIPTION;LANGUAGE=de;ENCODING=QUOTED-PRINTABLE:Halle 1\, links\nMaurenstraße 6\n37496 Nassenfels\n\n\nÜbersicht https://test.dieliga.online/schedule/overview/651
END:VEVENT
BEGIN:VEVENT
UID:event7
DTSTAMP:20260423T084130Z
DTSTART:20260729T173000Z
DTEND:20260729T193000Z
LOCATION;LANGUAGE=de;ENCODING=QUOTED-PRINTABLE:Merreter 30\, Pielenhofen
SUMMARY:Punktspiel Mutti spielt 1.Männer vs Mut zur Lücke
DESCRIPTION;LANGUAGE=de;ENCODING=QUOTED-PRINTABLE:TSV-Halle (Es stehen wenige kostenlose Parkplätze zur Verfügung.)\nMerreter 30\n42442 Pielenhofen\nEingang gegenüber Tramhaltestelle\n\n\nÜbersicht https://test.dieliga.online/schedule/overview/651
END:VEVENT
BEGIN:VEVENT
UID:event8
DTSTAMP:20260423T084130Z
DTSTART:20260808T173000Z
DTEND:20260808T200000Z
LOCATION;LANGUAGE=de;ENCODING=QUOTED-PRINTABLE:Maurenstraße 6\, Nassenfels
SUMMARY:Punktspiel Mut zur Lücke vs Wühlmäuse
DESCRIPTION;LANGUAGE=de;ENCODING=QUOTED-PRINTABLE:Halle 1\, links\nMaurenstraße 6\n37496 Nassenfels\n\n\nÜbersicht https://test.dieliga.online/schedule/overview/651
END:VEVENT
BEGIN:VEVENT
UID:event9
DTSTAMP:20260423T084130Z
DTSTART:20260828T173000Z
DTEND:20260828T193000Z
LOCATION;LANGUAGE=de;ENCODING=QUOTED-PRINTABLE:Philipp-Wirtgen-Straße 58\, Sommerhausen
SUMMARY:Punktspiel We don’t care vs Mut zur Lücke
DESCRIPTION;LANGUAGE=de;ENCODING=QUOTED-PRINTABLE:\nPhilipp-Wirtgen-Straße 58\n53478 Sommerhausen\nsehr schlechte Parkenmöglichkeiten!\n\n\nÜbersicht https://test.dieliga.online/schedule/overview/651
END:VEVENT
BEGIN:VEVENT
UID:event10
DTSTAMP:20260423T084130Z
DTSTART:20260908T173000Z
DTEND:20260908T200000Z
LOCATION;LANGUAGE=de;ENCODING=QUOTED-PRINTABLE:Maurenstraße 6\, Nassenfels
SUMMARY:Punktspiel Mut zur Lücke vs Zweiundvierzig
DESCRIPTION;LANGUAGE=de;ENCODING=QUOTED-PRINTABLE:Halle 1\, links\nMaurenstraße 6\n37496 Nassenfels\n\n\nÜbersicht https://test.dieliga.online/schedule/overview/651
END:VEVENT
BEGIN:VEVENT
UID:event11
DTSTAMP:20260423T084130Z
DTSTART:20260914T170000Z
DTEND:20260914T193000Z
LOCATION;LANGUAGE=de;ENCODING=QUOTED-PRINTABLE:Claus-Wiese-Straße 58\, Reit im Winkl
SUMMARY:Punktspiel Die Hottentotten vs Mut zur Lücke
DESCRIPTION;LANGUAGE=de;ENCODING=QUOTED-PRINTABLE:Goldachhalle (Hallen-Eingang Zum Steigeturm)\nClaus-Wiese-Straße 58\nReit im Winkl\n\n\nÜbersicht https://test.dieliga.online/schedule/overview/651
END:VEVENT
BEGIN:VEVENT
UID:event12
DTSTAMP:20260423T084130Z
DTSTART:20260922T173000Z
DTEND:20260922T200000Z
LOCATION;LANGUAGE=de;ENCODING=QUOTED-PRINTABLE:Maurenstraße 6\, Nassenfels
SUMMARY:Punktspiel Mut zur Lücke vs Hanuta
DESCRIPTION;LANGUAGE=de;ENCODING=QUOTED-PRINTABLE:Halle 1\, links\nMaurenstraße 6\n37496 Nassenfels\n\n\nÜbersicht https://test.dieliga.online/schedule/overview/651
END:VEVENT
BEGIN:VEVENT
UID:event13
DTSTAMP:20260423T084130Z
DTSTART:20261017T170000Z
DTEND:20261017T183000Z
LOCATION;LANGUAGE=de;ENCODING=QUOTED-PRINTABLE:Albert-Kuntz-Straße 17
SUMMARY:Punktspiel 4 und ein Keks vs Mut zur Lücke
DESCRIPTION;LANGUAGE=de;ENCODING=QUOTED-PRINTABLE:Dreifachhalle\nAlbert-Kuntz-Straße 17\n\n\nÜbersicht https://test.dieliga.online/schedule/overview/651
END:VEVENT
END:VCALENDAR