BEGIN:VCALENDAR
VERSION:2.0
PRODID:-//dieLiga//DE
BEGIN:VEVENT
UID:event0
DTSTAMP:20260421T070547Z
DTSTART:20260321T190000Z
DTEND:20260321T210000Z
LOCATION;LANGUAGE=de;ENCODING=QUOTED-PRINTABLE:Wienkeweg 14\, Hirschaid
SUMMARY:Punktspiel Piranhas vs bis einer weint
DESCRIPTION;LANGUAGE=de;ENCODING=QUOTED-PRINTABLE:16:25\, 14:25
END:VEVENT
BEGIN:VEVENT
UID:event1
DTSTAMP:20260421T070547Z
DTSTART:20260328T190000Z
DTEND:20260328T210000Z
LOCATION;LANGUAGE=de;ENCODING=QUOTED-PRINTABLE:Zur Stegge 51\, Nittendorf
SUMMARY:Punktspiel Hobbybatscher vs Piranhas
DESCRIPTION;LANGUAGE=de;ENCODING=QUOTED-PRINTABLE:25:21\, 24:26\, 23:25
END:VEVENT
BEGIN:VEVENT
UID:event2
DTSTAMP:20260421T070547Z
DTSTART:20260426T180000Z
DTEND:20260426T200000Z
LOCATION;LANGUAGE=de;ENCODING=QUOTED-PRINTABLE:Wienkeweg 14\, Hirschaid
SUMMARY:Punktspiel Piranhas vs Muschelmixer
DESCRIPTION;LANGUAGE=de;ENCODING=QUOTED-PRINTABLE:25:18\, 25:21
END:VEVENT
BEGIN:VEVENT
UID:event3
DTSTAMP:20260421T070547Z
DTSTART:20260419T173000Z
DTEND:20260419T192500Z
LOCATION;LANGUAGE=de;ENCODING=QUOTED-PRINTABLE:Am Wingertsberg 44\, Deuerling
SUMMARY:Punktspiel Geh ans Netz und mach was vs Piranhas
DESCRIPTION;LANGUAGE=de;ENCODING=QUOTED-PRINTABLE:25:22\, 25:17
END:VEVENT
BEGIN:VEVENT
UID:event4
DTSTAMP:20260421T070547Z
DTSTART:20260423T180000Z
DTEND:20260423T200000Z
LOCATION;LANGUAGE=de;ENCODING=QUOTED-PRINTABLE:Am Eckernkamp 32\, Roding
SUMMARY:Punktspiel No pain no gain vs Piranhas
DESCRIPTION;LANGUAGE=de;ENCODING=QUOTED-PRINTABLE:19:25\, 18:25
END:VEVENT
BEGIN:VEVENT
UID:event5
DTSTAMP:20260421T070547Z
DTSTART:20260516T180000Z
DTEND:20260516T200000Z
LOCATION;LANGUAGE=de;ENCODING=QUOTED-PRINTABLE:Wienkeweg 14\, Hirschaid
SUMMARY:Punktspiel Piranhas vs Schnapshamster
DESCRIPTION;LANGUAGE=de;ENCODING=QUOTED-PRINTABLE:Schulturnhalle\nWienkeweg 14\nHirschaid\n\n\nÜbersicht https://test.dieliga.online/schedule/overview/640
END:VEVENT
BEGIN:VEVENT
UID:event6
DTSTAMP:20260421T070547Z
DTSTART:20260604T180000Z
DTEND:20260604T200000Z
LOCATION;LANGUAGE=de;ENCODING=QUOTED-PRINTABLE:Dachsbergweg 39\, Hollenbach
SUMMARY:Punktspiel Erdnuckel vs Piranhas
DESCRIPTION;LANGUAGE=de;ENCODING=QUOTED-PRINTABLE:Sporthalle am Hallenbad\nDachsbergweg 39\n17710 Hollenbach\n\n\nÜbersicht https://test.dieliga.online/schedule/overview/640
END:VEVENT
BEGIN:VEVENT
UID:event7
DTSTAMP:20260421T070547Z
DTSTART:20260614T173000Z
DTEND:20260614T200000Z
LOCATION;LANGUAGE=de;ENCODING=QUOTED-PRINTABLE:Zum Wasserschloß 3\, Neustadt
SUMMARY:Punktspiel bis einer weint vs Piranhas
DESCRIPTION;LANGUAGE=de;ENCODING=QUOTED-PRINTABLE:Vereinshalle (Parkplätze über Geitnerweg erreichbar)\nZum Wasserschloß 3\n39382 Neustadt\n\n\nÜbersicht https://test.dieliga.online/schedule/overview/640
END:VEVENT
BEGIN:VEVENT
UID:event8
DTSTAMP:20260421T070547Z
DTSTART:20260718T180000Z
DTEND:20260718T200000Z
LOCATION;LANGUAGE=de;ENCODING=QUOTED-PRINTABLE:Wienkeweg 14\, Hirschaid
SUMMARY:Punktspiel Piranhas vs Hobbybatscher
DESCRIPTION;LANGUAGE=de;ENCODING=QUOTED-PRINTABLE:Schulturnhalle\nWienkeweg 14\nHirschaid\n\n\nÜbersicht https://test.dieliga.online/schedule/overview/640
END:VEVENT
BEGIN:VEVENT
UID:event9
DTSTAMP:20260421T070547Z
DTSTART:20260723T171500Z
DTEND:20260723T193000Z
LOCATION;LANGUAGE=de;ENCODING=QUOTED-PRINTABLE:Brabantstraße\, Starnberg
SUMMARY:Punktspiel Muschelmixer vs Piranhas
DESCRIPTION;LANGUAGE=de;ENCODING=QUOTED-PRINTABLE:Traglufthalle Sportzentrum (Zugang Halle über Marksburgstraße)\nBrabantstraße\nStarnberg\n\n\nÜbersicht https://test.dieliga.online/schedule/overview/640
END:VEVENT
BEGIN:VEVENT
UID:event10
DTSTAMP:20260421T070547Z
DTSTART:20260801T180000Z
DTEND:20260801T200000Z
LOCATION;LANGUAGE=de;ENCODING=QUOTED-PRINTABLE:Wienkeweg 14\, Hirschaid
SUMMARY:Punktspiel Piranhas vs Geh ans Netz und mach was
DESCRIPTION;LANGUAGE=de;ENCODING=QUOTED-PRINTABLE:Schulturnhalle\nWienkeweg 14\nHirschaid\n\n\nÜbersicht https://test.dieliga.online/schedule/overview/640
END:VEVENT
BEGIN:VEVENT
UID:event11
DTSTAMP:20260421T070547Z
DTSTART:20260808T180000Z
DTEND:20260808T200000Z
LOCATION;LANGUAGE=de;ENCODING=QUOTED-PRINTABLE:Wienkeweg 14\, Hirschaid
SUMMARY:Punktspiel Piranhas vs No pain no gain
DESCRIPTION;LANGUAGE=de;ENCODING=QUOTED-PRINTABLE:Schulturnhalle\nWienkeweg 14\nHirschaid\n\n\nÜbersicht https://test.dieliga.online/schedule/overview/640
END:VEVENT
BEGIN:VEVENT
UID:event12
DTSTAMP:20260421T070547Z
DTSTART:20260825T160000Z
DTEND:20260825T180000Z
LOCATION;LANGUAGE=de;ENCODING=QUOTED-PRINTABLE:Brünnersgasse 4\, Pleinfeld
SUMMARY:Punktspiel Schnapshamster vs Piranhas
DESCRIPTION;LANGUAGE=de;ENCODING=QUOTED-PRINTABLE:obere Halle\nBrünnersgasse 4\n13306 Pleinfeld\n\n\nÜbersicht https://test.dieliga.online/schedule/overview/640
END:VEVENT
BEGIN:VEVENT
UID:event13
DTSTAMP:20260421T070547Z
DTSTART:20260908T180000Z
DTEND:20260908T200000Z
LOCATION;LANGUAGE=de;ENCODING=QUOTED-PRINTABLE:Wienkeweg 14\, Hirschaid
SUMMARY:Punktspiel Piranhas vs Erdnuckel
DESCRIPTION;LANGUAGE=de;ENCODING=QUOTED-PRINTABLE:Schulturnhalle\nWienkeweg 14\nHirschaid\n\n\nÜbersicht https://test.dieliga.online/schedule/overview/640
END:VEVENT
END:VCALENDAR