BEGIN:VCALENDAR
VERSION:2.0
PRODID:-//dieLiga//DE
BEGIN:VEVENT
UID:event0
DTSTAMP:20260423T094751Z
DTSTART:20260529T180000Z
DTEND:20260529T200000Z
LOCATION;LANGUAGE=de;ENCODING=QUOTED-PRINTABLE:Majakowskiring 58\, Rehau
SUMMARY:Punktspiel Grashüpfer vs Mr. Wurst
DESCRIPTION;LANGUAGE=de;ENCODING=QUOTED-PRINTABLE:rechte Halle\nMajakowskiring 58\n93982 Rehau\nBitte eigene Bälle mitbringen! \n\n\nÜbersicht https://test.dieliga.online/schedule/overview/650
END:VEVENT
BEGIN:VEVENT
UID:event1
DTSTAMP:20260423T094751Z
DTSTART:20260508T170000Z
DTEND:20260508T200000Z
LOCATION;LANGUAGE=de;ENCODING=QUOTED-PRINTABLE:Keselstraße 27\, Freihung
SUMMARY:Punktspiel Die 5 lustigen 6 vs Grashüpfer
DESCRIPTION;LANGUAGE=de;ENCODING=QUOTED-PRINTABLE:Halle 1\, links\nKeselstraße 27\n53622 Freihung\n\n\nÜbersicht https://test.dieliga.online/schedule/overview/650
END:VEVENT
BEGIN:VEVENT
UID:event2
DTSTAMP:20260423T094751Z
DTSTART:20260411T180000Z
DTEND:20260411T200000Z
LOCATION;LANGUAGE=de;ENCODING=QUOTED-PRINTABLE:Majakowskiring 58\, Rehau
SUMMARY:Punktspiel Grashüpfer vs Die souveränen Frauenblocke
DESCRIPTION;LANGUAGE=de;ENCODING=QUOTED-PRINTABLE:13:25\, 12:25
END:VEVENT
BEGIN:VEVENT
UID:event3
DTSTAMP:20260423T094751Z
DTSTART:20260416T173000Z
DTEND:20260416T190000Z
LOCATION;LANGUAGE=de;ENCODING=QUOTED-PRINTABLE:Propst-Laumann-Straße\, Anger
SUMMARY:Punktspiel die Alten vs Grashüpfer
DESCRIPTION;LANGUAGE=de;ENCODING=QUOTED-PRINTABLE:25:10\, 25:16
END:VEVENT
BEGIN:VEVENT
UID:event4
DTSTAMP:20260423T094751Z
DTSTART:20260425T180000Z
DTEND:20260425T200000Z
LOCATION;LANGUAGE=de;ENCODING=QUOTED-PRINTABLE:Majakowskiring 58\, Rehau
SUMMARY:Punktspiel Grashüpfer vs Bolzmännerinen
DESCRIPTION;LANGUAGE=de;ENCODING=QUOTED-PRINTABLE:rechte Halle\nMajakowskiring 58\n93982 Rehau\nBitte eigene Bälle mitbringen! \n\n\nÜbersicht https://test.dieliga.online/schedule/overview/650
END:VEVENT
BEGIN:VEVENT
UID:event5
DTSTAMP:20260423T094751Z
DTSTART:20260517T180000Z
DTEND:20260517T200000Z
LOCATION;LANGUAGE=de;ENCODING=QUOTED-PRINTABLE:Hans-Zellner-Weg 6
SUMMARY:Punktspiel Die Tasmanischen Teufel vs Grashüpfer
DESCRIPTION;LANGUAGE=de;ENCODING=QUOTED-PRINTABLE:Schulzentrum (Ausreichende Parkmöglichkeiten sind vor der Halle vorhanden.)\nHans-Zellner-Weg 6\n12446 \n\nÜbersicht https://test.dieliga.online/schedule/overview/650
END:VEVENT
BEGIN:VEVENT
UID:event6
DTSTAMP:20260423T094751Z
DTSTART:20260606T180000Z
DTEND:20260606T200000Z
LOCATION;LANGUAGE=de;ENCODING=QUOTED-PRINTABLE:Majakowskiring 58\, Rehau
SUMMARY:Punktspiel Grashüpfer vs Muschelmixer
DESCRIPTION;LANGUAGE=de;ENCODING=QUOTED-PRINTABLE:rechte Halle\nMajakowskiring 58\n93982 Rehau\nBitte eigene Bälle mitbringen! \n\n\nÜbersicht https://test.dieliga.online/schedule/overview/650
END:VEVENT
BEGIN:VEVENT
UID:event7
DTSTAMP:20260423T094751Z
DTSTART:20260611T174500Z
LOCATION;LANGUAGE=de;ENCODING=QUOTED-PRINTABLE:
SUMMARY:Punktspiel Mr. Wurst vs Grashüpfer
DESCRIPTION;LANGUAGE=de;ENCODING=QUOTED-PRINTABLE:\n\nÜbersicht https://test.dieliga.online/schedule/overview/650
END:VEVENT
BEGIN:VEVENT
UID:event8
DTSTAMP:20260423T094751Z
DTSTART:20260717T180000Z
DTEND:20260717T200000Z
LOCATION;LANGUAGE=de;ENCODING=QUOTED-PRINTABLE:Majakowskiring 58\, Rehau
SUMMARY:Punktspiel Grashüpfer vs Die 5 lustigen 6
DESCRIPTION;LANGUAGE=de;ENCODING=QUOTED-PRINTABLE:rechte Halle\nMajakowskiring 58\n93982 Rehau\nBitte eigene Bälle mitbringen! \n\n\nÜbersicht https://test.dieliga.online/schedule/overview/650
END:VEVENT
BEGIN:VEVENT
UID:event9
DTSTAMP:20260423T094751Z
DTSTART:20260722T183000Z
DTEND:20260722T203000Z
LOCATION;LANGUAGE=de;ENCODING=QUOTED-PRINTABLE:Kuhturmstraße 37\, Ehekirchen
SUMMARY:Punktspiel Die souveränen Frauenblocke vs Grashüpfer
DESCRIPTION;LANGUAGE=de;ENCODING=QUOTED-PRINTABLE:Grundschule (genug Parkplätze vorhanden)\nKuhturmstraße 37\n42683 Ehekirchen\n\n\nÜbersicht https://test.dieliga.online/schedule/overview/650
END:VEVENT
BEGIN:VEVENT
UID:event10
DTSTAMP:20260423T094751Z
DTSTART:20260731T180000Z
DTEND:20260731T200000Z
LOCATION;LANGUAGE=de;ENCODING=QUOTED-PRINTABLE:Majakowskiring 58\, Rehau
SUMMARY:Punktspiel Grashüpfer vs die Alten
DESCRIPTION;LANGUAGE=de;ENCODING=QUOTED-PRINTABLE:rechte Halle\nMajakowskiring 58\n93982 Rehau\nBitte eigene Bälle mitbringen! \n\n\nÜbersicht https://test.dieliga.online/schedule/overview/650
END:VEVENT
BEGIN:VEVENT
UID:event11
DTSTAMP:20260423T094751Z
DTSTART:20260806T180000Z
DTEND:20260806T200000Z
LOCATION;LANGUAGE=de;ENCODING=QUOTED-PRINTABLE:Himmerichstraße 59\, Piding
SUMMARY:Punktspiel Bolzmännerinen vs Grashüpfer
DESCRIPTION;LANGUAGE=de;ENCODING=QUOTED-PRINTABLE:\nHimmerichstraße 59\nPiding\nParkplätze vorhanden\n\n\nÜbersicht https://test.dieliga.online/schedule/overview/650
END:VEVENT
BEGIN:VEVENT
UID:event12
DTSTAMP:20260423T094751Z
DTSTART:20260828T180000Z
DTEND:20260828T200000Z
LOCATION;LANGUAGE=de;ENCODING=QUOTED-PRINTABLE:Majakowskiring 58\, Rehau
SUMMARY:Punktspiel Grashüpfer vs Die Tasmanischen Teufel
DESCRIPTION;LANGUAGE=de;ENCODING=QUOTED-PRINTABLE:rechte Halle\nMajakowskiring 58\n93982 Rehau\nBitte eigene Bälle mitbringen! \n\n\nÜbersicht https://test.dieliga.online/schedule/overview/650
END:VEVENT
BEGIN:VEVENT
UID:event13
DTSTAMP:20260423T094751Z
DTSTART:20260908T171500Z
DTEND:20260908T191500Z
LOCATION;LANGUAGE=de;ENCODING=QUOTED-PRINTABLE:Siebeneichener Straße 23\, Kupferberg
SUMMARY:Punktspiel Muschelmixer vs Grashüpfer
DESCRIPTION;LANGUAGE=de;ENCODING=QUOTED-PRINTABLE:Halle 3 (Parken gut möglich.)\nSiebeneichener Straße 23\n80667 Kupferberg\n\n\nÜbersicht https://test.dieliga.online/schedule/overview/650
END:VEVENT
END:VCALENDAR