BEGIN:VCALENDAR
VERSION:2.0
PRODID:-//dieLiga//DE
BEGIN:VEVENT
UID:event0
DTSTAMP:20260423T084150Z
DTSTART:20260506T173000Z
DTEND:20260506T190000Z
LOCATION;LANGUAGE=de;ENCODING=QUOTED-PRINTABLE:Propst-Laumann-Straße\, Anger
SUMMARY:Punktspiel die Alten vs Die Tasmanischen Teufel
DESCRIPTION;LANGUAGE=de;ENCODING=QUOTED-PRINTABLE:Halle III\nPropst-Laumann-Straße\n94853 Anger\n\n\nÜbersicht https://test.dieliga.online/schedule/overview/650
END:VEVENT
BEGIN:VEVENT
UID:event1
DTSTAMP:20260423T084150Z
DTSTART:20260520T174500Z
LOCATION;LANGUAGE=de;ENCODING=QUOTED-PRINTABLE:
SUMMARY:Punktspiel Mr. Wurst vs Die Tasmanischen Teufel
DESCRIPTION;LANGUAGE=de;ENCODING=QUOTED-PRINTABLE:\n\nÜbersicht https://test.dieliga.online/schedule/overview/650
END:VEVENT
BEGIN:VEVENT
UID:event2
DTSTAMP:20260423T084150Z
DTSTART:20260426T171500Z
DTEND:20260426T191500Z
LOCATION;LANGUAGE=de;ENCODING=QUOTED-PRINTABLE:Siebeneichener Straße 23\, Kupferberg
SUMMARY:Punktspiel Muschelmixer vs Die Tasmanischen Teufel
DESCRIPTION;LANGUAGE=de;ENCODING=QUOTED-PRINTABLE:10:25\, 10:25
END:VEVENT
BEGIN:VEVENT
UID:event3
DTSTAMP:20260423T084150Z
DTSTART:20260517T180000Z
DTEND:20260517T200000Z
LOCATION;LANGUAGE=de;ENCODING=QUOTED-PRINTABLE:Hans-Zellner-Weg 6
SUMMARY:Punktspiel Die Tasmanischen Teufel vs Grashüpfer
DESCRIPTION;LANGUAGE=de;ENCODING=QUOTED-PRINTABLE:Schulzentrum (Ausreichende Parkmöglichkeiten sind vor der Halle vorhanden.)\nHans-Zellner-Weg 6\n12446 \n\nÜbersicht https://test.dieliga.online/schedule/overview/650
END:VEVENT
BEGIN:VEVENT
UID:event4
DTSTAMP:20260423T084150Z
DTSTART:20260606T170000Z
DTEND:20260606T200000Z
LOCATION;LANGUAGE=de;ENCODING=QUOTED-PRINTABLE:Keselstraße 27\, Freihung
SUMMARY:Punktspiel Die 5 lustigen 6 vs Die Tasmanischen Teufel
DESCRIPTION;LANGUAGE=de;ENCODING=QUOTED-PRINTABLE:Halle 1\, links\nKeselstraße 27\n53622 Freihung\n\n\nÜbersicht https://test.dieliga.online/schedule/overview/650
END:VEVENT
BEGIN:VEVENT
UID:event5
DTSTAMP:20260423T084150Z
DTSTART:20260611T183000Z
DTEND:20260611T203000Z
LOCATION;LANGUAGE=de;ENCODING=QUOTED-PRINTABLE:Kuhturmstraße 37\, Ehekirchen
SUMMARY:Punktspiel Die souveränen Frauenblocke vs Die Tasmanischen Teufel
DESCRIPTION;LANGUAGE=de;ENCODING=QUOTED-PRINTABLE:Grundschule (genug Parkplätze vorhanden)\nKuhturmstraße 37\n42683 Ehekirchen\n\n\nÜbersicht https://test.dieliga.online/schedule/overview/650
END:VEVENT
BEGIN:VEVENT
UID:event6
DTSTAMP:20260423T084150Z
DTSTART:20260719T180000Z
DTEND:20260719T200000Z
LOCATION;LANGUAGE=de;ENCODING=QUOTED-PRINTABLE:Hans-Zellner-Weg 6
SUMMARY:Punktspiel Die Tasmanischen Teufel vs die Alten
DESCRIPTION;LANGUAGE=de;ENCODING=QUOTED-PRINTABLE:Schulzentrum (Ausreichende Parkmöglichkeiten sind vor der Halle vorhanden.)\nHans-Zellner-Weg 6\n12446 \n\nÜbersicht https://test.dieliga.online/schedule/overview/650
END:VEVENT
BEGIN:VEVENT
UID:event7
DTSTAMP:20260423T084150Z
DTSTART:20260723T180000Z
DTEND:20260723T200000Z
LOCATION;LANGUAGE=de;ENCODING=QUOTED-PRINTABLE:Himmerichstraße 59\, Piding
SUMMARY:Punktspiel Bolzmännerinen vs Die Tasmanischen Teufel
DESCRIPTION;LANGUAGE=de;ENCODING=QUOTED-PRINTABLE:\nHimmerichstraße 59\nPiding\nParkplätze vorhanden\n\n\nÜbersicht https://test.dieliga.online/schedule/overview/650
END:VEVENT
BEGIN:VEVENT
UID:event8
DTSTAMP:20260423T084150Z
DTSTART:20260802T180000Z
DTEND:20260802T200000Z
LOCATION;LANGUAGE=de;ENCODING=QUOTED-PRINTABLE:Hans-Zellner-Weg 6
SUMMARY:Punktspiel Die Tasmanischen Teufel vs Mr. Wurst
DESCRIPTION;LANGUAGE=de;ENCODING=QUOTED-PRINTABLE:Schulzentrum (Ausreichende Parkmöglichkeiten sind vor der Halle vorhanden.)\nHans-Zellner-Weg 6\n12446 \n\nÜbersicht https://test.dieliga.online/schedule/overview/650
END:VEVENT
BEGIN:VEVENT
UID:event9
DTSTAMP:20260423T084150Z
DTSTART:20260809T180000Z
DTEND:20260809T200000Z
LOCATION;LANGUAGE=de;ENCODING=QUOTED-PRINTABLE:Hans-Zellner-Weg 6
SUMMARY:Punktspiel Die Tasmanischen Teufel vs Muschelmixer
DESCRIPTION;LANGUAGE=de;ENCODING=QUOTED-PRINTABLE:Schulzentrum (Ausreichende Parkmöglichkeiten sind vor der Halle vorhanden.)\nHans-Zellner-Weg 6\n12446 \n\nÜbersicht https://test.dieliga.online/schedule/overview/650
END:VEVENT
BEGIN:VEVENT
UID:event10
DTSTAMP:20260423T084150Z
DTSTART:20260828T180000Z
DTEND:20260828T200000Z
LOCATION;LANGUAGE=de;ENCODING=QUOTED-PRINTABLE:Majakowskiring 58\, Rehau
SUMMARY:Punktspiel Grashüpfer vs Die Tasmanischen Teufel
DESCRIPTION;LANGUAGE=de;ENCODING=QUOTED-PRINTABLE:rechte Halle\nMajakowskiring 58\n93982 Rehau\nBitte eigene Bälle mitbringen! \n\n\nÜbersicht https://test.dieliga.online/schedule/overview/650
END:VEVENT
BEGIN:VEVENT
UID:event11
DTSTAMP:20260423T084150Z
DTSTART:20260909T180000Z
DTEND:20260909T200000Z
LOCATION;LANGUAGE=de;ENCODING=QUOTED-PRINTABLE:Hans-Zellner-Weg 6
SUMMARY:Punktspiel Die Tasmanischen Teufel vs Die 5 lustigen 6
DESCRIPTION;LANGUAGE=de;ENCODING=QUOTED-PRINTABLE:Schulzentrum (Ausreichende Parkmöglichkeiten sind vor der Halle vorhanden.)\nHans-Zellner-Weg 6\n12446 \n\nÜbersicht https://test.dieliga.online/schedule/overview/650
END:VEVENT
END:VCALENDAR