BEGIN:VCALENDAR
VERSION:2.0
PRODID:-//dieLiga//DE
BEGIN:VEVENT
UID:event0
DTSTAMP:20260421T081614Z
DTSTART:20260529T180000Z
DTEND:20260529T200000Z
LOCATION;LANGUAGE=de;ENCODING=QUOTED-PRINTABLE:Von-Alten-Allee 5\, Bogen
SUMMARY:Punktspiel Zebradamen vs Hai Happen
DESCRIPTION;LANGUAGE=de;ENCODING=QUOTED-PRINTABLE:Gemeindehalle (bei der Schule)\nVon-Alten-Allee 5\n62011 Bogen\nBitte eigene Bälle mitbringen! \n\n\nÜbersicht https://test.dieliga.online/schedule/overview/650
END:VEVENT
BEGIN:VEVENT
UID:event1
DTSTAMP:20260421T081614Z
DTSTART:20260520T174500Z
LOCATION;LANGUAGE=de;ENCODING=QUOTED-PRINTABLE:
SUMMARY:Punktspiel Hai Happen vs Akademiker und Singels mit Niveau!
DESCRIPTION;LANGUAGE=de;ENCODING=QUOTED-PRINTABLE:\n\nÜbersicht https://test.dieliga.online/schedule/overview/650
END:VEVENT
BEGIN:VEVENT
UID:event2
DTSTAMP:20260421T081614Z
DTSTART:20260423T183000Z
DTEND:20260423T203000Z
LOCATION;LANGUAGE=de;ENCODING=QUOTED-PRINTABLE:Wahmstraße 43\, Bergrheinfeld
SUMMARY:Punktspiel Kein Kindergeburtstag vs Hai Happen
DESCRIPTION;LANGUAGE=de;ENCODING=QUOTED-PRINTABLE:25:11\, 23:25\, 25:7
END:VEVENT
BEGIN:VEVENT
UID:event3
DTSTAMP:20260421T081614Z
DTSTART:20260513T174500Z
LOCATION;LANGUAGE=de;ENCODING=QUOTED-PRINTABLE:
SUMMARY:Punktspiel Hai Happen vs Die Tasmanischen Teufel
DESCRIPTION;LANGUAGE=de;ENCODING=QUOTED-PRINTABLE:\n\nÜbersicht https://test.dieliga.online/schedule/overview/650
END:VEVENT
BEGIN:VEVENT
UID:event4
DTSTAMP:20260421T081614Z
DTSTART:20260604T173000Z
DTEND:20260604T190000Z
LOCATION;LANGUAGE=de;ENCODING=QUOTED-PRINTABLE:An der Kolonnade\, Apfeltrach
SUMMARY:Punktspiel Netzathleten Stonebridge vs Hai Happen
DESCRIPTION;LANGUAGE=de;ENCODING=QUOTED-PRINTABLE:Halle II\nAn der Kolonnade\n96568 Apfeltrach\n\n\nÜbersicht https://test.dieliga.online/schedule/overview/650
END:VEVENT
BEGIN:VEVENT
UID:event5
DTSTAMP:20260421T081614Z
DTSTART:20260611T174500Z
LOCATION;LANGUAGE=de;ENCODING=QUOTED-PRINTABLE:
SUMMARY:Punktspiel Hai Happen vs Zebradamen
DESCRIPTION;LANGUAGE=de;ENCODING=QUOTED-PRINTABLE:\n\nÜbersicht https://test.dieliga.online/schedule/overview/650
END:VEVENT
BEGIN:VEVENT
UID:event6
DTSTAMP:20260421T081614Z
DTSTART:20260716T180000Z
DTEND:20260716T200000Z
LOCATION;LANGUAGE=de;ENCODING=QUOTED-PRINTABLE:Kesselbrink 19\, Geratskirchen
SUMMARY:Punktspiel Jung\, dynamisch und erfolglos vs Hai Happen
DESCRIPTION;LANGUAGE=de;ENCODING=QUOTED-PRINTABLE:\nKesselbrink 19\nGeratskirchen\nParkplätze vorhanden\n\n\nÜbersicht https://test.dieliga.online/schedule/overview/650
END:VEVENT
BEGIN:VEVENT
UID:event7
DTSTAMP:20260421T081614Z
DTSTART:20260722T174500Z
LOCATION;LANGUAGE=de;ENCODING=QUOTED-PRINTABLE:
SUMMARY:Punktspiel Hai Happen vs Netzquäler
DESCRIPTION;LANGUAGE=de;ENCODING=QUOTED-PRINTABLE:\n\nÜbersicht https://test.dieliga.online/schedule/overview/650
END:VEVENT
BEGIN:VEVENT
UID:event8
DTSTAMP:20260421T081614Z
DTSTART:20260802T180000Z
DTEND:20260802T200000Z
LOCATION;LANGUAGE=de;ENCODING=QUOTED-PRINTABLE:Ernst-Litfaß-Straße 56
SUMMARY:Punktspiel Akademiker und Singels mit Niveau! vs Hai Happen
DESCRIPTION;LANGUAGE=de;ENCODING=QUOTED-PRINTABLE:3fach-Halle (Ausreichende Parkmöglichkeiten sind vor der Halle vorhanden.)\nErnst-Litfaß-Straße 56\n88241 \n\nÜbersicht https://test.dieliga.online/schedule/overview/650
END:VEVENT
BEGIN:VEVENT
UID:event9
DTSTAMP:20260421T081614Z
DTSTART:20260805T174500Z
LOCATION;LANGUAGE=de;ENCODING=QUOTED-PRINTABLE:
SUMMARY:Punktspiel Hai Happen vs Kein Kindergeburtstag
DESCRIPTION;LANGUAGE=de;ENCODING=QUOTED-PRINTABLE:\n\nÜbersicht https://test.dieliga.online/schedule/overview/650
END:VEVENT
BEGIN:VEVENT
UID:event10
DTSTAMP:20260421T081614Z
DTSTART:20260901T171500Z
DTEND:20260901T191500Z
LOCATION;LANGUAGE=de;ENCODING=QUOTED-PRINTABLE:Linder Mauspfad 29\, Holzkirchen
SUMMARY:Punktspiel Die Tasmanischen Teufel vs Hai Happen
DESCRIPTION;LANGUAGE=de;ENCODING=QUOTED-PRINTABLE:Vereinshalle (Parken gut möglich.)\nLinder Mauspfad 29\n62602 Holzkirchen\n\n\nÜbersicht https://test.dieliga.online/schedule/overview/650
END:VEVENT
BEGIN:VEVENT
UID:event11
DTSTAMP:20260421T081614Z
DTSTART:20260905T174500Z
LOCATION;LANGUAGE=de;ENCODING=QUOTED-PRINTABLE:
SUMMARY:Punktspiel Hai Happen vs Netzathleten Stonebridge
DESCRIPTION;LANGUAGE=de;ENCODING=QUOTED-PRINTABLE:\n\nÜbersicht https://test.dieliga.online/schedule/overview/650
END:VEVENT
END:VCALENDAR