BEGIN:VCALENDAR
VERSION:2.0
PRODID:-//dieLiga//DE
BEGIN:VEVENT
UID:event0
DTSTAMP:20260421T082521Z
DTSTART:20260410T183000Z
DTEND:20260410T200000Z
LOCATION;LANGUAGE=de;ENCODING=QUOTED-PRINTABLE:Am Riddershof 17\, Kunreuth
SUMMARY:Punktspiel Schubidu vs Gardoffelsalaad
DESCRIPTION;LANGUAGE=de;ENCODING=QUOTED-PRINTABLE:25:9\, 23:25\, 25:8
END:VEVENT
BEGIN:VEVENT
UID:event1
DTSTAMP:20260421T082521Z
DTSTART:20260417T180000Z
DTEND:20260417T200000Z
LOCATION;LANGUAGE=de;ENCODING=QUOTED-PRINTABLE:Langenhakenweg 16\, Tuntenhausen
SUMMARY:Punktspiel Volleybären vs Schubidu
DESCRIPTION;LANGUAGE=de;ENCODING=QUOTED-PRINTABLE:25:27\, 25:15\, 25:18
END:VEVENT
BEGIN:VEVENT
UID:event2
DTSTAMP:20260421T082521Z
DTSTART:20260426T180000Z
DTEND:20260426T203000Z
LOCATION;LANGUAGE=de;ENCODING=QUOTED-PRINTABLE:Am Eichbächle\, Chieming
SUMMARY:Punktspiel Blockwürstchen vs Schubidu
DESCRIPTION;LANGUAGE=de;ENCODING=QUOTED-PRINTABLE:14:25\, 22:25
END:VEVENT
BEGIN:VEVENT
UID:event3
DTSTAMP:20260421T082521Z
DTSTART:20260514T183000Z
DTEND:20260514T200000Z
LOCATION;LANGUAGE=de;ENCODING=QUOTED-PRINTABLE:Am Riddershof 17\, Kunreuth
SUMMARY:Punktspiel Schubidu vs Waikiki Beachbombers
DESCRIPTION;LANGUAGE=de;ENCODING=QUOTED-PRINTABLE:\nAm Riddershof 17\n97289 Kunreuth\n\n\nÜbersicht https://test.dieliga.online/schedule/overview/649
END:VEVENT
BEGIN:VEVENT
UID:event4
DTSTAMP:20260421T082521Z
DTSTART:20260607T173000Z
DTEND:20260607T193000Z
LOCATION;LANGUAGE=de;ENCODING=QUOTED-PRINTABLE:Fehnkerweg 10\, Geroldshausen
SUMMARY:Punktspiel Sunblocker vs Schubidu
DESCRIPTION;LANGUAGE=de;ENCODING=QUOTED-PRINTABLE:\nFehnkerweg 10\nGeroldshausen\n\n\nÜbersicht https://test.dieliga.online/schedule/overview/649
END:VEVENT
BEGIN:VEVENT
UID:event5
DTSTAMP:20260421T082521Z
DTSTART:20260612T183000Z
DTEND:20260612T200000Z
LOCATION;LANGUAGE=de;ENCODING=QUOTED-PRINTABLE:Am Riddershof 17\, Kunreuth
SUMMARY:Punktspiel Schubidu vs Netz Boxxer
DESCRIPTION;LANGUAGE=de;ENCODING=QUOTED-PRINTABLE:\nAm Riddershof 17\n97289 Kunreuth\n\n\nÜbersicht https://test.dieliga.online/schedule/overview/649
END:VEVENT
BEGIN:VEVENT
UID:event6
DTSTAMP:20260421T082521Z
DTSTART:20260718T170000Z
DTEND:20260718T193000Z
LOCATION;LANGUAGE=de;ENCODING=QUOTED-PRINTABLE:Urselbachstraße 9\, Altenthann
SUMMARY:Punktspiel Die kleinen Hirsche vs Schubidu
DESCRIPTION;LANGUAGE=de;ENCODING=QUOTED-PRINTABLE:mittlere Halle\nUrselbachstraße 9\nAltenthann\n\n\nÜbersicht https://test.dieliga.online/schedule/overview/649
END:VEVENT
BEGIN:VEVENT
UID:event7
DTSTAMP:20260421T082521Z
DTSTART:20260722T181500Z
DTEND:20260722T203000Z
LOCATION;LANGUAGE=de;ENCODING=QUOTED-PRINTABLE:Altheimer Straße 34\, Aßling
SUMMARY:Punktspiel Stauseetigers vs Schubidu
DESCRIPTION;LANGUAGE=de;ENCODING=QUOTED-PRINTABLE:Traglufthalle Sportzentrum\nAltheimer Straße 34\nAßling\n\n\nÜbersicht https://test.dieliga.online/schedule/overview/649
END:VEVENT
BEGIN:VEVENT
UID:event8
DTSTAMP:20260421T082521Z
DTSTART:20260806T173000Z
DTEND:20260806T192000Z
LOCATION;LANGUAGE=de;ENCODING=QUOTED-PRINTABLE:Frickensteinplatz 44\, Reischach
SUMMARY:Punktspiel Gardoffelsalaad vs Schubidu
DESCRIPTION;LANGUAGE=de;ENCODING=QUOTED-PRINTABLE:Halle 1\nFrickensteinplatz 44\nReischach\n\n\nÜbersicht https://test.dieliga.online/schedule/overview/649
END:VEVENT
BEGIN:VEVENT
UID:event9
DTSTAMP:20260421T082521Z
DTSTART:20260827T183000Z
DTEND:20260827T200000Z
LOCATION;LANGUAGE=de;ENCODING=QUOTED-PRINTABLE:Am Riddershof 17\, Kunreuth
SUMMARY:Punktspiel Schubidu vs Volleybären
DESCRIPTION;LANGUAGE=de;ENCODING=QUOTED-PRINTABLE:\nAm Riddershof 17\n97289 Kunreuth\n\n\nÜbersicht https://test.dieliga.online/schedule/overview/649
END:VEVENT
BEGIN:VEVENT
UID:event10
DTSTAMP:20260421T082521Z
DTSTART:20260906T183000Z
DTEND:20260906T200000Z
LOCATION;LANGUAGE=de;ENCODING=QUOTED-PRINTABLE:Am Riddershof 17\, Kunreuth
SUMMARY:Punktspiel Schubidu vs Blockwürstchen
DESCRIPTION;LANGUAGE=de;ENCODING=QUOTED-PRINTABLE:\nAm Riddershof 17\n97289 Kunreuth\n\n\nÜbersicht https://test.dieliga.online/schedule/overview/649
END:VEVENT
BEGIN:VEVENT
UID:event11
DTSTAMP:20260421T082521Z
DTSTART:20260913T170000Z
DTEND:20260913T190000Z
LOCATION;LANGUAGE=de;ENCODING=QUOTED-PRINTABLE:Zum Schulkamp 29\, Piding
SUMMARY:Punktspiel Waikiki Beachbombers vs Schubidu
DESCRIPTION;LANGUAGE=de;ENCODING=QUOTED-PRINTABLE:Halle I (Eingang Sporthallen)\nZum Schulkamp 29\n82021 Piding\n\n\nÜbersicht https://test.dieliga.online/schedule/overview/649
END:VEVENT
BEGIN:VEVENT
UID:event12
DTSTAMP:20260421T082521Z
DTSTART:20260920T183000Z
DTEND:20260920T200000Z
LOCATION;LANGUAGE=de;ENCODING=QUOTED-PRINTABLE:Am Riddershof 17\, Kunreuth
SUMMARY:Punktspiel Schubidu vs Sunblocker
DESCRIPTION;LANGUAGE=de;ENCODING=QUOTED-PRINTABLE:\nAm Riddershof 17\n97289 Kunreuth\n\n\nÜbersicht https://test.dieliga.online/schedule/overview/649
END:VEVENT
BEGIN:VEVENT
UID:event13
DTSTAMP:20260421T082521Z
DTSTART:20261018T183000Z
DTEND:20261018T200000Z
LOCATION;LANGUAGE=de;ENCODING=QUOTED-PRINTABLE:Apfelgarten 42\, Nesselwang
SUMMARY:Punktspiel Netz Boxxer vs Schubidu
DESCRIPTION;LANGUAGE=de;ENCODING=QUOTED-PRINTABLE:3fach-Halle\nApfelgarten 42\n62079 Nesselwang\nParkplatz vor der Halle\n\n\nÜbersicht https://test.dieliga.online/schedule/overview/649
END:VEVENT
BEGIN:VEVENT
UID:event14
DTSTAMP:20260421T082521Z
DTSTART:20261024T183000Z
DTEND:20261024T200000Z
LOCATION;LANGUAGE=de;ENCODING=QUOTED-PRINTABLE:Am Riddershof 17\, Kunreuth
SUMMARY:Punktspiel Schubidu vs Die kleinen Hirsche
DESCRIPTION;LANGUAGE=de;ENCODING=QUOTED-PRINTABLE:\nAm Riddershof 17\n97289 Kunreuth\n\n\nÜbersicht https://test.dieliga.online/schedule/overview/649
END:VEVENT
END:VCALENDAR