BEGIN:VCALENDAR
VERSION:2.0
PRODID:-//dieLiga//DE
BEGIN:VEVENT
UID:event0
DTSTAMP:20260421T082203Z
DTSTART:20260319T180000Z
DTEND:20260319T193000Z
LOCATION;LANGUAGE=de;ENCODING=QUOTED-PRINTABLE:Am Hankhauser Busch 30
SUMMARY:Punktspiel Top im Alter vs Rotkäppchen und der böse Wolf
DESCRIPTION;LANGUAGE=de;ENCODING=QUOTED-PRINTABLE:25:17\, 15:25\, 28:26
END:VEVENT
BEGIN:VEVENT
UID:event1
DTSTAMP:20260421T082203Z
DTSTART:20260410T170000Z
DTEND:20260410T183000Z
LOCATION;LANGUAGE=de;ENCODING=QUOTED-PRINTABLE:Am Hankhauser Busch 30
SUMMARY:Punktspiel Top im Alter vs Vater Abrahm hat seine 7 Söhne
DESCRIPTION;LANGUAGE=de;ENCODING=QUOTED-PRINTABLE:14:25\, 14:25
END:VEVENT
BEGIN:VEVENT
UID:event2
DTSTAMP:20260421T082203Z
DTSTART:20260424T170000Z
DTEND:20260424T183000Z
LOCATION;LANGUAGE=de;ENCODING=QUOTED-PRINTABLE:Am Hankhauser Busch 30
SUMMARY:Punktspiel Top im Alter vs Baller die Waldfee
DESCRIPTION;LANGUAGE=de;ENCODING=QUOTED-PRINTABLE:25:23\, 21:25\, 16:25
END:VEVENT
BEGIN:VEVENT
UID:event3
DTSTAMP:20260421T082203Z
DTSTART:20260515T173000Z
DTEND:20260515T193000Z
LOCATION;LANGUAGE=de;ENCODING=QUOTED-PRINTABLE:Freester Weg 23\, Bad Endorf
SUMMARY:Punktspiel Lustig Baggern vs Top im Alter
DESCRIPTION;LANGUAGE=de;ENCODING=QUOTED-PRINTABLE:\nFreester Weg 23\n94200 Bad Endorf\nsehr schlechte Parkenmöglichkeiten!\n\n\nÜbersicht https://test.dieliga.online/schedule/overview/651
END:VEVENT
BEGIN:VEVENT
UID:event4
DTSTAMP:20260421T082203Z
DTSTART:20260605T170000Z
DTEND:20260605T183000Z
LOCATION;LANGUAGE=de;ENCODING=QUOTED-PRINTABLE:Am Hankhauser Busch 30
SUMMARY:Punktspiel Top im Alter vs Die glücklichen Hummeln
DESCRIPTION;LANGUAGE=de;ENCODING=QUOTED-PRINTABLE:Halle 1\nAm Hankhauser Busch 30\n\n\nÜbersicht https://test.dieliga.online/schedule/overview/651
END:VEVENT
BEGIN:VEVENT
UID:event5
DTSTAMP:20260421T082203Z
DTSTART:20260614T173000Z
DTEND:20260614T200000Z
LOCATION;LANGUAGE=de;ENCODING=QUOTED-PRINTABLE:Eichamtstraße 52\, Altenkunstadt
SUMMARY:Punktspiel Rookies vs Top im Alter
DESCRIPTION;LANGUAGE=de;ENCODING=QUOTED-PRINTABLE:Hauptschulturnhalle\nEichamtstraße 52\n42609 Altenkunstadt\n\n\nÜbersicht https://test.dieliga.online/schedule/overview/651
END:VEVENT
BEGIN:VEVENT
UID:event6
DTSTAMP:20260421T082203Z
DTSTART:20260716T173000Z
DTEND:20260716T190000Z
LOCATION;LANGUAGE=de;ENCODING=QUOTED-PRINTABLE:Synagogenplatz 27\, Schöllkrippen
SUMMARY:Punktspiel Doppelpunkt vs Top im Alter
DESCRIPTION;LANGUAGE=de;ENCODING=QUOTED-PRINTABLE:linke Halle\nSynagogenplatz 27\n57270 Schöllkrippen\n\n\nÜbersicht https://test.dieliga.online/schedule/overview/651
END:VEVENT
BEGIN:VEVENT
UID:event7
DTSTAMP:20260421T082203Z
DTSTART:20260722T174500Z
DTEND:20260722T194500Z
LOCATION;LANGUAGE=de;ENCODING=QUOTED-PRINTABLE:Geniner Dorfstraße 25\, Syrgenstein
SUMMARY:Punktspiel Rotkäppchen und der böse Wolf vs Top im Alter
DESCRIPTION;LANGUAGE=de;ENCODING=QUOTED-PRINTABLE:Halle 1\, links (AKTUELL NOCH IMMER KEINE DUSCHEN!!!!!)\nGeniner Dorfstraße 25\n80771 Syrgenstein\nEingang/Parken Oberer Schozachweg\n\n\nÜbersicht https://test.dieliga.online/schedule/overview/651
END:VEVENT
BEGIN:VEVENT
UID:event8
DTSTAMP:20260421T082203Z
DTSTART:20260730T170000Z
DTEND:20260730T183000Z
LOCATION;LANGUAGE=de;ENCODING=QUOTED-PRINTABLE:Am Hankhauser Busch 30
SUMMARY:Punktspiel Top im Alter vs Familienbande
DESCRIPTION;LANGUAGE=de;ENCODING=QUOTED-PRINTABLE:Halle 1\nAm Hankhauser Busch 30\n\n\nÜbersicht https://test.dieliga.online/schedule/overview/651
END:VEVENT
BEGIN:VEVENT
UID:event9
DTSTAMP:20260421T082203Z
DTSTART:20260806T170500Z
DTEND:20260806T193000Z
LOCATION;LANGUAGE=de;ENCODING=QUOTED-PRINTABLE:Belremstraße 34\, Wolfsegg
SUMMARY:Punktspiel Vater Abrahm hat seine 7 Söhne vs Top im Alter
DESCRIPTION;LANGUAGE=de;ENCODING=QUOTED-PRINTABLE:Goldachhalle\nBelremstraße 34\n95666 Wolfsegg\nBitte nicht auf dem Lehrerparkplatz stellen\, sondern in den (Klein-)Straßen. Ausreichend Plätze da (max. so 2 Min. zur Halle)\n\n\nÜbersicht https://test.dieliga.online/schedule/overview/651
END:VEVENT
BEGIN:VEVENT
UID:event10
DTSTAMP:20260421T082203Z
DTSTART:20260905T173000Z
DTEND:20260905T193000Z
LOCATION;LANGUAGE=de;ENCODING=QUOTED-PRINTABLE:Falstaffweg 4\, Donnersdorf
SUMMARY:Punktspiel Baller die Waldfee vs Top im Alter
DESCRIPTION;LANGUAGE=de;ENCODING=QUOTED-PRINTABLE:Halle 1\, links (Es stehen wenige kostenlose Parkplätze zur Verfügung.)\nFalstaffweg 4\n34210 Donnersdorf\nEingang gegenüber Tramhaltestelle\n\n\nÜbersicht https://test.dieliga.online/schedule/overview/651
END:VEVENT
BEGIN:VEVENT
UID:event11
DTSTAMP:20260421T082203Z
DTSTART:20260913T170000Z
DTEND:20260913T183000Z
LOCATION;LANGUAGE=de;ENCODING=QUOTED-PRINTABLE:Am Hankhauser Busch 30
SUMMARY:Punktspiel Top im Alter vs Lustig Baggern
DESCRIPTION;LANGUAGE=de;ENCODING=QUOTED-PRINTABLE:Halle 1\nAm Hankhauser Busch 30\n\n\nÜbersicht https://test.dieliga.online/schedule/overview/651
END:VEVENT
BEGIN:VEVENT
UID:event12
DTSTAMP:20260421T082203Z
DTSTART:20260921T170000Z
DTEND:20260921T193000Z
LOCATION;LANGUAGE=de;ENCODING=QUOTED-PRINTABLE:In Schwanel 47\, Gerhardshofen
SUMMARY:Punktspiel Die glücklichen Hummeln vs Top im Alter
DESCRIPTION;LANGUAGE=de;ENCODING=QUOTED-PRINTABLE:linke Halle (Hallen-Eingang Zur Wümmediele)\nIn Schwanel 47\nGerhardshofen\n\n\nÜbersicht https://test.dieliga.online/schedule/overview/651
END:VEVENT
BEGIN:VEVENT
UID:event13
DTSTAMP:20260421T082203Z
DTSTART:20261017T170000Z
DTEND:20261017T183000Z
LOCATION;LANGUAGE=de;ENCODING=QUOTED-PRINTABLE:Am Hankhauser Busch 30
SUMMARY:Punktspiel Top im Alter vs Rookies
DESCRIPTION;LANGUAGE=de;ENCODING=QUOTED-PRINTABLE:Halle 1\nAm Hankhauser Busch 30\n\n\nÜbersicht https://test.dieliga.online/schedule/overview/651
END:VEVENT
BEGIN:VEVENT
UID:event14
DTSTAMP:20260421T082203Z
DTSTART:20261024T170000Z
DTEND:20261024T183000Z
LOCATION;LANGUAGE=de;ENCODING=QUOTED-PRINTABLE:Am Hankhauser Busch 30
SUMMARY:Punktspiel Top im Alter vs Doppelpunkt
DESCRIPTION;LANGUAGE=de;ENCODING=QUOTED-PRINTABLE:Halle 1\nAm Hankhauser Busch 30\n\n\nÜbersicht https://test.dieliga.online/schedule/overview/651
END:VEVENT
END:VCALENDAR