BEGIN:VCALENDAR
VERSION:2.0
PRODID:-//dieLiga//DE
BEGIN:VEVENT
UID:event0
DTSTAMP:20260421T070621Z
DTSTART:20260319T180000Z
DTEND:20260319T200000Z
LOCATION;LANGUAGE=de;ENCODING=QUOTED-PRINTABLE:Zum Schulkamp 29\, Piding
SUMMARY:Punktspiel Waikiki Beachbombers vs Netz Boxxer
DESCRIPTION;LANGUAGE=de;ENCODING=QUOTED-PRINTABLE:15:25\, 20:25
END:VEVENT
BEGIN:VEVENT
UID:event1
DTSTAMP:20260421T070621Z
DTSTART:20260328T180000Z
DTEND:20260328T203000Z
LOCATION;LANGUAGE=de;ENCODING=QUOTED-PRINTABLE:Urselbachstraße 9\, Altenthann
SUMMARY:Punktspiel Die kleinen Hirsche vs Waikiki Beachbombers
DESCRIPTION;LANGUAGE=de;ENCODING=QUOTED-PRINTABLE:25:18\, 17:25\, 25:20
END:VEVENT
BEGIN:VEVENT
UID:event2
DTSTAMP:20260421T070621Z
DTSTART:20260410T170000Z
DTEND:20260410T190000Z
LOCATION;LANGUAGE=de;ENCODING=QUOTED-PRINTABLE:Zum Schulkamp 29\, Piding
SUMMARY:Punktspiel Waikiki Beachbombers vs Stauseetigers
DESCRIPTION;LANGUAGE=de;ENCODING=QUOTED-PRINTABLE:22:25\, 21:25
END:VEVENT
BEGIN:VEVENT
UID:event3
DTSTAMP:20260421T070621Z
DTSTART:20260424T170000Z
DTEND:20260424T190000Z
LOCATION;LANGUAGE=de;ENCODING=QUOTED-PRINTABLE:Zum Schulkamp 29\, Piding
SUMMARY:Punktspiel Waikiki Beachbombers vs Gardoffelsalaad
DESCRIPTION;LANGUAGE=de;ENCODING=QUOTED-PRINTABLE:25:22\, 25:19
END:VEVENT
BEGIN:VEVENT
UID:event4
DTSTAMP:20260421T070621Z
DTSTART:20260514T183000Z
DTEND:20260514T200000Z
LOCATION;LANGUAGE=de;ENCODING=QUOTED-PRINTABLE:Am Riddershof 17\, Kunreuth
SUMMARY:Punktspiel Schubidu vs Waikiki Beachbombers
DESCRIPTION;LANGUAGE=de;ENCODING=QUOTED-PRINTABLE:\nAm Riddershof 17\n97289 Kunreuth\n\n\nÜbersicht https://test.dieliga.online/schedule/overview/649
END:VEVENT
BEGIN:VEVENT
UID:event5
DTSTAMP:20260421T070621Z
DTSTART:20260605T170000Z
DTEND:20260605T190000Z
LOCATION;LANGUAGE=de;ENCODING=QUOTED-PRINTABLE:Zum Schulkamp 29\, Piding
SUMMARY:Punktspiel Waikiki Beachbombers vs Blockwürstchen
DESCRIPTION;LANGUAGE=de;ENCODING=QUOTED-PRINTABLE:Halle I (Eingang Sporthallen)\nZum Schulkamp 29\n82021 Piding\n\n\nÜbersicht https://test.dieliga.online/schedule/overview/649
END:VEVENT
BEGIN:VEVENT
UID:event6
DTSTAMP:20260421T070621Z
DTSTART:20260612T180000Z
DTEND:20260612T200000Z
LOCATION;LANGUAGE=de;ENCODING=QUOTED-PRINTABLE:Langenhakenweg 16\, Tuntenhausen
SUMMARY:Punktspiel Volleybären vs Waikiki Beachbombers
DESCRIPTION;LANGUAGE=de;ENCODING=QUOTED-PRINTABLE:3fach-Halle\nLangenhakenweg 16\n26798 Tuntenhausen\n\n\nÜbersicht https://test.dieliga.online/schedule/overview/649
END:VEVENT
BEGIN:VEVENT
UID:event7
DTSTAMP:20260421T070621Z
DTSTART:20260718T173000Z
DTEND:20260718T193000Z
LOCATION;LANGUAGE=de;ENCODING=QUOTED-PRINTABLE:Fehnkerweg 10\, Geroldshausen
SUMMARY:Punktspiel Sunblocker vs Waikiki Beachbombers
DESCRIPTION;LANGUAGE=de;ENCODING=QUOTED-PRINTABLE:\nFehnkerweg 10\nGeroldshausen\n\n\nÜbersicht https://test.dieliga.online/schedule/overview/649
END:VEVENT
BEGIN:VEVENT
UID:event8
DTSTAMP:20260421T070621Z
DTSTART:20260724T183000Z
DTEND:20260724T200000Z
LOCATION;LANGUAGE=de;ENCODING=QUOTED-PRINTABLE:Apfelgarten 42\, Nesselwang
SUMMARY:Punktspiel Netz Boxxer vs Waikiki Beachbombers
DESCRIPTION;LANGUAGE=de;ENCODING=QUOTED-PRINTABLE:3fach-Halle\nApfelgarten 42\n62079 Nesselwang\nParkplatz vor der Halle\n\n\nÜbersicht https://test.dieliga.online/schedule/overview/649
END:VEVENT
BEGIN:VEVENT
UID:event9
DTSTAMP:20260421T070621Z
DTSTART:20260730T170000Z
DTEND:20260730T190000Z
LOCATION;LANGUAGE=de;ENCODING=QUOTED-PRINTABLE:Zum Schulkamp 29\, Piding
SUMMARY:Punktspiel Waikiki Beachbombers vs Die kleinen Hirsche
DESCRIPTION;LANGUAGE=de;ENCODING=QUOTED-PRINTABLE:Halle I (Eingang Sporthallen)\nZum Schulkamp 29\n82021 Piding\n\n\nÜbersicht https://test.dieliga.online/schedule/overview/649
END:VEVENT
BEGIN:VEVENT
UID:event10
DTSTAMP:20260421T070621Z
DTSTART:20260805T181500Z
DTEND:20260805T203000Z
LOCATION;LANGUAGE=de;ENCODING=QUOTED-PRINTABLE:Altheimer Straße 34\, Aßling
SUMMARY:Punktspiel Stauseetigers vs Waikiki Beachbombers
DESCRIPTION;LANGUAGE=de;ENCODING=QUOTED-PRINTABLE:Traglufthalle Sportzentrum\nAltheimer Straße 34\nAßling\n\n\nÜbersicht https://test.dieliga.online/schedule/overview/649
END:VEVENT
BEGIN:VEVENT
UID:event11
DTSTAMP:20260421T070621Z
DTSTART:20260906T173000Z
DTEND:20260906T192000Z
LOCATION;LANGUAGE=de;ENCODING=QUOTED-PRINTABLE:Frickensteinplatz 44\, Reischach
SUMMARY:Punktspiel Gardoffelsalaad vs Waikiki Beachbombers
DESCRIPTION;LANGUAGE=de;ENCODING=QUOTED-PRINTABLE:Halle 1\nFrickensteinplatz 44\nReischach\n\n\nÜbersicht https://test.dieliga.online/schedule/overview/649
END:VEVENT
BEGIN:VEVENT
UID:event12
DTSTAMP:20260421T070621Z
DTSTART:20260913T170000Z
DTEND:20260913T190000Z
LOCATION;LANGUAGE=de;ENCODING=QUOTED-PRINTABLE:Zum Schulkamp 29\, Piding
SUMMARY:Punktspiel Waikiki Beachbombers vs Schubidu
DESCRIPTION;LANGUAGE=de;ENCODING=QUOTED-PRINTABLE:Halle I (Eingang Sporthallen)\nZum Schulkamp 29\n82021 Piding\n\n\nÜbersicht https://test.dieliga.online/schedule/overview/649
END:VEVENT
BEGIN:VEVENT
UID:event13
DTSTAMP:20260421T070621Z
DTSTART:20260922T180000Z
DTEND:20260922T203000Z
LOCATION;LANGUAGE=de;ENCODING=QUOTED-PRINTABLE:Am Eichbächle\, Chieming
SUMMARY:Punktspiel Blockwürstchen vs Waikiki Beachbombers
DESCRIPTION;LANGUAGE=de;ENCODING=QUOTED-PRINTABLE:Traglufthalle Sportzentrum\nAm Eichbächle\n55004 Chieming\n\n\nÜbersicht https://test.dieliga.online/schedule/overview/649
END:VEVENT
BEGIN:VEVENT
UID:event14
DTSTAMP:20260421T070621Z
DTSTART:20261017T170000Z
DTEND:20261017T190000Z
LOCATION;LANGUAGE=de;ENCODING=QUOTED-PRINTABLE:Zum Schulkamp 29\, Piding
SUMMARY:Punktspiel Waikiki Beachbombers vs Volleybären
DESCRIPTION;LANGUAGE=de;ENCODING=QUOTED-PRINTABLE:Halle I (Eingang Sporthallen)\nZum Schulkamp 29\n82021 Piding\n\n\nÜbersicht https://test.dieliga.online/schedule/overview/649
END:VEVENT
BEGIN:VEVENT
UID:event15
DTSTAMP:20260421T070621Z
DTSTART:20261024T170000Z
DTEND:20261024T190000Z
LOCATION;LANGUAGE=de;ENCODING=QUOTED-PRINTABLE:Zum Schulkamp 29\, Piding
SUMMARY:Punktspiel Waikiki Beachbombers vs Sunblocker
DESCRIPTION;LANGUAGE=de;ENCODING=QUOTED-PRINTABLE:Halle I (Eingang Sporthallen)\nZum Schulkamp 29\n82021 Piding\n\n\nÜbersicht https://test.dieliga.online/schedule/overview/649
END:VEVENT
END:VCALENDAR