BEGIN:VCALENDAR
VERSION:2.0
PRODID:-//dieLiga//DE
BEGIN:VEVENT
UID:event0
DTSTAMP:20260421T070652Z
DTSTART:20260327T184500Z
DTEND:20260327T204500Z
LOCATION;LANGUAGE=de;ENCODING=QUOTED-PRINTABLE:Vorhölterstraße 38\, Kammlach
SUMMARY:Punktspiel SMarties vs Angry Nerds
DESCRIPTION;LANGUAGE=de;ENCODING=QUOTED-PRINTABLE:9:25\, 25:11\, 25:16
END:VEVENT
BEGIN:VEVENT
UID:event1
DTSTAMP:20260421T070652Z
DTSTART:20260409T180000Z
DTEND:20260409T200000Z
LOCATION;LANGUAGE=de;ENCODING=QUOTED-PRINTABLE:Erbenova 45\, Kranzberg
SUMMARY:Punktspiel Angry Nerds vs Trockeneis
DESCRIPTION;LANGUAGE=de;ENCODING=QUOTED-PRINTABLE:17:25\, 25:13\, 25:10
END:VEVENT
BEGIN:VEVENT
UID:event2
DTSTAMP:20260421T070652Z
DTSTART:20260416T173000Z
DTEND:20260416T193000Z
LOCATION;LANGUAGE=de;ENCODING=QUOTED-PRINTABLE:Hohlleite 49\, Eitensheim
SUMMARY:Punktspiel NimDuIchHabIhnSicha vs Angry Nerds
DESCRIPTION;LANGUAGE=de;ENCODING=QUOTED-PRINTABLE:25:20\, 25:23
END:VEVENT
BEGIN:VEVENT
UID:event3
DTSTAMP:20260421T070652Z
DTSTART:20260423T180000Z
DTEND:20260423T200000Z
LOCATION;LANGUAGE=de;ENCODING=QUOTED-PRINTABLE:Erbenova 45\, Kranzberg
SUMMARY:Punktspiel Angry Nerds vs Krampfadergeschwader
DESCRIPTION;LANGUAGE=de;ENCODING=QUOTED-PRINTABLE:25:23\, 25:22
END:VEVENT
BEGIN:VEVENT
UID:event4
DTSTAMP:20260421T070652Z
DTSTART:20260514T173000Z
DTEND:20260514T193000Z
LOCATION;LANGUAGE=de;ENCODING=QUOTED-PRINTABLE:Heiliggrabstraße\, Habach
SUMMARY:Punktspiel Sonnige Grüße\, sandige Füße vs Angry Nerds
DESCRIPTION;LANGUAGE=de;ENCODING=QUOTED-PRINTABLE:Elly-Heuss-Realschule\nHeiliggrabstraße\nHabach\n\n\nÜbersicht https://test.dieliga.online/schedule/overview/647
END:VEVENT
BEGIN:VEVENT
UID:event5
DTSTAMP:20260421T070652Z
DTSTART:20260604T173000Z
DTEND:20260604T194500Z
LOCATION;LANGUAGE=de;ENCODING=QUOTED-PRINTABLE:Kirchenring 45\, Brand
SUMMARY:Punktspiel Killerbienen vs Angry Nerds
DESCRIPTION;LANGUAGE=de;ENCODING=QUOTED-PRINTABLE:Sporthalle am Hallenbad (In der Ferienzeit kein Trainingsbetrieb möglich)\nKirchenring 45\n47119 Brand\ngegenüber der Feuerwehr\n\n\nÜbersicht https://test.dieliga.online/schedule/overview/647
END:VEVENT
BEGIN:VEVENT
UID:event6
DTSTAMP:20260421T070652Z
DTSTART:20260613T180000Z
DTEND:20260613T194500Z
LOCATION;LANGUAGE=de;ENCODING=QUOTED-PRINTABLE:Heidbüchel 22\, Eching
SUMMARY:Punktspiel Die Überspitzen vs Angry Nerds
DESCRIPTION;LANGUAGE=de;ENCODING=QUOTED-PRINTABLE:Gemeindehalle (bei der Schule) (keine Straßenschuhe in der Halle\; in den Schulferien KEIN Hallentraining)\nHeidbüchel 22\n58210 Eching\nEingang befindet sich gegenüber Korseltstraße: durch das kleine Tor\, dann einmal quer über den Pausenhof\, die Turnhalle ist 2. OG\n\n\nÜbersicht https://test.dieliga.online/schedule/overview/647
END:VEVENT
BEGIN:VEVENT
UID:event7
DTSTAMP:20260421T070652Z
DTSTART:20260715T180000Z
DTEND:20260715T200000Z
LOCATION;LANGUAGE=de;ENCODING=QUOTED-PRINTABLE:Erbenova 45\, Kranzberg
SUMMARY:Punktspiel Angry Nerds vs SMarties
DESCRIPTION;LANGUAGE=de;ENCODING=QUOTED-PRINTABLE:obere Halle\nErbenova 45\n33124 Kranzberg\n\n\nÜbersicht https://test.dieliga.online/schedule/overview/647
END:VEVENT
BEGIN:VEVENT
UID:event8
DTSTAMP:20260421T070652Z
DTSTART:20260722T180000Z
DTEND:20260722T200000Z
LOCATION;LANGUAGE=de;ENCODING=QUOTED-PRINTABLE:An der Waldlust 33\, Kirchdorf
SUMMARY:Punktspiel Trockeneis vs Angry Nerds
DESCRIPTION;LANGUAGE=de;ENCODING=QUOTED-PRINTABLE:Mehrzweckhalle (keine Parkmöglichkeit)\nAn der Waldlust 33\n66301 Kirchdorf\n\n\nÜbersicht https://test.dieliga.online/schedule/overview/647
END:VEVENT
BEGIN:VEVENT
UID:event9
DTSTAMP:20260421T070652Z
DTSTART:20260729T180000Z
DTEND:20260729T200000Z
LOCATION;LANGUAGE=de;ENCODING=QUOTED-PRINTABLE:Erbenova 45\, Kranzberg
SUMMARY:Punktspiel Angry Nerds vs NimDuIchHabIhnSicha
DESCRIPTION;LANGUAGE=de;ENCODING=QUOTED-PRINTABLE:obere Halle\nErbenova 45\n33124 Kranzberg\n\n\nÜbersicht https://test.dieliga.online/schedule/overview/647
END:VEVENT
BEGIN:VEVENT
UID:event10
DTSTAMP:20260421T070652Z
DTSTART:20260806T183000Z
DTEND:20260806T200000Z
LOCATION;LANGUAGE=de;ENCODING=QUOTED-PRINTABLE:Schmitzstraße 15\, Westendorf
SUMMARY:Punktspiel Krampfadergeschwader vs Angry Nerds
DESCRIPTION;LANGUAGE=de;ENCODING=QUOTED-PRINTABLE:Mehrzweckhalle\nSchmitzstraße 15\n92936 Westendorf\n\n\nÜbersicht https://test.dieliga.online/schedule/overview/647
END:VEVENT
BEGIN:VEVENT
UID:event11
DTSTAMP:20260421T070652Z
DTSTART:20260826T180000Z
DTEND:20260826T200000Z
LOCATION;LANGUAGE=de;ENCODING=QUOTED-PRINTABLE:Erbenova 45\, Kranzberg
SUMMARY:Punktspiel Angry Nerds vs Sonnige Grüße\, sandige Füße
DESCRIPTION;LANGUAGE=de;ENCODING=QUOTED-PRINTABLE:obere Halle\nErbenova 45\n33124 Kranzberg\n\n\nÜbersicht https://test.dieliga.online/schedule/overview/647
END:VEVENT
BEGIN:VEVENT
UID:event12
DTSTAMP:20260421T070652Z
DTSTART:20260905T180000Z
DTEND:20260905T200000Z
LOCATION;LANGUAGE=de;ENCODING=QUOTED-PRINTABLE:Erbenova 45\, Kranzberg
SUMMARY:Punktspiel Angry Nerds vs Killerbienen
DESCRIPTION;LANGUAGE=de;ENCODING=QUOTED-PRINTABLE:obere Halle\nErbenova 45\n33124 Kranzberg\n\n\nÜbersicht https://test.dieliga.online/schedule/overview/647
END:VEVENT
END:VCALENDAR