BEGIN:VCALENDAR
VERSION:2.0
PRODID:-//dieLiga//DE
BEGIN:VEVENT
UID:event0
DTSTAMP:20260421T082133Z
DTSTART:20260405T171500Z
DTEND:20260405T191500Z
LOCATION;LANGUAGE=de;ENCODING=QUOTED-PRINTABLE:Linder Mauspfad 29\, Holzkirchen
SUMMARY:Punktspiel Die Tasmanischen Teufel vs Netzquäler
DESCRIPTION;LANGUAGE=de;ENCODING=QUOTED-PRINTABLE:25:20\, 25:22
END:VEVENT
BEGIN:VEVENT
UID:event1
DTSTAMP:20260421T082133Z
DTSTART:20260412T171500Z
DTEND:20260412T191500Z
LOCATION;LANGUAGE=de;ENCODING=QUOTED-PRINTABLE:Linder Mauspfad 29\, Holzkirchen
SUMMARY:Punktspiel Die Tasmanischen Teufel vs Netzathleten Stonebridge
DESCRIPTION;LANGUAGE=de;ENCODING=QUOTED-PRINTABLE:10:25\, 25:20\, 22:25
END:VEVENT
BEGIN:VEVENT
UID:event2
DTSTAMP:20260421T082133Z
DTSTART:20260417T180000Z
DTEND:20260417T200000Z
LOCATION;LANGUAGE=de;ENCODING=QUOTED-PRINTABLE:Kesselbrink 19\, Geratskirchen
SUMMARY:Punktspiel Jung\, dynamisch und erfolglos vs Die Tasmanischen Teufel
DESCRIPTION;LANGUAGE=de;ENCODING=QUOTED-PRINTABLE:\nKesselbrink 19\nGeratskirchen\nParkplätze vorhanden\n\n\nÜbersicht https://test.dieliga.online/schedule/overview/650
END:VEVENT
BEGIN:VEVENT
UID:event3
DTSTAMP:20260421T082133Z
DTSTART:20260426T171500Z
DTEND:20260426T191500Z
LOCATION;LANGUAGE=de;ENCODING=QUOTED-PRINTABLE:Linder Mauspfad 29\, Holzkirchen
SUMMARY:Punktspiel Die Tasmanischen Teufel vs Akademiker und Singels mit Niveau!
DESCRIPTION;LANGUAGE=de;ENCODING=QUOTED-PRINTABLE:10:25\, 10:25
END:VEVENT
BEGIN:VEVENT
UID:event4
DTSTAMP:20260421T082133Z
DTSTART:20260513T174500Z
LOCATION;LANGUAGE=de;ENCODING=QUOTED-PRINTABLE:
SUMMARY:Punktspiel Hai Happen vs Die Tasmanischen Teufel
DESCRIPTION;LANGUAGE=de;ENCODING=QUOTED-PRINTABLE:\n\nÜbersicht https://test.dieliga.online/schedule/overview/650
END:VEVENT
BEGIN:VEVENT
UID:event5
DTSTAMP:20260421T082133Z
DTSTART:20260606T180000Z
DTEND:20260606T200000Z
LOCATION;LANGUAGE=de;ENCODING=QUOTED-PRINTABLE:Von-Alten-Allee 5\, Bogen
SUMMARY:Punktspiel Zebradamen vs Die Tasmanischen Teufel
DESCRIPTION;LANGUAGE=de;ENCODING=QUOTED-PRINTABLE:Gemeindehalle (bei der Schule)\nVon-Alten-Allee 5\n62011 Bogen\nBitte eigene Bälle mitbringen! \n\n\nÜbersicht https://test.dieliga.online/schedule/overview/650
END:VEVENT
BEGIN:VEVENT
UID:event6
DTSTAMP:20260421T082133Z
DTSTART:20260613T170000Z
DTEND:20260613T200000Z
LOCATION;LANGUAGE=de;ENCODING=QUOTED-PRINTABLE:Am Neudeck 19\, Arnstein
SUMMARY:Punktspiel Netzquäler vs Die Tasmanischen Teufel
DESCRIPTION;LANGUAGE=de;ENCODING=QUOTED-PRINTABLE:Gymnasium\nAm Neudeck 19\n25398 Arnstein\n\n\nÜbersicht https://test.dieliga.online/schedule/overview/650
END:VEVENT
BEGIN:VEVENT
UID:event7
DTSTAMP:20260421T082133Z
DTSTART:20260718T171500Z
DTEND:20260718T191500Z
LOCATION;LANGUAGE=de;ENCODING=QUOTED-PRINTABLE:Linder Mauspfad 29\, Holzkirchen
SUMMARY:Punktspiel Die Tasmanischen Teufel vs Kein Kindergeburtstag
DESCRIPTION;LANGUAGE=de;ENCODING=QUOTED-PRINTABLE:Vereinshalle (Parken gut möglich.)\nLinder Mauspfad 29\n62602 Holzkirchen\n\n\nÜbersicht https://test.dieliga.online/schedule/overview/650
END:VEVENT
BEGIN:VEVENT
UID:event8
DTSTAMP:20260421T082133Z
DTSTART:20260722T173000Z
DTEND:20260722T190000Z
LOCATION;LANGUAGE=de;ENCODING=QUOTED-PRINTABLE:An der Kolonnade\, Apfeltrach
SUMMARY:Punktspiel Netzathleten Stonebridge vs Die Tasmanischen Teufel
DESCRIPTION;LANGUAGE=de;ENCODING=QUOTED-PRINTABLE:Halle II\nAn der Kolonnade\n96568 Apfeltrach\n\n\nÜbersicht https://test.dieliga.online/schedule/overview/650
END:VEVENT
BEGIN:VEVENT
UID:event9
DTSTAMP:20260421T082133Z
DTSTART:20260801T171500Z
DTEND:20260801T191500Z
LOCATION;LANGUAGE=de;ENCODING=QUOTED-PRINTABLE:Linder Mauspfad 29\, Holzkirchen
SUMMARY:Punktspiel Die Tasmanischen Teufel vs Jung\, dynamisch und erfolglos
DESCRIPTION;LANGUAGE=de;ENCODING=QUOTED-PRINTABLE:Vereinshalle (Parken gut möglich.)\nLinder Mauspfad 29\n62602 Holzkirchen\n\n\nÜbersicht https://test.dieliga.online/schedule/overview/650
END:VEVENT
BEGIN:VEVENT
UID:event10
DTSTAMP:20260421T082133Z
DTSTART:20260809T180000Z
DTEND:20260809T200000Z
LOCATION;LANGUAGE=de;ENCODING=QUOTED-PRINTABLE:Ernst-Litfaß-Straße 56
SUMMARY:Punktspiel Akademiker und Singels mit Niveau! vs Die Tasmanischen Teufel
DESCRIPTION;LANGUAGE=de;ENCODING=QUOTED-PRINTABLE:3fach-Halle (Ausreichende Parkmöglichkeiten sind vor der Halle vorhanden.)\nErnst-Litfaß-Straße 56\n88241 \n\nÜbersicht https://test.dieliga.online/schedule/overview/650
END:VEVENT
BEGIN:VEVENT
UID:event11
DTSTAMP:20260421T082133Z
DTSTART:20260901T171500Z
DTEND:20260901T191500Z
LOCATION;LANGUAGE=de;ENCODING=QUOTED-PRINTABLE:Linder Mauspfad 29\, Holzkirchen
SUMMARY:Punktspiel Die Tasmanischen Teufel vs Hai Happen
DESCRIPTION;LANGUAGE=de;ENCODING=QUOTED-PRINTABLE:Vereinshalle (Parken gut möglich.)\nLinder Mauspfad 29\n62602 Holzkirchen\n\n\nÜbersicht https://test.dieliga.online/schedule/overview/650
END:VEVENT
BEGIN:VEVENT
UID:event12
DTSTAMP:20260421T082133Z
DTSTART:20260908T171500Z
DTEND:20260908T191500Z
LOCATION;LANGUAGE=de;ENCODING=QUOTED-PRINTABLE:Linder Mauspfad 29\, Holzkirchen
SUMMARY:Punktspiel Die Tasmanischen Teufel vs Zebradamen
DESCRIPTION;LANGUAGE=de;ENCODING=QUOTED-PRINTABLE:Vereinshalle (Parken gut möglich.)\nLinder Mauspfad 29\n62602 Holzkirchen\n\n\nÜbersicht https://test.dieliga.online/schedule/overview/650
END:VEVENT
END:VCALENDAR