BEGIN:VCALENDAR
VERSION:2.0
PRODID:-//dieLiga//DE
BEGIN:VEVENT
UID:event0
DTSTAMP:20260423T084039Z
DTSTART:20260326T180500Z
DTEND:20260326T203000Z
LOCATION;LANGUAGE=de;ENCODING=QUOTED-PRINTABLE:Auf dem Stoppelkamp 41\, Benningen
SUMMARY:Punktspiel Hanuta vs Die Hottentotten
DESCRIPTION;LANGUAGE=de;ENCODING=QUOTED-PRINTABLE:25:4\, 25:6
END:VEVENT
BEGIN:VEVENT
UID:event1
DTSTAMP:20260423T084039Z
DTSTART:20260416T173000Z
DTEND:20260416T193000Z
LOCATION;LANGUAGE=de;ENCODING=QUOTED-PRINTABLE:Merreter 30\, Pielenhofen
SUMMARY:Punktspiel Mutti spielt 1.Männer vs Die Hottentotten
DESCRIPTION;LANGUAGE=de;ENCODING=QUOTED-PRINTABLE:27:25\, 25:12
END:VEVENT
BEGIN:VEVENT
UID:event2
DTSTAMP:20260423T084039Z
DTSTART:20260425T170000Z
DTEND:20260425T193000Z
LOCATION;LANGUAGE=de;ENCODING=QUOTED-PRINTABLE:Claus-Wiese-Straße 58\, Reit im Winkl
SUMMARY:Punktspiel Die Hottentotten vs We don’t care
DESCRIPTION;LANGUAGE=de;ENCODING=QUOTED-PRINTABLE:14:25\, 13:25
END:VEVENT
BEGIN:VEVENT
UID:event3
DTSTAMP:20260423T084039Z
DTSTART:20260516T173000Z
DTEND:20260516T200000Z
LOCATION;LANGUAGE=de;ENCODING=QUOTED-PRINTABLE:Maurenstraße 6\, Nassenfels
SUMMARY:Punktspiel Mut zur Lücke vs Die Hottentotten
DESCRIPTION;LANGUAGE=de;ENCODING=QUOTED-PRINTABLE:Halle 1\, links\nMaurenstraße 6\n37496 Nassenfels\n\n\nÜbersicht https://test.dieliga.online/schedule/overview/651
END:VEVENT
BEGIN:VEVENT
UID:event4
DTSTAMP:20260423T084039Z
DTSTART:20260605T170000Z
DTEND:20260605T183000Z
LOCATION;LANGUAGE=de;ENCODING=QUOTED-PRINTABLE:Albert-Kuntz-Straße 17
SUMMARY:Punktspiel 4 und ein Keks vs Die Hottentotten
DESCRIPTION;LANGUAGE=de;ENCODING=QUOTED-PRINTABLE:Dreifachhalle\nAlbert-Kuntz-Straße 17\n\n\nÜbersicht https://test.dieliga.online/schedule/overview/651
END:VEVENT
BEGIN:VEVENT
UID:event5
DTSTAMP:20260423T084039Z
DTSTART:20260618T170000Z
LOCATION;LANGUAGE=de;ENCODING=QUOTED-PRINTABLE:
SUMMARY:Punktspiel Die Hottentotten vs Volleybären
DESCRIPTION;LANGUAGE=de;ENCODING=QUOTED-PRINTABLE:\n\nÜbersicht https://test.dieliga.online/schedule/overview/651
END:VEVENT
BEGIN:VEVENT
UID:event6
DTSTAMP:20260423T084039Z
DTSTART:20260715T174500Z
DTEND:20260715T194500Z
LOCATION;LANGUAGE=de;ENCODING=QUOTED-PRINTABLE:Untere Kieselbergstraße 33\, Helmstadt
SUMMARY:Punktspiel Wühlmäuse vs Die Hottentotten
DESCRIPTION;LANGUAGE=de;ENCODING=QUOTED-PRINTABLE:obere Halle (AKTUELL NOCH IMMER KEINE DUSCHEN!!!!!)\nUntere Kieselbergstraße 33\n36360 Helmstadt\nEingang/Parken wiedstraße\n\n\nÜbersicht https://test.dieliga.online/schedule/overview/651
END:VEVENT
BEGIN:VEVENT
UID:event7
DTSTAMP:20260423T084039Z
DTSTART:20260725T180000Z
DTEND:20260725T200000Z
LOCATION;LANGUAGE=de;ENCODING=QUOTED-PRINTABLE:Kahlhorststraße 20\, Schollbrunn
SUMMARY:Punktspiel Zweiundvierzig vs Die Hottentotten
DESCRIPTION;LANGUAGE=de;ENCODING=QUOTED-PRINTABLE:Grund- und Förderschule\nKahlhorststraße 20\n69372 Schollbrunn\n\n\nÜbersicht https://test.dieliga.online/schedule/overview/651
END:VEVENT
BEGIN:VEVENT
UID:event8
DTSTAMP:20260423T084039Z
DTSTART:20260805T170000Z
LOCATION;LANGUAGE=de;ENCODING=QUOTED-PRINTABLE:
SUMMARY:Punktspiel Die Hottentotten vs Hanuta
DESCRIPTION;LANGUAGE=de;ENCODING=QUOTED-PRINTABLE:\n\nÜbersicht https://test.dieliga.online/schedule/overview/651
END:VEVENT
BEGIN:VEVENT
UID:event9
DTSTAMP:20260423T084039Z
DTSTART:20260828T170000Z
DTEND:20260828T193000Z
LOCATION;LANGUAGE=de;ENCODING=QUOTED-PRINTABLE:Claus-Wiese-Straße 58\, Reit im Winkl
SUMMARY:Punktspiel Die Hottentotten vs Mutti spielt 1.Männer
DESCRIPTION;LANGUAGE=de;ENCODING=QUOTED-PRINTABLE:Goldachhalle (Hallen-Eingang Zum Steigeturm)\nClaus-Wiese-Straße 58\nReit im Winkl\n\n\nÜbersicht https://test.dieliga.online/schedule/overview/651
END:VEVENT
BEGIN:VEVENT
UID:event10
DTSTAMP:20260423T084039Z
DTSTART:20260907T173000Z
DTEND:20260907T193000Z
LOCATION;LANGUAGE=de;ENCODING=QUOTED-PRINTABLE:Philipp-Wirtgen-Straße 58\, Sommerhausen
SUMMARY:Punktspiel We don’t care vs Die Hottentotten
DESCRIPTION;LANGUAGE=de;ENCODING=QUOTED-PRINTABLE:\nPhilipp-Wirtgen-Straße 58\n53478 Sommerhausen\nsehr schlechte Parkenmöglichkeiten!\n\n\nÜbersicht https://test.dieliga.online/schedule/overview/651
END:VEVENT
BEGIN:VEVENT
UID:event11
DTSTAMP:20260423T084039Z
DTSTART:20260914T170000Z
DTEND:20260914T193000Z
LOCATION;LANGUAGE=de;ENCODING=QUOTED-PRINTABLE:Claus-Wiese-Straße 58\, Reit im Winkl
SUMMARY:Punktspiel Die Hottentotten vs Mut zur Lücke
DESCRIPTION;LANGUAGE=de;ENCODING=QUOTED-PRINTABLE:Goldachhalle (Hallen-Eingang Zum Steigeturm)\nClaus-Wiese-Straße 58\nReit im Winkl\n\n\nÜbersicht https://test.dieliga.online/schedule/overview/651
END:VEVENT
BEGIN:VEVENT
UID:event12
DTSTAMP:20260423T084039Z
DTSTART:20260921T170000Z
DTEND:20260921T193000Z
LOCATION;LANGUAGE=de;ENCODING=QUOTED-PRINTABLE:Claus-Wiese-Straße 58\, Reit im Winkl
SUMMARY:Punktspiel Die Hottentotten vs 4 und ein Keks
DESCRIPTION;LANGUAGE=de;ENCODING=QUOTED-PRINTABLE:Goldachhalle (Hallen-Eingang Zum Steigeturm)\nClaus-Wiese-Straße 58\nReit im Winkl\n\n\nÜbersicht https://test.dieliga.online/schedule/overview/651
END:VEVENT
BEGIN:VEVENT
UID:event13
DTSTAMP:20260423T084039Z
DTSTART:20261017T173000Z
DTEND:20261017T190000Z
LOCATION;LANGUAGE=de;ENCODING=QUOTED-PRINTABLE:Wiedstraße 45\, Andechs
SUMMARY:Punktspiel Volleybären vs Die Hottentotten
DESCRIPTION;LANGUAGE=de;ENCODING=QUOTED-PRINTABLE:rechte Halle\nWiedstraße 45\n35962 Andechs\n\n\nÜbersicht https://test.dieliga.online/schedule/overview/651
END:VEVENT
BEGIN:VEVENT
UID:event14
DTSTAMP:20260423T084039Z
DTSTART:20261025T180000Z
DTEND:20261025T203000Z
LOCATION;LANGUAGE=de;ENCODING=QUOTED-PRINTABLE:Claus-Wiese-Straße 58\, Reit im Winkl
SUMMARY:Punktspiel Die Hottentotten vs Wühlmäuse
DESCRIPTION;LANGUAGE=de;ENCODING=QUOTED-PRINTABLE:Goldachhalle (Hallen-Eingang Zum Steigeturm)\nClaus-Wiese-Straße 58\nReit im Winkl\n\n\nÜbersicht https://test.dieliga.online/schedule/overview/651
END:VEVENT
END:VCALENDAR