BEGIN:VCALENDAR
VERSION:2.0
PRODID:-//dieLiga//DE
BEGIN:VEVENT
UID:event0
DTSTAMP:20260421T070537Z
DTSTART:20260509T173000Z
DTEND:20260509T193000Z
LOCATION;LANGUAGE=de;ENCODING=QUOTED-PRINTABLE:Auf der Moorhütte 32\, Unterroth
SUMMARY:Punktspiel Rasenbeacher vs Honecker auf Gesundheitsreise
DESCRIPTION;LANGUAGE=de;ENCODING=QUOTED-PRINTABLE:Hauptschulturnhalle\nAuf der Moorhütte 32\nUnterroth\n\n\nÜbersicht https://test.dieliga.online/schedule/overview/641
END:VEVENT
BEGIN:VEVENT
UID:event1
DTSTAMP:20260421T070537Z
DTSTART:20260520T173000Z
DTEND:20260520T200000Z
LOCATION;LANGUAGE=de;ENCODING=QUOTED-PRINTABLE:Buttermelcherstraße 40\, Zusamaltheim
SUMMARY:Punktspiel Nicht mit uns vs Rasenbeacher
DESCRIPTION;LANGUAGE=de;ENCODING=QUOTED-PRINTABLE:\nButtermelcherstraße 40\nZusamaltheim\nParken nur mit Anwohnerparkausweis möglich!!\n\n\nÜbersicht https://test.dieliga.online/schedule/overview/641
END:VEVENT
BEGIN:VEVENT
UID:event2
DTSTAMP:20260421T070537Z
DTSTART:20260412T173000Z
DTEND:20260412T193000Z
LOCATION;LANGUAGE=de;ENCODING=QUOTED-PRINTABLE:Auf der Moorhütte 32\, Unterroth
SUMMARY:Punktspiel Rasenbeacher vs Schneeflittchen und die 7 Zwerge
DESCRIPTION;LANGUAGE=de;ENCODING=QUOTED-PRINTABLE:25:10\, 15:25\, 25:18
END:VEVENT
BEGIN:VEVENT
UID:event3
DTSTAMP:20260421T070537Z
DTSTART:20260426T173000Z
DTEND:20260426T193000Z
LOCATION;LANGUAGE=de;ENCODING=QUOTED-PRINTABLE:Auf der Moorhütte 32\, Unterroth
SUMMARY:Punktspiel Rasenbeacher vs Doppelblock
DESCRIPTION;LANGUAGE=de;ENCODING=QUOTED-PRINTABLE:13:25\, 25:17\, 25:21
END:VEVENT
BEGIN:VEVENT
UID:event4
DTSTAMP:20260421T070537Z
DTSTART:20260515T183000Z
DTEND:20260515T205000Z
LOCATION;LANGUAGE=de;ENCODING=QUOTED-PRINTABLE:Am St. Annabach 4\, Schierling
SUMMARY:Punktspiel IBU 400 vs Rasenbeacher
DESCRIPTION;LANGUAGE=de;ENCODING=QUOTED-PRINTABLE:Gemeindehalle (bei der Schule)\nAm St. Annabach 4\n83869 Schierling\n\n\nÜbersicht https://test.dieliga.online/schedule/overview/641
END:VEVENT
BEGIN:VEVENT
UID:event5
DTSTAMP:20260421T070537Z
DTSTART:20260607T173000Z
DTEND:20260607T193000Z
LOCATION;LANGUAGE=de;ENCODING=QUOTED-PRINTABLE:Auf der Moorhütte 32\, Unterroth
SUMMARY:Punktspiel Rasenbeacher vs Hallensprecher
DESCRIPTION;LANGUAGE=de;ENCODING=QUOTED-PRINTABLE:Hauptschulturnhalle\nAuf der Moorhütte 32\nUnterroth\n\n\nÜbersicht https://test.dieliga.online/schedule/overview/641
END:VEVENT
BEGIN:VEVENT
UID:event6
DTSTAMP:20260421T070537Z
DTSTART:20260611T180000Z
DTEND:20260611T200000Z
LOCATION;LANGUAGE=de;ENCODING=QUOTED-PRINTABLE:Ludwig-Freiherr-v.-Würtzburg-Straße 38\, Hebertsfelden
SUMMARY:Punktspiel Honecker auf Gesundheitsreise vs Rasenbeacher
DESCRIPTION;LANGUAGE=de;ENCODING=QUOTED-PRINTABLE:Dreifachhalle\nLudwig-Freiherr-v.-Würtzburg-Straße 38\nHebertsfelden\n\n\nÜbersicht https://test.dieliga.online/schedule/overview/641
END:VEVENT
BEGIN:VEVENT
UID:event7
DTSTAMP:20260421T070537Z
DTSTART:20260718T173000Z
DTEND:20260718T193000Z
LOCATION;LANGUAGE=de;ENCODING=QUOTED-PRINTABLE:Auf der Moorhütte 32\, Unterroth
SUMMARY:Punktspiel Rasenbeacher vs Nicht mit uns
DESCRIPTION;LANGUAGE=de;ENCODING=QUOTED-PRINTABLE:Hauptschulturnhalle\nAuf der Moorhütte 32\nUnterroth\n\n\nÜbersicht https://test.dieliga.online/schedule/overview/641
END:VEVENT
BEGIN:VEVENT
UID:event8
DTSTAMP:20260421T070537Z
DTSTART:20260723T170000Z
DTEND:20260723T190000Z
LOCATION;LANGUAGE=de;ENCODING=QUOTED-PRINTABLE:Immestraße 58\, Krombach
SUMMARY:Punktspiel Schneeflittchen und die 7 Zwerge vs Rasenbeacher
DESCRIPTION;LANGUAGE=de;ENCODING=QUOTED-PRINTABLE:Schulzentrum (Backsteinhalle\, vom Schulhof aus rechts)\nImmestraße 58\nKrombach\nstadtauswärts\n\n\nÜbersicht https://test.dieliga.online/schedule/overview/641
END:VEVENT
BEGIN:VEVENT
UID:event9
DTSTAMP:20260421T070537Z
DTSTART:20260801T173000Z
DTEND:20260801T193000Z
LOCATION;LANGUAGE=de;ENCODING=QUOTED-PRINTABLE:Auf der Moorhütte 32\, Unterroth
SUMMARY:Punktspiel Rasenbeacher vs Die Wölfe
DESCRIPTION;LANGUAGE=de;ENCODING=QUOTED-PRINTABLE:Hauptschulturnhalle\nAuf der Moorhütte 32\nUnterroth\n\n\nÜbersicht https://test.dieliga.online/schedule/overview/641
END:VEVENT
BEGIN:VEVENT
UID:event10
DTSTAMP:20260421T070537Z
DTSTART:20260805T180000Z
DTEND:20260805T200000Z
LOCATION;LANGUAGE=de;ENCODING=QUOTED-PRINTABLE:Keusgasse 15\, Höchberg
SUMMARY:Punktspiel Doppelblock vs Rasenbeacher
DESCRIPTION;LANGUAGE=de;ENCODING=QUOTED-PRINTABLE:Hauptschulturnhalle\nKeusgasse 15\n31100 Höchberg\n\n\nÜbersicht https://test.dieliga.online/schedule/overview/641
END:VEVENT
BEGIN:VEVENT
UID:event11
DTSTAMP:20260421T070537Z
DTSTART:20260901T173000Z
DTEND:20260901T193000Z
LOCATION;LANGUAGE=de;ENCODING=QUOTED-PRINTABLE:Auf der Moorhütte 32\, Unterroth
SUMMARY:Punktspiel Rasenbeacher vs IBU 400
DESCRIPTION;LANGUAGE=de;ENCODING=QUOTED-PRINTABLE:Hauptschulturnhalle\nAuf der Moorhütte 32\nUnterroth\n\n\nÜbersicht https://test.dieliga.online/schedule/overview/641
END:VEVENT
BEGIN:VEVENT
UID:event12
DTSTAMP:20260421T070537Z
DTSTART:20260907T181500Z
DTEND:20260907T200000Z
LOCATION;LANGUAGE=de;ENCODING=QUOTED-PRINTABLE:Farnweg 21\, Bogen
SUMMARY:Punktspiel Hallensprecher vs Rasenbeacher
DESCRIPTION;LANGUAGE=de;ENCODING=QUOTED-PRINTABLE: (Parkplätze vorhanden)\nFarnweg 21\nBogen\n\n\nÜbersicht https://test.dieliga.online/schedule/overview/641
END:VEVENT
END:VCALENDAR