BEGIN:VCALENDAR
VERSION:2.0
PRODID:-//dieLiga//DE
BEGIN:VEVENT
UID:event0
DTSTAMP:20260421T074724Z
DTSTART:20260419T173000Z
DTEND:20260419T193000Z
LOCATION;LANGUAGE=de;ENCODING=QUOTED-PRINTABLE:Kösters Feld 52\, Lutzingen
SUMMARY:Punktspiel Grauen Raben vs De Banane Biegers
DESCRIPTION;LANGUAGE=de;ENCODING=QUOTED-PRINTABLE:26:24\, 25:23
END:VEVENT
BEGIN:VEVENT
UID:event1
DTSTAMP:20260421T074724Z
DTSTART:20260325T180000Z
DTEND:20260325T210000Z
LOCATION;LANGUAGE=de;ENCODING=QUOTED-PRINTABLE:Schleiermacherstraße\, Eberfing
SUMMARY:Punktspiel Trommelwirbel vs Grauen Raben
DESCRIPTION;LANGUAGE=de;ENCODING=QUOTED-PRINTABLE:25:13\, 17:25\, 17:25
END:VEVENT
BEGIN:VEVENT
UID:event2
DTSTAMP:20260421T074724Z
DTSTART:20260412T173000Z
DTEND:20260412T193000Z
LOCATION;LANGUAGE=de;ENCODING=QUOTED-PRINTABLE:Kösters Feld 52\, Lutzingen
SUMMARY:Punktspiel Grauen Raben vs Die Unbestechlichen
DESCRIPTION;LANGUAGE=de;ENCODING=QUOTED-PRINTABLE:18:25\, 24:26
END:VEVENT
BEGIN:VEVENT
UID:event3
DTSTAMP:20260421T074724Z
DTSTART:20260416T180000Z
DTEND:20260416T200000Z
LOCATION;LANGUAGE=de;ENCODING=QUOTED-PRINTABLE:Aroser Allee 22\, Kraftisried
SUMMARY:Punktspiel Punkteräuber vs Grauen Raben
DESCRIPTION;LANGUAGE=de;ENCODING=QUOTED-PRINTABLE:16:25\, 22:25
END:VEVENT
BEGIN:VEVENT
UID:event4
DTSTAMP:20260421T074724Z
DTSTART:20260426T180000Z
DTEND:20260426T200000Z
LOCATION;LANGUAGE=de;ENCODING=QUOTED-PRINTABLE:Katzenbauerstraße 37\, Bobingen
SUMMARY:Punktspiel Ein Hauch von Gewalt und eine Ladung von Gefühl vs Grauen Raben
DESCRIPTION;LANGUAGE=de;ENCODING=QUOTED-PRINTABLE:17:25\, 24:26
END:VEVENT
BEGIN:VEVENT
UID:event5
DTSTAMP:20260421T074724Z
DTSTART:20260516T173000Z
DTEND:20260516T193000Z
LOCATION;LANGUAGE=de;ENCODING=QUOTED-PRINTABLE:Kösters Feld 52\, Lutzingen
SUMMARY:Punktspiel Grauen Raben vs Saubär
DESCRIPTION;LANGUAGE=de;ENCODING=QUOTED-PRINTABLE:Halle 1\, links (Parkplätze an der Schule vorhanden)\nKösters Feld 52\n10913 Lutzingen\n\n\nÜbersicht https://test.dieliga.online/schedule/overview/646
END:VEVENT
BEGIN:VEVENT
UID:event6
DTSTAMP:20260421T074724Z
DTSTART:20260606T180000Z
DTEND:20260606T200000Z
LOCATION;LANGUAGE=de;ENCODING=QUOTED-PRINTABLE:Gondelsheimer Straße 52\, Schnaitsee
SUMMARY:Punktspiel Blind Desaster vs Grauen Raben
DESCRIPTION;LANGUAGE=de;ENCODING=QUOTED-PRINTABLE:Halle I\nGondelsheimer Straße 52\nSchnaitsee\n\n\nÜbersicht https://test.dieliga.online/schedule/overview/646
END:VEVENT
BEGIN:VEVENT
UID:event7
DTSTAMP:20260421T074724Z
DTSTART:20260613T180000Z
DTEND:20260613T200000Z
LOCATION;LANGUAGE=de;ENCODING=QUOTED-PRINTABLE:Unterschöbling 31\, Irlbach
SUMMARY:Punktspiel De Banane Biegers vs Grauen Raben
DESCRIPTION;LANGUAGE=de;ENCODING=QUOTED-PRINTABLE:3fach-Halle\nUnterschöbling 31\nIrlbach\n\n\nÜbersicht https://test.dieliga.online/schedule/overview/646
END:VEVENT
BEGIN:VEVENT
UID:event8
DTSTAMP:20260421T074724Z
DTSTART:20260718T173000Z
DTEND:20260718T193000Z
LOCATION;LANGUAGE=de;ENCODING=QUOTED-PRINTABLE:Kösters Feld 52\, Lutzingen
SUMMARY:Punktspiel Grauen Raben vs Trommelwirbel
DESCRIPTION;LANGUAGE=de;ENCODING=QUOTED-PRINTABLE:Halle 1\, links (Parkplätze an der Schule vorhanden)\nKösters Feld 52\n10913 Lutzingen\n\n\nÜbersicht https://test.dieliga.online/schedule/overview/646
END:VEVENT
BEGIN:VEVENT
UID:event9
DTSTAMP:20260421T074724Z
DTSTART:20260725T173000Z
DTEND:20260725T193000Z
LOCATION;LANGUAGE=de;ENCODING=QUOTED-PRINTABLE:Quitzowstraße 37\, Finsing
SUMMARY:Punktspiel Die Unbestechlichen vs Grauen Raben
DESCRIPTION;LANGUAGE=de;ENCODING=QUOTED-PRINTABLE:\nQuitzowstraße 37\n80865 Finsing\nwenig Parkplätze zur Verfügung!\n\n\nÜbersicht https://test.dieliga.online/schedule/overview/646
END:VEVENT
BEGIN:VEVENT
UID:event10
DTSTAMP:20260421T074724Z
DTSTART:20260801T173000Z
DTEND:20260801T193000Z
LOCATION;LANGUAGE=de;ENCODING=QUOTED-PRINTABLE:Kösters Feld 52\, Lutzingen
SUMMARY:Punktspiel Grauen Raben vs Punkteräuber
DESCRIPTION;LANGUAGE=de;ENCODING=QUOTED-PRINTABLE:Halle 1\, links (Parkplätze an der Schule vorhanden)\nKösters Feld 52\n10913 Lutzingen\n\n\nÜbersicht https://test.dieliga.online/schedule/overview/646
END:VEVENT
BEGIN:VEVENT
UID:event11
DTSTAMP:20260421T074724Z
DTSTART:20260808T173000Z
DTEND:20260808T193000Z
LOCATION;LANGUAGE=de;ENCODING=QUOTED-PRINTABLE:Kösters Feld 52\, Lutzingen
SUMMARY:Punktspiel Grauen Raben vs Ein Hauch von Gewalt und eine Ladung von Gefühl
DESCRIPTION;LANGUAGE=de;ENCODING=QUOTED-PRINTABLE:Halle 1\, links (Parkplätze an der Schule vorhanden)\nKösters Feld 52\n10913 Lutzingen\n\n\nÜbersicht https://test.dieliga.online/schedule/overview/646
END:VEVENT
BEGIN:VEVENT
UID:event12
DTSTAMP:20260421T074724Z
DTSTART:20260826T174500Z
LOCATION;LANGUAGE=de;ENCODING=QUOTED-PRINTABLE:
SUMMARY:Punktspiel Saubär vs Grauen Raben
DESCRIPTION;LANGUAGE=de;ENCODING=QUOTED-PRINTABLE:\n\nÜbersicht https://test.dieliga.online/schedule/overview/646
END:VEVENT
BEGIN:VEVENT
UID:event13
DTSTAMP:20260421T074724Z
DTSTART:20260908T173000Z
DTEND:20260908T193000Z
LOCATION;LANGUAGE=de;ENCODING=QUOTED-PRINTABLE:Kösters Feld 52\, Lutzingen
SUMMARY:Punktspiel Grauen Raben vs Blind Desaster
DESCRIPTION;LANGUAGE=de;ENCODING=QUOTED-PRINTABLE:Halle 1\, links (Parkplätze an der Schule vorhanden)\nKösters Feld 52\n10913 Lutzingen\n\n\nÜbersicht https://test.dieliga.online/schedule/overview/646
END:VEVENT
END:VCALENDAR