BEGIN:VCALENDAR
VERSION:2.0
PRODID:-//dieLiga//DE
BEGIN:VEVENT
UID:event0
DTSTAMP:20260421T082326Z
DTSTART:20260411T173000Z
DTEND:20260411T193000Z
LOCATION;LANGUAGE=de;ENCODING=QUOTED-PRINTABLE:Freester Weg 23\, Bad Endorf
SUMMARY:Punktspiel Lustig Baggern vs Baller die Waldfee
DESCRIPTION;LANGUAGE=de;ENCODING=QUOTED-PRINTABLE:25:18\, 25:22
END:VEVENT
BEGIN:VEVENT
UID:event1
DTSTAMP:20260421T082326Z
DTSTART:20260416T173000Z
DTEND:20260416T193000Z
LOCATION;LANGUAGE=de;ENCODING=QUOTED-PRINTABLE:Falstaffweg 4\, Donnersdorf
SUMMARY:Punktspiel Baller die Waldfee vs Die glücklichen Hummeln
DESCRIPTION;LANGUAGE=de;ENCODING=QUOTED-PRINTABLE:27:25\, 25:12
END:VEVENT
BEGIN:VEVENT
UID:event2
DTSTAMP:20260421T082326Z
DTSTART:20260424T170000Z
DTEND:20260424T183000Z
LOCATION;LANGUAGE=de;ENCODING=QUOTED-PRINTABLE:Am Hankhauser Busch 30
SUMMARY:Punktspiel Top im Alter vs Baller die Waldfee
DESCRIPTION;LANGUAGE=de;ENCODING=QUOTED-PRINTABLE:25:23\, 21:25\, 16:25
END:VEVENT
BEGIN:VEVENT
UID:event3
DTSTAMP:20260421T082326Z
DTSTART:20260513T173000Z
DTEND:20260513T193000Z
LOCATION;LANGUAGE=de;ENCODING=QUOTED-PRINTABLE:Falstaffweg 4\, Donnersdorf
SUMMARY:Punktspiel Baller die Waldfee vs Doppelpunkt
DESCRIPTION;LANGUAGE=de;ENCODING=QUOTED-PRINTABLE:Halle 1\, links (Es stehen wenige kostenlose Parkplätze zur Verfügung.)\nFalstaffweg 4\n34210 Donnersdorf\nEingang gegenüber Tramhaltestelle\n\n\nÜbersicht https://test.dieliga.online/schedule/overview/651
END:VEVENT
BEGIN:VEVENT
UID:event4
DTSTAMP:20260421T082326Z
DTSTART:20260604T174500Z
DTEND:20260604T194500Z
LOCATION;LANGUAGE=de;ENCODING=QUOTED-PRINTABLE:Geniner Dorfstraße 25\, Syrgenstein
SUMMARY:Punktspiel Rotkäppchen und der böse Wolf vs Baller die Waldfee
DESCRIPTION;LANGUAGE=de;ENCODING=QUOTED-PRINTABLE:Halle 1\, links (AKTUELL NOCH IMMER KEINE DUSCHEN!!!!!)\nGeniner Dorfstraße 25\n80771 Syrgenstein\nEingang/Parken Oberer Schozachweg\n\n\nÜbersicht https://test.dieliga.online/schedule/overview/651
END:VEVENT
BEGIN:VEVENT
UID:event5
DTSTAMP:20260421T082326Z
DTSTART:20260611T173000Z
DTEND:20260611T193000Z
LOCATION;LANGUAGE=de;ENCODING=QUOTED-PRINTABLE:Falstaffweg 4\, Donnersdorf
SUMMARY:Punktspiel Baller die Waldfee vs Familienbande
DESCRIPTION;LANGUAGE=de;ENCODING=QUOTED-PRINTABLE:Halle 1\, links (Es stehen wenige kostenlose Parkplätze zur Verfügung.)\nFalstaffweg 4\n34210 Donnersdorf\nEingang gegenüber Tramhaltestelle\n\n\nÜbersicht https://test.dieliga.online/schedule/overview/651
END:VEVENT
BEGIN:VEVENT
UID:event6
DTSTAMP:20260421T082326Z
DTSTART:20260716T170500Z
DTEND:20260716T193000Z
LOCATION;LANGUAGE=de;ENCODING=QUOTED-PRINTABLE:Belremstraße 34\, Wolfsegg
SUMMARY:Punktspiel Vater Abrahm hat seine 7 Söhne vs Baller die Waldfee
DESCRIPTION;LANGUAGE=de;ENCODING=QUOTED-PRINTABLE:Goldachhalle\nBelremstraße 34\n95666 Wolfsegg\nBitte nicht auf dem Lehrerparkplatz stellen\, sondern in den (Klein-)Straßen. Ausreichend Plätze da (max. so 2 Min. zur Halle)\n\n\nÜbersicht https://test.dieliga.online/schedule/overview/651
END:VEVENT
BEGIN:VEVENT
UID:event7
DTSTAMP:20260421T082326Z
DTSTART:20260729T173000Z
DTEND:20260729T193000Z
LOCATION;LANGUAGE=de;ENCODING=QUOTED-PRINTABLE:Falstaffweg 4\, Donnersdorf
SUMMARY:Punktspiel Baller die Waldfee vs Rookies
DESCRIPTION;LANGUAGE=de;ENCODING=QUOTED-PRINTABLE:Halle 1\, links (Es stehen wenige kostenlose Parkplätze zur Verfügung.)\nFalstaffweg 4\n34210 Donnersdorf\nEingang gegenüber Tramhaltestelle\n\n\nÜbersicht https://test.dieliga.online/schedule/overview/651
END:VEVENT
BEGIN:VEVENT
UID:event8
DTSTAMP:20260421T082326Z
DTSTART:20260805T173000Z
DTEND:20260805T193000Z
LOCATION;LANGUAGE=de;ENCODING=QUOTED-PRINTABLE:Falstaffweg 4\, Donnersdorf
SUMMARY:Punktspiel Baller die Waldfee vs Lustig Baggern
DESCRIPTION;LANGUAGE=de;ENCODING=QUOTED-PRINTABLE:Halle 1\, links (Es stehen wenige kostenlose Parkplätze zur Verfügung.)\nFalstaffweg 4\n34210 Donnersdorf\nEingang gegenüber Tramhaltestelle\n\n\nÜbersicht https://test.dieliga.online/schedule/overview/651
END:VEVENT
BEGIN:VEVENT
UID:event9
DTSTAMP:20260421T082326Z
DTSTART:20260828T170000Z
DTEND:20260828T193000Z
LOCATION;LANGUAGE=de;ENCODING=QUOTED-PRINTABLE:In Schwanel 47\, Gerhardshofen
SUMMARY:Punktspiel Die glücklichen Hummeln vs Baller die Waldfee
DESCRIPTION;LANGUAGE=de;ENCODING=QUOTED-PRINTABLE:linke Halle (Hallen-Eingang Zur Wümmediele)\nIn Schwanel 47\nGerhardshofen\n\n\nÜbersicht https://test.dieliga.online/schedule/overview/651
END:VEVENT
BEGIN:VEVENT
UID:event10
DTSTAMP:20260421T082326Z
DTSTART:20260905T173000Z
DTEND:20260905T193000Z
LOCATION;LANGUAGE=de;ENCODING=QUOTED-PRINTABLE:Falstaffweg 4\, Donnersdorf
SUMMARY:Punktspiel Baller die Waldfee vs Top im Alter
DESCRIPTION;LANGUAGE=de;ENCODING=QUOTED-PRINTABLE:Halle 1\, links (Es stehen wenige kostenlose Parkplätze zur Verfügung.)\nFalstaffweg 4\n34210 Donnersdorf\nEingang gegenüber Tramhaltestelle\n\n\nÜbersicht https://test.dieliga.online/schedule/overview/651
END:VEVENT
BEGIN:VEVENT
UID:event11
DTSTAMP:20260421T082326Z
DTSTART:20260913T173000Z
DTEND:20260913T190000Z
LOCATION;LANGUAGE=de;ENCODING=QUOTED-PRINTABLE:Synagogenplatz 27\, Schöllkrippen
SUMMARY:Punktspiel Doppelpunkt vs Baller die Waldfee
DESCRIPTION;LANGUAGE=de;ENCODING=QUOTED-PRINTABLE:linke Halle\nSynagogenplatz 27\n57270 Schöllkrippen\n\n\nÜbersicht https://test.dieliga.online/schedule/overview/651
END:VEVENT
BEGIN:VEVENT
UID:event12
DTSTAMP:20260421T082326Z
DTSTART:20260919T173000Z
DTEND:20260919T193000Z
LOCATION;LANGUAGE=de;ENCODING=QUOTED-PRINTABLE:Falstaffweg 4\, Donnersdorf
SUMMARY:Punktspiel Baller die Waldfee vs Rotkäppchen und der böse Wolf
DESCRIPTION;LANGUAGE=de;ENCODING=QUOTED-PRINTABLE:Halle 1\, links (Es stehen wenige kostenlose Parkplätze zur Verfügung.)\nFalstaffweg 4\n34210 Donnersdorf\nEingang gegenüber Tramhaltestelle\n\n\nÜbersicht https://test.dieliga.online/schedule/overview/651
END:VEVENT
BEGIN:VEVENT
UID:event13
DTSTAMP:20260421T082326Z
DTSTART:20261019T180000Z
DTEND:20261019T200000Z
LOCATION;LANGUAGE=de;ENCODING=QUOTED-PRINTABLE:Max-Osterloh-Platz 20\, Obing
SUMMARY:Punktspiel Familienbande vs Baller die Waldfee
DESCRIPTION;LANGUAGE=de;ENCODING=QUOTED-PRINTABLE:untere Halle\nMax-Osterloh-Platz 20\n58268 Obing\n\n\nÜbersicht https://test.dieliga.online/schedule/overview/651
END:VEVENT
BEGIN:VEVENT
UID:event14
DTSTAMP:20260421T082326Z
DTSTART:20261023T173000Z
DTEND:20261023T193000Z
LOCATION;LANGUAGE=de;ENCODING=QUOTED-PRINTABLE:Falstaffweg 4\, Donnersdorf
SUMMARY:Punktspiel Baller die Waldfee vs Vater Abrahm hat seine 7 Söhne
DESCRIPTION;LANGUAGE=de;ENCODING=QUOTED-PRINTABLE:Halle 1\, links (Es stehen wenige kostenlose Parkplätze zur Verfügung.)\nFalstaffweg 4\n34210 Donnersdorf\nEingang gegenüber Tramhaltestelle\n\n\nÜbersicht https://test.dieliga.online/schedule/overview/651
END:VEVENT
END:VCALENDAR