BEGIN:VCALENDAR
VERSION:2.0
PRODID:-//dieLiga//DE
BEGIN:VEVENT
UID:event0
DTSTAMP:20260421T084908Z
DTSTART:20260509T173000Z
DTEND:20260509T193000Z
LOCATION;LANGUAGE=de;ENCODING=QUOTED-PRINTABLE:Auf der Moorhütte 32\, Unterroth
SUMMARY:Punktspiel Rasenbeacher vs Honecker auf Gesundheitsreise
DESCRIPTION;LANGUAGE=de;ENCODING=QUOTED-PRINTABLE:Hauptschulturnhalle\nAuf der Moorhütte 32\nUnterroth\n\n\nÜbersicht https://test.dieliga.online/schedule/overview/641
END:VEVENT
BEGIN:VEVENT
UID:event1
DTSTAMP:20260421T084908Z
DTSTART:20260409T173000Z
DTEND:20260409T200000Z
LOCATION;LANGUAGE=de;ENCODING=QUOTED-PRINTABLE:Buttermelcherstraße 40\, Zusamaltheim
SUMMARY:Punktspiel Nicht mit uns vs Honecker auf Gesundheitsreise
DESCRIPTION;LANGUAGE=de;ENCODING=QUOTED-PRINTABLE:19:25\, 25:19\, 17:25
END:VEVENT
BEGIN:VEVENT
UID:event2
DTSTAMP:20260421T084908Z
DTSTART:20260416T180000Z
DTEND:20260416T200000Z
LOCATION;LANGUAGE=de;ENCODING=QUOTED-PRINTABLE:Ludwig-Freiherr-v.-Würtzburg-Straße 38\, Hebertsfelden
SUMMARY:Punktspiel Honecker auf Gesundheitsreise vs IBU 400
DESCRIPTION;LANGUAGE=de;ENCODING=QUOTED-PRINTABLE:25:16\, 18:25\, 25:21
END:VEVENT
BEGIN:VEVENT
UID:event3
DTSTAMP:20260421T084908Z
DTSTART:20260424T170000Z
DTEND:20260424T190000Z
LOCATION;LANGUAGE=de;ENCODING=QUOTED-PRINTABLE:Immestraße 58\, Krombach
SUMMARY:Punktspiel Schneeflittchen und die 7 Zwerge vs Honecker auf Gesundheitsreise
DESCRIPTION;LANGUAGE=de;ENCODING=QUOTED-PRINTABLE:23:25\, 24:26
END:VEVENT
BEGIN:VEVENT
UID:event4
DTSTAMP:20260421T084908Z
DTSTART:20260513T180000Z
DTEND:20260513T200000Z
LOCATION;LANGUAGE=de;ENCODING=QUOTED-PRINTABLE:Ludwig-Freiherr-v.-Würtzburg-Straße 38\, Hebertsfelden
SUMMARY:Punktspiel Honecker auf Gesundheitsreise vs Hallensprecher
DESCRIPTION;LANGUAGE=de;ENCODING=QUOTED-PRINTABLE:Dreifachhalle\nLudwig-Freiherr-v.-Würtzburg-Straße 38\nHebertsfelden\n\n\nÜbersicht https://test.dieliga.online/schedule/overview/641
END:VEVENT
BEGIN:VEVENT
UID:event5
DTSTAMP:20260421T084908Z
DTSTART:20260604T180000Z
DTEND:20260604T200000Z
LOCATION;LANGUAGE=de;ENCODING=QUOTED-PRINTABLE:Walporzheimer Straße 24\, Bischberg
SUMMARY:Punktspiel Die Wölfe vs Honecker auf Gesundheitsreise
DESCRIPTION;LANGUAGE=de;ENCODING=QUOTED-PRINTABLE:Elly-Heuss-Realschule\nWalporzheimer Straße 24\n48643 Bischberg\n\n\nÜbersicht https://test.dieliga.online/schedule/overview/641
END:VEVENT
BEGIN:VEVENT
UID:event6
DTSTAMP:20260421T084908Z
DTSTART:20260611T180000Z
DTEND:20260611T200000Z
LOCATION;LANGUAGE=de;ENCODING=QUOTED-PRINTABLE:Ludwig-Freiherr-v.-Würtzburg-Straße 38\, Hebertsfelden
SUMMARY:Punktspiel Honecker auf Gesundheitsreise vs Rasenbeacher
DESCRIPTION;LANGUAGE=de;ENCODING=QUOTED-PRINTABLE:Dreifachhalle\nLudwig-Freiherr-v.-Würtzburg-Straße 38\nHebertsfelden\n\n\nÜbersicht https://test.dieliga.online/schedule/overview/641
END:VEVENT
BEGIN:VEVENT
UID:event7
DTSTAMP:20260421T084908Z
DTSTART:20260715T180000Z
DTEND:20260715T200000Z
LOCATION;LANGUAGE=de;ENCODING=QUOTED-PRINTABLE:Keusgasse 15\, Höchberg
SUMMARY:Punktspiel Doppelblock vs Honecker auf Gesundheitsreise
DESCRIPTION;LANGUAGE=de;ENCODING=QUOTED-PRINTABLE:Hauptschulturnhalle\nKeusgasse 15\n31100 Höchberg\n\n\nÜbersicht https://test.dieliga.online/schedule/overview/641
END:VEVENT
BEGIN:VEVENT
UID:event8
DTSTAMP:20260421T084908Z
DTSTART:20260722T180000Z
DTEND:20260722T200000Z
LOCATION;LANGUAGE=de;ENCODING=QUOTED-PRINTABLE:Ludwig-Freiherr-v.-Würtzburg-Straße 38\, Hebertsfelden
SUMMARY:Punktspiel Honecker auf Gesundheitsreise vs Nicht mit uns
DESCRIPTION;LANGUAGE=de;ENCODING=QUOTED-PRINTABLE:Dreifachhalle\nLudwig-Freiherr-v.-Würtzburg-Straße 38\nHebertsfelden\n\n\nÜbersicht https://test.dieliga.online/schedule/overview/641
END:VEVENT
BEGIN:VEVENT
UID:event9
DTSTAMP:20260421T084908Z
DTSTART:20260529T183000Z
DTEND:20260529T205000Z
LOCATION;LANGUAGE=de;ENCODING=QUOTED-PRINTABLE:Am St. Annabach 4\, Schierling
SUMMARY:Punktspiel IBU 400 vs Honecker auf Gesundheitsreise
DESCRIPTION;LANGUAGE=de;ENCODING=QUOTED-PRINTABLE:Gemeindehalle (bei der Schule)\nAm St. Annabach 4\n83869 Schierling\n\n\nÜbersicht https://test.dieliga.online/schedule/overview/641
END:VEVENT
BEGIN:VEVENT
UID:event10
DTSTAMP:20260421T084908Z
DTSTART:20260805T180000Z
DTEND:20260805T200000Z
LOCATION;LANGUAGE=de;ENCODING=QUOTED-PRINTABLE:Ludwig-Freiherr-v.-Würtzburg-Straße 38\, Hebertsfelden
SUMMARY:Punktspiel Honecker auf Gesundheitsreise vs Schneeflittchen und die 7 Zwerge
DESCRIPTION;LANGUAGE=de;ENCODING=QUOTED-PRINTABLE:Dreifachhalle\nLudwig-Freiherr-v.-Würtzburg-Straße 38\nHebertsfelden\n\n\nÜbersicht https://test.dieliga.online/schedule/overview/641
END:VEVENT
BEGIN:VEVENT
UID:event11
DTSTAMP:20260421T084908Z
DTSTART:20260828T181500Z
DTEND:20260828T200000Z
LOCATION;LANGUAGE=de;ENCODING=QUOTED-PRINTABLE:Farnweg 21\, Bogen
SUMMARY:Punktspiel Hallensprecher vs Honecker auf Gesundheitsreise
DESCRIPTION;LANGUAGE=de;ENCODING=QUOTED-PRINTABLE: (Parkplätze vorhanden)\nFarnweg 21\nBogen\n\n\nÜbersicht https://test.dieliga.online/schedule/overview/641
END:VEVENT
BEGIN:VEVENT
UID:event12
DTSTAMP:20260421T084908Z
DTSTART:20260905T180000Z
DTEND:20260905T200000Z
LOCATION;LANGUAGE=de;ENCODING=QUOTED-PRINTABLE:Ludwig-Freiherr-v.-Würtzburg-Straße 38\, Hebertsfelden
SUMMARY:Punktspiel Honecker auf Gesundheitsreise vs Die Wölfe
DESCRIPTION;LANGUAGE=de;ENCODING=QUOTED-PRINTABLE:Dreifachhalle\nLudwig-Freiherr-v.-Würtzburg-Straße 38\nHebertsfelden\n\n\nÜbersicht https://test.dieliga.online/schedule/overview/641
END:VEVENT
END:VCALENDAR