BEGIN:VCALENDAR
VERSION:2.0
PRODID:-//dieLiga//DE
BEGIN:VEVENT
UID:event0
DTSTAMP:20260421T070527Z
DTSTART:20260509T173000Z
DTEND:20260509T193000Z
LOCATION;LANGUAGE=de;ENCODING=QUOTED-PRINTABLE:Fehnkerweg 10\, Geroldshausen
SUMMARY:Punktspiel Sunblocker vs Volleybären
DESCRIPTION;LANGUAGE=de;ENCODING=QUOTED-PRINTABLE:\nFehnkerweg 10\nGeroldshausen\n\n\nÜbersicht https://test.dieliga.online/schedule/overview/649
END:VEVENT
BEGIN:VEVENT
UID:event1
DTSTAMP:20260421T070527Z
DTSTART:20260326T190000Z
DTEND:20260326T210000Z
LOCATION;LANGUAGE=de;ENCODING=QUOTED-PRINTABLE:Langenhakenweg 16\, Tuntenhausen
SUMMARY:Punktspiel Volleybären vs Gardoffelsalaad
DESCRIPTION;LANGUAGE=de;ENCODING=QUOTED-PRINTABLE:25:17\, 25:11
END:VEVENT
BEGIN:VEVENT
UID:event2
DTSTAMP:20260421T070527Z
DTSTART:20260410T180000Z
DTEND:20260410T200000Z
LOCATION;LANGUAGE=de;ENCODING=QUOTED-PRINTABLE:Langenhakenweg 16\, Tuntenhausen
SUMMARY:Punktspiel Volleybären vs Netz Boxxer
DESCRIPTION;LANGUAGE=de;ENCODING=QUOTED-PRINTABLE:18:25\, 14:25
END:VEVENT
BEGIN:VEVENT
UID:event3
DTSTAMP:20260421T070527Z
DTSTART:20260417T180000Z
DTEND:20260417T200000Z
LOCATION;LANGUAGE=de;ENCODING=QUOTED-PRINTABLE:Langenhakenweg 16\, Tuntenhausen
SUMMARY:Punktspiel Volleybären vs Schubidu
DESCRIPTION;LANGUAGE=de;ENCODING=QUOTED-PRINTABLE:25:27\, 25:15\, 25:18
END:VEVENT
BEGIN:VEVENT
UID:event4
DTSTAMP:20260421T070527Z
DTSTART:20260514T180000Z
DTEND:20260514T200000Z
LOCATION;LANGUAGE=de;ENCODING=QUOTED-PRINTABLE:Langenhakenweg 16\, Tuntenhausen
SUMMARY:Punktspiel Volleybären vs Blockwürstchen
DESCRIPTION;LANGUAGE=de;ENCODING=QUOTED-PRINTABLE:3fach-Halle\nLangenhakenweg 16\n26798 Tuntenhausen\n\n\nÜbersicht https://test.dieliga.online/schedule/overview/649
END:VEVENT
BEGIN:VEVENT
UID:event5
DTSTAMP:20260421T070527Z
DTSTART:20260604T181500Z
DTEND:20260604T203000Z
LOCATION;LANGUAGE=de;ENCODING=QUOTED-PRINTABLE:Altheimer Straße 34\, Aßling
SUMMARY:Punktspiel Stauseetigers vs Volleybären
DESCRIPTION;LANGUAGE=de;ENCODING=QUOTED-PRINTABLE:Traglufthalle Sportzentrum\nAltheimer Straße 34\nAßling\n\n\nÜbersicht https://test.dieliga.online/schedule/overview/649
END:VEVENT
BEGIN:VEVENT
UID:event6
DTSTAMP:20260421T070527Z
DTSTART:20260612T180000Z
DTEND:20260612T200000Z
LOCATION;LANGUAGE=de;ENCODING=QUOTED-PRINTABLE:Langenhakenweg 16\, Tuntenhausen
SUMMARY:Punktspiel Volleybären vs Waikiki Beachbombers
DESCRIPTION;LANGUAGE=de;ENCODING=QUOTED-PRINTABLE:3fach-Halle\nLangenhakenweg 16\n26798 Tuntenhausen\n\n\nÜbersicht https://test.dieliga.online/schedule/overview/649
END:VEVENT
BEGIN:VEVENT
UID:event7
DTSTAMP:20260421T070527Z
DTSTART:20260723T180000Z
DTEND:20260723T200000Z
LOCATION;LANGUAGE=de;ENCODING=QUOTED-PRINTABLE:Langenhakenweg 16\, Tuntenhausen
SUMMARY:Punktspiel Volleybären vs Sunblocker
DESCRIPTION;LANGUAGE=de;ENCODING=QUOTED-PRINTABLE:3fach-Halle\nLangenhakenweg 16\n26798 Tuntenhausen\n\n\nÜbersicht https://test.dieliga.online/schedule/overview/649
END:VEVENT
BEGIN:VEVENT
UID:event8
DTSTAMP:20260421T070527Z
DTSTART:20260730T173000Z
DTEND:20260730T192000Z
LOCATION;LANGUAGE=de;ENCODING=QUOTED-PRINTABLE:Frickensteinplatz 44\, Reischach
SUMMARY:Punktspiel Gardoffelsalaad vs Volleybären
DESCRIPTION;LANGUAGE=de;ENCODING=QUOTED-PRINTABLE:Halle 1\nFrickensteinplatz 44\nReischach\n\n\nÜbersicht https://test.dieliga.online/schedule/overview/649
END:VEVENT
BEGIN:VEVENT
UID:event9
DTSTAMP:20260421T070527Z
DTSTART:20260807T183000Z
DTEND:20260807T200000Z
LOCATION;LANGUAGE=de;ENCODING=QUOTED-PRINTABLE:Apfelgarten 42\, Nesselwang
SUMMARY:Punktspiel Netz Boxxer vs Volleybären
DESCRIPTION;LANGUAGE=de;ENCODING=QUOTED-PRINTABLE:3fach-Halle\nApfelgarten 42\n62079 Nesselwang\nParkplatz vor der Halle\n\n\nÜbersicht https://test.dieliga.online/schedule/overview/649
END:VEVENT
BEGIN:VEVENT
UID:event10
DTSTAMP:20260421T070527Z
DTSTART:20260827T183000Z
DTEND:20260827T200000Z
LOCATION;LANGUAGE=de;ENCODING=QUOTED-PRINTABLE:Am Riddershof 17\, Kunreuth
SUMMARY:Punktspiel Schubidu vs Volleybären
DESCRIPTION;LANGUAGE=de;ENCODING=QUOTED-PRINTABLE:\nAm Riddershof 17\n97289 Kunreuth\n\n\nÜbersicht https://test.dieliga.online/schedule/overview/649
END:VEVENT
BEGIN:VEVENT
UID:event11
DTSTAMP:20260421T070527Z
DTSTART:20260906T180000Z
DTEND:20260906T200000Z
LOCATION;LANGUAGE=de;ENCODING=QUOTED-PRINTABLE:Langenhakenweg 16\, Tuntenhausen
SUMMARY:Punktspiel Volleybären vs Die kleinen Hirsche
DESCRIPTION;LANGUAGE=de;ENCODING=QUOTED-PRINTABLE:3fach-Halle\nLangenhakenweg 16\n26798 Tuntenhausen\n\n\nÜbersicht https://test.dieliga.online/schedule/overview/649
END:VEVENT
BEGIN:VEVENT
UID:event12
DTSTAMP:20260421T070527Z
DTSTART:20260915T180000Z
DTEND:20260915T203000Z
LOCATION;LANGUAGE=de;ENCODING=QUOTED-PRINTABLE:Am Eichbächle\, Chieming
SUMMARY:Punktspiel Blockwürstchen vs Volleybären
DESCRIPTION;LANGUAGE=de;ENCODING=QUOTED-PRINTABLE:Traglufthalle Sportzentrum\nAm Eichbächle\n55004 Chieming\n\n\nÜbersicht https://test.dieliga.online/schedule/overview/649
END:VEVENT
BEGIN:VEVENT
UID:event13
DTSTAMP:20260421T070527Z
DTSTART:20260920T180000Z
DTEND:20260920T200000Z
LOCATION;LANGUAGE=de;ENCODING=QUOTED-PRINTABLE:Langenhakenweg 16\, Tuntenhausen
SUMMARY:Punktspiel Volleybären vs Stauseetigers
DESCRIPTION;LANGUAGE=de;ENCODING=QUOTED-PRINTABLE:3fach-Halle\nLangenhakenweg 16\n26798 Tuntenhausen\n\n\nÜbersicht https://test.dieliga.online/schedule/overview/649
END:VEVENT
BEGIN:VEVENT
UID:event14
DTSTAMP:20260421T070527Z
DTSTART:20261017T170000Z
DTEND:20261017T190000Z
LOCATION;LANGUAGE=de;ENCODING=QUOTED-PRINTABLE:Zum Schulkamp 29\, Piding
SUMMARY:Punktspiel Waikiki Beachbombers vs Volleybären
DESCRIPTION;LANGUAGE=de;ENCODING=QUOTED-PRINTABLE:Halle I (Eingang Sporthallen)\nZum Schulkamp 29\n82021 Piding\n\n\nÜbersicht https://test.dieliga.online/schedule/overview/649
END:VEVENT
END:VCALENDAR