BEGIN:VCALENDAR
VERSION:2.0
PRODID:-//dieLiga//DE
BEGIN:VEVENT
UID:event0
DTSTAMP:20260423T084859Z
DTSTART:20260509T173000Z
DTEND:20260509T193000Z
LOCATION;LANGUAGE=de;ENCODING=QUOTED-PRINTABLE:Wormlager Straße 3\, Prackenbach
SUMMARY:Punktspiel Die Sandballer vs Maskuline Frauen
DESCRIPTION;LANGUAGE=de;ENCODING=QUOTED-PRINTABLE:\nWormlager Straße 3\nPrackenbach\n\n\nÜbersicht https://test.dieliga.online/schedule/overview/649
END:VEVENT
BEGIN:VEVENT
UID:event1
DTSTAMP:20260423T084859Z
DTSTART:20260327T193000Z
DTEND:20260327T210000Z
LOCATION;LANGUAGE=de;ENCODING=QUOTED-PRINTABLE:Emmenhäuser Straße 30\, Thurmansbang
SUMMARY:Punktspiel Netzquäler vs Die Sandballer
DESCRIPTION;LANGUAGE=de;ENCODING=QUOTED-PRINTABLE:25:15\, 25:14
END:VEVENT
BEGIN:VEVENT
UID:event2
DTSTAMP:20260423T084859Z
DTSTART:20260412T173000Z
DTEND:20260412T193000Z
LOCATION;LANGUAGE=de;ENCODING=QUOTED-PRINTABLE:Wormlager Straße 3\, Prackenbach
SUMMARY:Punktspiel Die Sandballer vs Bettnässer
DESCRIPTION;LANGUAGE=de;ENCODING=QUOTED-PRINTABLE:25:22\, 25:12
END:VEVENT
BEGIN:VEVENT
UID:event3
DTSTAMP:20260423T084859Z
DTSTART:20260416T181500Z
DTEND:20260416T203000Z
LOCATION;LANGUAGE=de;ENCODING=QUOTED-PRINTABLE:Burscheider Straße 33\, Hohenfels
SUMMARY:Punktspiel 0815 vs Die Sandballer
DESCRIPTION;LANGUAGE=de;ENCODING=QUOTED-PRINTABLE:mittlere Halle\nBurscheider Straße 33\nHohenfels\n\n\nÜbersicht https://test.dieliga.online/schedule/overview/649
END:VEVENT
BEGIN:VEVENT
UID:event4
DTSTAMP:20260423T084859Z
DTSTART:20260514T173000Z
DTEND:20260514T192000Z
LOCATION;LANGUAGE=de;ENCODING=QUOTED-PRINTABLE:Am Eichwinkel 16\, Söchtenau
SUMMARY:Punktspiel Ohne Uschi vs Die Sandballer
DESCRIPTION;LANGUAGE=de;ENCODING=QUOTED-PRINTABLE:Halle 1\nAm Eichwinkel 16\nSöchtenau\n\n\nÜbersicht https://test.dieliga.online/schedule/overview/649
END:VEVENT
BEGIN:VEVENT
UID:event5
DTSTAMP:20260423T084859Z
DTSTART:20260607T173000Z
DTEND:20260607T193000Z
LOCATION;LANGUAGE=de;ENCODING=QUOTED-PRINTABLE:Wormlager Straße 3\, Prackenbach
SUMMARY:Punktspiel Die Sandballer vs Rasenbeacher
DESCRIPTION;LANGUAGE=de;ENCODING=QUOTED-PRINTABLE:\nWormlager Straße 3\nPrackenbach\n\n\nÜbersicht https://test.dieliga.online/schedule/overview/649
END:VEVENT
BEGIN:VEVENT
UID:event6
DTSTAMP:20260423T084859Z
DTSTART:20260523T180000Z
DTEND:20260523T203000Z
LOCATION;LANGUAGE=de;ENCODING=QUOTED-PRINTABLE:Simeonistraße\, Apfeldorf
SUMMARY:Punktspiel Familienbande vs Die Sandballer
DESCRIPTION;LANGUAGE=de;ENCODING=QUOTED-PRINTABLE:Halle II\nSimeonistraße\n98940 Apfeldorf\n\n\nÜbersicht https://test.dieliga.online/schedule/overview/649
END:VEVENT
BEGIN:VEVENT
UID:event7
DTSTAMP:20260423T084859Z
DTSTART:20260718T173000Z
DTEND:20260718T193000Z
LOCATION;LANGUAGE=de;ENCODING=QUOTED-PRINTABLE:Wormlager Straße 3\, Prackenbach
SUMMARY:Punktspiel Die Sandballer vs KannNIXchen
DESCRIPTION;LANGUAGE=de;ENCODING=QUOTED-PRINTABLE:\nWormlager Straße 3\nPrackenbach\n\n\nÜbersicht https://test.dieliga.online/schedule/overview/649
END:VEVENT
BEGIN:VEVENT
UID:event8
DTSTAMP:20260423T084859Z
DTSTART:20260723T180000Z
DTEND:20260723T200000Z
LOCATION;LANGUAGE=de;ENCODING=QUOTED-PRINTABLE:Nittumer Weg 39\, Langweid am Lech
SUMMARY:Punktspiel Maskuline Frauen vs Die Sandballer
DESCRIPTION;LANGUAGE=de;ENCODING=QUOTED-PRINTABLE:TSV Sportzentrum\nNittumer Weg 39\n85222 Langweid am Lech\n\n\nÜbersicht https://test.dieliga.online/schedule/overview/649
END:VEVENT
BEGIN:VEVENT
UID:event9
DTSTAMP:20260423T084859Z
DTSTART:20260801T173000Z
DTEND:20260801T193000Z
LOCATION;LANGUAGE=de;ENCODING=QUOTED-PRINTABLE:Wormlager Straße 3\, Prackenbach
SUMMARY:Punktspiel Die Sandballer vs Netzquäler
DESCRIPTION;LANGUAGE=de;ENCODING=QUOTED-PRINTABLE:\nWormlager Straße 3\nPrackenbach\n\n\nÜbersicht https://test.dieliga.online/schedule/overview/649
END:VEVENT
BEGIN:VEVENT
UID:event10
DTSTAMP:20260423T084859Z
DTSTART:20260808T170000Z
DTEND:20260808T193000Z
LOCATION;LANGUAGE=de;ENCODING=QUOTED-PRINTABLE:Osemundstraße 46\, Prosselsheim
SUMMARY:Punktspiel Bettnässer vs Die Sandballer
DESCRIPTION;LANGUAGE=de;ENCODING=QUOTED-PRINTABLE:Sporthalle am Hallenbad\nOsemundstraße 46\nProsselsheim\n\n\nÜbersicht https://test.dieliga.online/schedule/overview/649
END:VEVENT
BEGIN:VEVENT
UID:event11
DTSTAMP:20260423T084859Z
DTSTART:20260901T173000Z
DTEND:20260901T193000Z
LOCATION;LANGUAGE=de;ENCODING=QUOTED-PRINTABLE:Wormlager Straße 3\, Prackenbach
SUMMARY:Punktspiel Die Sandballer vs 0815
DESCRIPTION;LANGUAGE=de;ENCODING=QUOTED-PRINTABLE:\nWormlager Straße 3\nPrackenbach\n\n\nÜbersicht https://test.dieliga.online/schedule/overview/649
END:VEVENT
BEGIN:VEVENT
UID:event12
DTSTAMP:20260423T084859Z
DTSTART:20260915T173000Z
DTEND:20260915T193000Z
LOCATION;LANGUAGE=de;ENCODING=QUOTED-PRINTABLE:Wormlager Straße 3\, Prackenbach
SUMMARY:Punktspiel Die Sandballer vs Ohne Uschi
DESCRIPTION;LANGUAGE=de;ENCODING=QUOTED-PRINTABLE:\nWormlager Straße 3\nPrackenbach\n\n\nÜbersicht https://test.dieliga.online/schedule/overview/649
END:VEVENT
BEGIN:VEVENT
UID:event13
DTSTAMP:20260423T084859Z
DTSTART:20260920T183000Z
DTEND:20260920T200000Z
LOCATION;LANGUAGE=de;ENCODING=QUOTED-PRINTABLE:Barbara McClintock Straße 17\, Gaißach
SUMMARY:Punktspiel Rasenbeacher vs Die Sandballer
DESCRIPTION;LANGUAGE=de;ENCODING=QUOTED-PRINTABLE:\nBarbara McClintock Straße 17\n19459 Gaißach\n\n\nÜbersicht https://test.dieliga.online/schedule/overview/649
END:VEVENT
BEGIN:VEVENT
UID:event14
DTSTAMP:20260423T084859Z
DTSTART:20261019T173000Z
DTEND:20261019T193000Z
LOCATION;LANGUAGE=de;ENCODING=QUOTED-PRINTABLE:Wormlager Straße 3\, Prackenbach
SUMMARY:Punktspiel Die Sandballer vs Familienbande
DESCRIPTION;LANGUAGE=de;ENCODING=QUOTED-PRINTABLE:\nWormlager Straße 3\nPrackenbach\n\n\nÜbersicht https://test.dieliga.online/schedule/overview/649
END:VEVENT
BEGIN:VEVENT
UID:event15
DTSTAMP:20260423T084859Z
DTSTART:20261024T170000Z
DTEND:20261024T190000Z
LOCATION;LANGUAGE=de;ENCODING=QUOTED-PRINTABLE:Moose 8\, Leiblfing
SUMMARY:Punktspiel KannNIXchen vs Die Sandballer
DESCRIPTION;LANGUAGE=de;ENCODING=QUOTED-PRINTABLE:Elly-Heuss-Realschule (Eingang Sporthallen)\nMoose 8\n67023 Leiblfing\n\n\nÜbersicht https://test.dieliga.online/schedule/overview/649
END:VEVENT
END:VCALENDAR