BEGIN:VCALENDAR
VERSION:2.0
PRODID:-//dieLiga//DE
BEGIN:VEVENT
UID:event0
DTSTAMP:20260421T070523Z
DTSTART:20260318T183000Z
DTEND:20260318T204500Z
LOCATION;LANGUAGE=de;ENCODING=QUOTED-PRINTABLE:Kirchenring 45\, Brand
SUMMARY:Punktspiel Killerbienen vs Sonnige Grüße\, sandige Füße
DESCRIPTION;LANGUAGE=de;ENCODING=QUOTED-PRINTABLE:18:25\, 15:25
END:VEVENT
BEGIN:VEVENT
UID:event1
DTSTAMP:20260421T070523Z
DTSTART:20260327T190000Z
DTEND:20260327T204500Z
LOCATION;LANGUAGE=de;ENCODING=QUOTED-PRINTABLE:Heidbüchel 22\, Eching
SUMMARY:Punktspiel Die Überspitzen vs Killerbienen
DESCRIPTION;LANGUAGE=de;ENCODING=QUOTED-PRINTABLE:25:12\, 25:14
END:VEVENT
BEGIN:VEVENT
UID:event2
DTSTAMP:20260421T070523Z
DTSTART:20260409T173000Z
DTEND:20260409T194500Z
LOCATION;LANGUAGE=de;ENCODING=QUOTED-PRINTABLE:Kirchenring 45\, Brand
SUMMARY:Punktspiel Killerbienen vs SMarties
DESCRIPTION;LANGUAGE=de;ENCODING=QUOTED-PRINTABLE:25:23\, 15:25\, 25:21
END:VEVENT
BEGIN:VEVENT
UID:event3
DTSTAMP:20260421T070523Z
DTSTART:20260416T180000Z
DTEND:20260416T200000Z
LOCATION;LANGUAGE=de;ENCODING=QUOTED-PRINTABLE:An der Waldlust 33\, Kirchdorf
SUMMARY:Punktspiel Trockeneis vs Killerbienen
DESCRIPTION;LANGUAGE=de;ENCODING=QUOTED-PRINTABLE:23:25\, 25:23\, 25:13
END:VEVENT
BEGIN:VEVENT
UID:event4
DTSTAMP:20260421T070523Z
DTSTART:20260423T173000Z
DTEND:20260423T194500Z
LOCATION;LANGUAGE=de;ENCODING=QUOTED-PRINTABLE:Kirchenring 45\, Brand
SUMMARY:Punktspiel Killerbienen vs NimDuIchHabIhnSicha
DESCRIPTION;LANGUAGE=de;ENCODING=QUOTED-PRINTABLE:10:25\, 15:25
END:VEVENT
BEGIN:VEVENT
UID:event5
DTSTAMP:20260421T070523Z
DTSTART:20260514T183000Z
DTEND:20260514T200000Z
LOCATION;LANGUAGE=de;ENCODING=QUOTED-PRINTABLE:Schmitzstraße 15\, Westendorf
SUMMARY:Punktspiel Krampfadergeschwader vs Killerbienen
DESCRIPTION;LANGUAGE=de;ENCODING=QUOTED-PRINTABLE:Mehrzweckhalle\nSchmitzstraße 15\n92936 Westendorf\n\n\nÜbersicht https://test.dieliga.online/schedule/overview/647
END:VEVENT
BEGIN:VEVENT
UID:event6
DTSTAMP:20260421T070523Z
DTSTART:20260604T173000Z
DTEND:20260604T194500Z
LOCATION;LANGUAGE=de;ENCODING=QUOTED-PRINTABLE:Kirchenring 45\, Brand
SUMMARY:Punktspiel Killerbienen vs Angry Nerds
DESCRIPTION;LANGUAGE=de;ENCODING=QUOTED-PRINTABLE:Sporthalle am Hallenbad (In der Ferienzeit kein Trainingsbetrieb möglich)\nKirchenring 45\n47119 Brand\ngegenüber der Feuerwehr\n\n\nÜbersicht https://test.dieliga.online/schedule/overview/647
END:VEVENT
BEGIN:VEVENT
UID:event7
DTSTAMP:20260421T070523Z
DTSTART:20260612T173000Z
DTEND:20260612T193000Z
LOCATION;LANGUAGE=de;ENCODING=QUOTED-PRINTABLE:Heiliggrabstraße\, Habach
SUMMARY:Punktspiel Sonnige Grüße\, sandige Füße vs Killerbienen
DESCRIPTION;LANGUAGE=de;ENCODING=QUOTED-PRINTABLE:Elly-Heuss-Realschule\nHeiliggrabstraße\nHabach\n\n\nÜbersicht https://test.dieliga.online/schedule/overview/647
END:VEVENT
BEGIN:VEVENT
UID:event8
DTSTAMP:20260421T070523Z
DTSTART:20260715T173000Z
DTEND:20260715T194500Z
LOCATION;LANGUAGE=de;ENCODING=QUOTED-PRINTABLE:Kirchenring 45\, Brand
SUMMARY:Punktspiel Killerbienen vs Die Überspitzen
DESCRIPTION;LANGUAGE=de;ENCODING=QUOTED-PRINTABLE:Sporthalle am Hallenbad (In der Ferienzeit kein Trainingsbetrieb möglich)\nKirchenring 45\n47119 Brand\ngegenüber der Feuerwehr\n\n\nÜbersicht https://test.dieliga.online/schedule/overview/647
END:VEVENT
BEGIN:VEVENT
UID:event9
DTSTAMP:20260421T070523Z
DTSTART:20260724T174500Z
DTEND:20260724T194500Z
LOCATION;LANGUAGE=de;ENCODING=QUOTED-PRINTABLE:Vorhölterstraße 38\, Kammlach
SUMMARY:Punktspiel SMarties vs Killerbienen
DESCRIPTION;LANGUAGE=de;ENCODING=QUOTED-PRINTABLE:Halle 1\nVorhölterstraße 38\n31452 Kammlach\nEingang Lankerner Schulweg\n\n\nÜbersicht https://test.dieliga.online/schedule/overview/647
END:VEVENT
BEGIN:VEVENT
UID:event10
DTSTAMP:20260421T070523Z
DTSTART:20260729T173000Z
DTEND:20260729T194500Z
LOCATION;LANGUAGE=de;ENCODING=QUOTED-PRINTABLE:Kirchenring 45\, Brand
SUMMARY:Punktspiel Killerbienen vs Trockeneis
DESCRIPTION;LANGUAGE=de;ENCODING=QUOTED-PRINTABLE:Sporthalle am Hallenbad (In der Ferienzeit kein Trainingsbetrieb möglich)\nKirchenring 45\n47119 Brand\ngegenüber der Feuerwehr\n\n\nÜbersicht https://test.dieliga.online/schedule/overview/647
END:VEVENT
BEGIN:VEVENT
UID:event11
DTSTAMP:20260421T070523Z
DTSTART:20260805T173000Z
DTEND:20260805T193000Z
LOCATION;LANGUAGE=de;ENCODING=QUOTED-PRINTABLE:Hohlleite 49\, Eitensheim
SUMMARY:Punktspiel NimDuIchHabIhnSicha vs Killerbienen
DESCRIPTION;LANGUAGE=de;ENCODING=QUOTED-PRINTABLE:Halle II (keine Trinkflaschen/Straßenschuhe in der Halle\;    in den Schulferien KEIN Hallentraining  )\nHohlleite 49\n38047 Eitensheim\nPKW-Parkplätze vor dem Gebäude\n\n\nÜbersicht https://test.dieliga.online/schedule/overview/647
END:VEVENT
BEGIN:VEVENT
UID:event12
DTSTAMP:20260421T070523Z
DTSTART:20260826T173000Z
DTEND:20260826T194500Z
LOCATION;LANGUAGE=de;ENCODING=QUOTED-PRINTABLE:Kirchenring 45\, Brand
SUMMARY:Punktspiel Killerbienen vs Krampfadergeschwader
DESCRIPTION;LANGUAGE=de;ENCODING=QUOTED-PRINTABLE:Sporthalle am Hallenbad (In der Ferienzeit kein Trainingsbetrieb möglich)\nKirchenring 45\n47119 Brand\ngegenüber der Feuerwehr\n\n\nÜbersicht https://test.dieliga.online/schedule/overview/647
END:VEVENT
BEGIN:VEVENT
UID:event13
DTSTAMP:20260421T070523Z
DTSTART:20260905T180000Z
DTEND:20260905T200000Z
LOCATION;LANGUAGE=de;ENCODING=QUOTED-PRINTABLE:Erbenova 45\, Kranzberg
SUMMARY:Punktspiel Angry Nerds vs Killerbienen
DESCRIPTION;LANGUAGE=de;ENCODING=QUOTED-PRINTABLE:obere Halle\nErbenova 45\n33124 Kranzberg\n\n\nÜbersicht https://test.dieliga.online/schedule/overview/647
END:VEVENT
END:VCALENDAR