BEGIN:VCALENDAR
VERSION:2.0
PRODID:-//dieLiga//DE
BEGIN:VEVENT
UID:event0
DTSTAMP:20260423T083035Z
DTSTART:20260529T181500Z
DTEND:20260529T200000Z
LOCATION;LANGUAGE=de;ENCODING=QUOTED-PRINTABLE:Patzlarweg 28\, Leonberg
SUMMARY:Punktspiel Heb mich hoch vs Der Pferd heißt Horst
DESCRIPTION;LANGUAGE=de;ENCODING=QUOTED-PRINTABLE: (Parkplätze vorhanden)\nPatzlarweg 28\nLeonberg\n\n\nÜbersicht https://test.dieliga.online/schedule/overview/641
END:VEVENT
BEGIN:VEVENT
UID:event1
DTSTAMP:20260423T083035Z
DTSTART:20260521T170000Z
DTEND:20260521T190000Z
LOCATION;LANGUAGE=de;ENCODING=QUOTED-PRINTABLE:Alfons-Steinhauser-Straße 35\, Aura an der Saale
SUMMARY:Punktspiel Sgladsch­dglei vs Heb mich hoch
DESCRIPTION;LANGUAGE=de;ENCODING=QUOTED-PRINTABLE:Halle III (Backsteinhalle\, vom Schulhof aus rechts)\nAlfons-Steinhauser-Straße 35\nAura an der Saale\nstadtauswärts\n\n\nÜbersicht https://test.dieliga.online/schedule/overview/641
END:VEVENT
BEGIN:VEVENT
UID:event2
DTSTAMP:20260423T083035Z
DTSTART:20260411T181500Z
DTEND:20260411T200000Z
LOCATION;LANGUAGE=de;ENCODING=QUOTED-PRINTABLE:Patzlarweg 28\, Leonberg
SUMMARY:Punktspiel Heb mich hoch vs Die Überspitzen
DESCRIPTION;LANGUAGE=de;ENCODING=QUOTED-PRINTABLE:26:24\, 17:25\, 25:27
END:VEVENT
BEGIN:VEVENT
UID:event3
DTSTAMP:20260423T083035Z
DTSTART:20260416T180000Z
DTEND:20260416T200000Z
LOCATION;LANGUAGE=de;ENCODING=QUOTED-PRINTABLE:Christian-Friedrich-Schwan-Straße 6\, Niederrieden
SUMMARY:Punktspiel Chaos am Netz vs Heb mich hoch
DESCRIPTION;LANGUAGE=de;ENCODING=QUOTED-PRINTABLE:25:10\, 25:16
END:VEVENT
BEGIN:VEVENT
UID:event4
DTSTAMP:20260423T083035Z
DTSTART:20260425T181500Z
DTEND:20260425T200000Z
LOCATION;LANGUAGE=de;ENCODING=QUOTED-PRINTABLE:Patzlarweg 28\, Leonberg
SUMMARY:Punktspiel Heb mich hoch vs Horny Porny
DESCRIPTION;LANGUAGE=de;ENCODING=QUOTED-PRINTABLE:25:13\, 23:25\, 23:25
END:VEVENT
BEGIN:VEVENT
UID:event5
DTSTAMP:20260423T083035Z
DTSTART:20260513T180000Z
DTEND:20260513T200000Z
LOCATION;LANGUAGE=de;ENCODING=QUOTED-PRINTABLE:Dr. Maxein Straße 14\, Zapfendorf
SUMMARY:Punktspiel Pflasterscheisser vs Heb mich hoch
DESCRIPTION;LANGUAGE=de;ENCODING=QUOTED-PRINTABLE:Halle I\nDr. Maxein Straße 14\nZapfendorf\n\n\nÜbersicht https://test.dieliga.online/schedule/overview/641
END:VEVENT
BEGIN:VEVENT
UID:event6
DTSTAMP:20260423T083035Z
DTSTART:20260607T173000Z
DTEND:20260607T193000Z
LOCATION;LANGUAGE=de;ENCODING=QUOTED-PRINTABLE:Hinter den Ulmen 51\, Stulln
SUMMARY:Punktspiel Auf einem Auge blöd vs Heb mich hoch
DESCRIPTION;LANGUAGE=de;ENCODING=QUOTED-PRINTABLE:Hauptschulturnhalle\nHinter den Ulmen 51\nStulln\n\n\nÜbersicht https://test.dieliga.online/schedule/overview/641
END:VEVENT
BEGIN:VEVENT
UID:event7
DTSTAMP:20260423T083035Z
DTSTART:20260611T173000Z
DTEND:20260611T200000Z
LOCATION;LANGUAGE=de;ENCODING=QUOTED-PRINTABLE:Rodenhoferdell 36\, Fichtelberg
SUMMARY:Punktspiel Der Pferd heißt Horst vs Heb mich hoch
DESCRIPTION;LANGUAGE=de;ENCODING=QUOTED-PRINTABLE:\nRodenhoferdell 36\nFichtelberg\nParken nur mit Anwohnerparkausweis möglich!!\n\n\nÜbersicht https://test.dieliga.online/schedule/overview/641
END:VEVENT
BEGIN:VEVENT
UID:event8
DTSTAMP:20260423T083035Z
DTSTART:20260717T181500Z
DTEND:20260717T200000Z
LOCATION;LANGUAGE=de;ENCODING=QUOTED-PRINTABLE:Patzlarweg 28\, Leonberg
SUMMARY:Punktspiel Heb mich hoch vs Sgladsch­dglei
DESCRIPTION;LANGUAGE=de;ENCODING=QUOTED-PRINTABLE: (Parkplätze vorhanden)\nPatzlarweg 28\nLeonberg\n\n\nÜbersicht https://test.dieliga.online/schedule/overview/641
END:VEVENT
BEGIN:VEVENT
UID:event9
DTSTAMP:20260423T083035Z
DTSTART:20260722T180000Z
DTEND:20260722T200000Z
LOCATION;LANGUAGE=de;ENCODING=QUOTED-PRINTABLE:Boyneburgufer 36\, Wolfersdorf
SUMMARY:Punktspiel Die Überspitzen vs Heb mich hoch
DESCRIPTION;LANGUAGE=de;ENCODING=QUOTED-PRINTABLE:Halle 1\nBoyneburgufer 36\n93584 Wolfersdorf\n\n\nÜbersicht https://test.dieliga.online/schedule/overview/641
END:VEVENT
BEGIN:VEVENT
UID:event10
DTSTAMP:20260423T083035Z
DTSTART:20260731T181500Z
DTEND:20260731T200000Z
LOCATION;LANGUAGE=de;ENCODING=QUOTED-PRINTABLE:Patzlarweg 28\, Leonberg
SUMMARY:Punktspiel Heb mich hoch vs Chaos am Netz
DESCRIPTION;LANGUAGE=de;ENCODING=QUOTED-PRINTABLE: (Parkplätze vorhanden)\nPatzlarweg 28\nLeonberg\n\n\nÜbersicht https://test.dieliga.online/schedule/overview/641
END:VEVENT
BEGIN:VEVENT
UID:event11
DTSTAMP:20260423T083035Z
DTSTART:20260807T183000Z
DTEND:20260807T205000Z
LOCATION;LANGUAGE=de;ENCODING=QUOTED-PRINTABLE:Oberadener Straße 42\, Berg im Gau
SUMMARY:Punktspiel Horny Porny vs Heb mich hoch
DESCRIPTION;LANGUAGE=de;ENCODING=QUOTED-PRINTABLE:Halle II\nOberadener Straße 42\n45927 Berg im Gau\n\n\nÜbersicht https://test.dieliga.online/schedule/overview/641
END:VEVENT
BEGIN:VEVENT
UID:event12
DTSTAMP:20260423T083035Z
DTSTART:20260828T181500Z
DTEND:20260828T200000Z
LOCATION;LANGUAGE=de;ENCODING=QUOTED-PRINTABLE:Patzlarweg 28\, Leonberg
SUMMARY:Punktspiel Heb mich hoch vs Pflasterscheisser
DESCRIPTION;LANGUAGE=de;ENCODING=QUOTED-PRINTABLE: (Parkplätze vorhanden)\nPatzlarweg 28\nLeonberg\n\n\nÜbersicht https://test.dieliga.online/schedule/overview/641
END:VEVENT
BEGIN:VEVENT
UID:event13
DTSTAMP:20260423T083035Z
DTSTART:20260907T181500Z
DTEND:20260907T200000Z
LOCATION;LANGUAGE=de;ENCODING=QUOTED-PRINTABLE:Patzlarweg 28\, Leonberg
SUMMARY:Punktspiel Heb mich hoch vs Auf einem Auge blöd
DESCRIPTION;LANGUAGE=de;ENCODING=QUOTED-PRINTABLE: (Parkplätze vorhanden)\nPatzlarweg 28\nLeonberg\n\n\nÜbersicht https://test.dieliga.online/schedule/overview/641
END:VEVENT
END:VCALENDAR