BEGIN:VCALENDAR
VERSION:2.0
PRODID:-//dieLiga//DE
BEGIN:VEVENT
UID:event0
DTSTAMP:20260423T084115Z
DTSTART:20260522T183000Z
DTEND:20260522T205000Z
LOCATION;LANGUAGE=de;ENCODING=QUOTED-PRINTABLE:Oberadener Straße 42\, Berg im Gau
SUMMARY:Punktspiel Horny Porny vs Sgladsch­dglei
DESCRIPTION;LANGUAGE=de;ENCODING=QUOTED-PRINTABLE:Halle II\nOberadener Straße 42\n45927 Berg im Gau\n\n\nÜbersicht https://test.dieliga.online/schedule/overview/641
END:VEVENT
BEGIN:VEVENT
UID:event1
DTSTAMP:20260423T084115Z
DTSTART:20260521T170000Z
DTEND:20260521T190000Z
LOCATION;LANGUAGE=de;ENCODING=QUOTED-PRINTABLE:Alfons-Steinhauser-Straße 35\, Aura an der Saale
SUMMARY:Punktspiel Sgladsch­dglei vs Heb mich hoch
DESCRIPTION;LANGUAGE=de;ENCODING=QUOTED-PRINTABLE:Halle III (Backsteinhalle\, vom Schulhof aus rechts)\nAlfons-Steinhauser-Straße 35\nAura an der Saale\nstadtauswärts\n\n\nÜbersicht https://test.dieliga.online/schedule/overview/641
END:VEVENT
BEGIN:VEVENT
UID:event2
DTSTAMP:20260423T084115Z
DTSTART:20260412T173000Z
DTEND:20260412T193000Z
LOCATION;LANGUAGE=de;ENCODING=QUOTED-PRINTABLE:Hinter den Ulmen 51\, Stulln
SUMMARY:Punktspiel Auf einem Auge blöd vs Sgladsch­dglei
DESCRIPTION;LANGUAGE=de;ENCODING=QUOTED-PRINTABLE:25:10\, 15:25\, 25:18
END:VEVENT
BEGIN:VEVENT
UID:event3
DTSTAMP:20260423T084115Z
DTSTART:20260417T170000Z
DTEND:20260417T190000Z
LOCATION;LANGUAGE=de;ENCODING=QUOTED-PRINTABLE:Alfons-Steinhauser-Straße 35\, Aura an der Saale
SUMMARY:Punktspiel Sgladsch­dglei vs Der Pferd heißt Horst
DESCRIPTION;LANGUAGE=de;ENCODING=QUOTED-PRINTABLE:19:25\, 25:19\, 22:25
END:VEVENT
BEGIN:VEVENT
UID:event4
DTSTAMP:20260423T084115Z
DTSTART:20260424T170000Z
DTEND:20260424T190000Z
LOCATION;LANGUAGE=de;ENCODING=QUOTED-PRINTABLE:Alfons-Steinhauser-Straße 35\, Aura an der Saale
SUMMARY:Punktspiel Sgladsch­dglei vs Pflasterscheisser
DESCRIPTION;LANGUAGE=de;ENCODING=QUOTED-PRINTABLE:23:25\, 24:26
END:VEVENT
BEGIN:VEVENT
UID:event5
DTSTAMP:20260423T084115Z
DTSTART:20260513T180000Z
DTEND:20260513T200000Z
LOCATION;LANGUAGE=de;ENCODING=QUOTED-PRINTABLE:Boyneburgufer 36\, Wolfersdorf
SUMMARY:Punktspiel Die Überspitzen vs Sgladsch­dglei
DESCRIPTION;LANGUAGE=de;ENCODING=QUOTED-PRINTABLE:Halle 1\nBoyneburgufer 36\n93584 Wolfersdorf\n\n\nÜbersicht https://test.dieliga.online/schedule/overview/641
END:VEVENT
BEGIN:VEVENT
UID:event6
DTSTAMP:20260423T084115Z
DTSTART:20260605T170000Z
DTEND:20260605T190000Z
LOCATION;LANGUAGE=de;ENCODING=QUOTED-PRINTABLE:Alfons-Steinhauser-Straße 35\, Aura an der Saale
SUMMARY:Punktspiel Sgladsch­dglei vs Chaos am Netz
DESCRIPTION;LANGUAGE=de;ENCODING=QUOTED-PRINTABLE:Halle III (Backsteinhalle\, vom Schulhof aus rechts)\nAlfons-Steinhauser-Straße 35\nAura an der Saale\nstadtauswärts\n\n\nÜbersicht https://test.dieliga.online/schedule/overview/641
END:VEVENT
BEGIN:VEVENT
UID:event7
DTSTAMP:20260423T084115Z
DTSTART:20260612T170000Z
DTEND:20260612T190000Z
LOCATION;LANGUAGE=de;ENCODING=QUOTED-PRINTABLE:Alfons-Steinhauser-Straße 35\, Aura an der Saale
SUMMARY:Punktspiel Sgladsch­dglei vs Horny Porny
DESCRIPTION;LANGUAGE=de;ENCODING=QUOTED-PRINTABLE:Halle III (Backsteinhalle\, vom Schulhof aus rechts)\nAlfons-Steinhauser-Straße 35\nAura an der Saale\nstadtauswärts\n\n\nÜbersicht https://test.dieliga.online/schedule/overview/641
END:VEVENT
BEGIN:VEVENT
UID:event8
DTSTAMP:20260423T084115Z
DTSTART:20260717T181500Z
DTEND:20260717T200000Z
LOCATION;LANGUAGE=de;ENCODING=QUOTED-PRINTABLE:Patzlarweg 28\, Leonberg
SUMMARY:Punktspiel Heb mich hoch vs Sgladsch­dglei
DESCRIPTION;LANGUAGE=de;ENCODING=QUOTED-PRINTABLE: (Parkplätze vorhanden)\nPatzlarweg 28\nLeonberg\n\n\nÜbersicht https://test.dieliga.online/schedule/overview/641
END:VEVENT
BEGIN:VEVENT
UID:event9
DTSTAMP:20260423T084115Z
DTSTART:20260723T170000Z
DTEND:20260723T190000Z
LOCATION;LANGUAGE=de;ENCODING=QUOTED-PRINTABLE:Alfons-Steinhauser-Straße 35\, Aura an der Saale
SUMMARY:Punktspiel Sgladsch­dglei vs Auf einem Auge blöd
DESCRIPTION;LANGUAGE=de;ENCODING=QUOTED-PRINTABLE:Halle III (Backsteinhalle\, vom Schulhof aus rechts)\nAlfons-Steinhauser-Straße 35\nAura an der Saale\nstadtauswärts\n\n\nÜbersicht https://test.dieliga.online/schedule/overview/641
END:VEVENT
BEGIN:VEVENT
UID:event10
DTSTAMP:20260423T084115Z
DTSTART:20260729T173000Z
DTEND:20260729T200000Z
LOCATION;LANGUAGE=de;ENCODING=QUOTED-PRINTABLE:Rodenhoferdell 36\, Fichtelberg
SUMMARY:Punktspiel Der Pferd heißt Horst vs Sgladsch­dglei
DESCRIPTION;LANGUAGE=de;ENCODING=QUOTED-PRINTABLE:\nRodenhoferdell 36\nFichtelberg\nParken nur mit Anwohnerparkausweis möglich!!\n\n\nÜbersicht https://test.dieliga.online/schedule/overview/641
END:VEVENT
BEGIN:VEVENT
UID:event11
DTSTAMP:20260423T084115Z
DTSTART:20260805T180000Z
DTEND:20260805T200000Z
LOCATION;LANGUAGE=de;ENCODING=QUOTED-PRINTABLE:Dr. Maxein Straße 14\, Zapfendorf
SUMMARY:Punktspiel Pflasterscheisser vs Sgladsch­dglei
DESCRIPTION;LANGUAGE=de;ENCODING=QUOTED-PRINTABLE:Halle I\nDr. Maxein Straße 14\nZapfendorf\n\n\nÜbersicht https://test.dieliga.online/schedule/overview/641
END:VEVENT
BEGIN:VEVENT
UID:event12
DTSTAMP:20260423T084115Z
DTSTART:20260827T170000Z
DTEND:20260827T190000Z
LOCATION;LANGUAGE=de;ENCODING=QUOTED-PRINTABLE:Alfons-Steinhauser-Straße 35\, Aura an der Saale
SUMMARY:Punktspiel Sgladsch­dglei vs Die Überspitzen
DESCRIPTION;LANGUAGE=de;ENCODING=QUOTED-PRINTABLE:Halle III (Backsteinhalle\, vom Schulhof aus rechts)\nAlfons-Steinhauser-Straße 35\nAura an der Saale\nstadtauswärts\n\n\nÜbersicht https://test.dieliga.online/schedule/overview/641
END:VEVENT
BEGIN:VEVENT
UID:event13
DTSTAMP:20260423T084115Z
DTSTART:20260905T180000Z
DTEND:20260905T200000Z
LOCATION;LANGUAGE=de;ENCODING=QUOTED-PRINTABLE:Christian-Friedrich-Schwan-Straße 6\, Niederrieden
SUMMARY:Punktspiel Chaos am Netz vs Sgladsch­dglei
DESCRIPTION;LANGUAGE=de;ENCODING=QUOTED-PRINTABLE:Grund- und Förderschule\nChristian-Friedrich-Schwan-Straße 6\n81967 Niederrieden\n\n\nÜbersicht https://test.dieliga.online/schedule/overview/641
END:VEVENT
END:VCALENDAR