BEGIN:VCALENDAR
VERSION:2.0
PRODID:-//dieLiga//DE
BEGIN:VEVENT
UID:event0
DTSTAMP:20260423T084103Z
DTSTART:20260822T173000Z
LOCATION;LANGUAGE=de;ENCODING=QUOTED-PRINTABLE:
SUMMARY:Punktspiel Grauen Raben vs Sandbankrocker
DESCRIPTION;LANGUAGE=de;ENCODING=QUOTED-PRINTABLE:\n\nÜbersicht https://test.dieliga.online/schedule/overview/639
END:VEVENT
BEGIN:VEVENT
UID:event1
DTSTAMP:20260423T084103Z
DTSTART:20260603T180000Z
DTEND:20260603T200000Z
LOCATION;LANGUAGE=de;ENCODING=QUOTED-PRINTABLE:Am Springbruch 15\, Teuschnitz
SUMMARY:Punktspiel Die Kolibris vs Grauen Raben
DESCRIPTION;LANGUAGE=de;ENCODING=QUOTED-PRINTABLE:\nAm Springbruch 15\n54708 Teuschnitz\n\n\nÜbersicht https://test.dieliga.online/schedule/overview/639
END:VEVENT
BEGIN:VEVENT
UID:event2
DTSTAMP:20260423T084103Z
DTSTART:20260614T173000Z
DTEND:20260614T200000Z
LOCATION;LANGUAGE=de;ENCODING=QUOTED-PRINTABLE:Gussenstadter Straße
SUMMARY:Punktspiel Grauen Raben vs Gruppe-X
DESCRIPTION;LANGUAGE=de;ENCODING=QUOTED-PRINTABLE:Goldachhalle\nGussenstadter Straße\nTreffpunkt an der Treppe\, späterer Einlass nicht möglich\, da in der Halle kein Handy-Empfang\, 2min von S-Bahn Hackerbrücke\n\n\nÜbersicht https://test.dieliga.online/schedule/overview/639
END:VEVENT
BEGIN:VEVENT
UID:event3
DTSTAMP:20260423T084103Z
DTSTART:20260715T173000Z
DTEND:20260715T200000Z
LOCATION;LANGUAGE=de;ENCODING=QUOTED-PRINTABLE:Am Semberg 27\, Giebelstadt
SUMMARY:Punktspiel Netz Boxxer vs Grauen Raben
DESCRIPTION;LANGUAGE=de;ENCODING=QUOTED-PRINTABLE: (Parkplätze sind Mangelware ...)\nAm Semberg 27\n38438 Giebelstadt\n\n\nÜbersicht https://test.dieliga.online/schedule/overview/639
END:VEVENT
BEGIN:VEVENT
UID:event4
DTSTAMP:20260423T084103Z
DTSTART:20260723T180000Z
DTEND:20260723T200000Z
LOCATION;LANGUAGE=de;ENCODING=QUOTED-PRINTABLE:Neuhauser Hauptstraße 59\, Baar
SUMMARY:Punktspiel Bauer rein\, Bauer raus! vs Grauen Raben
DESCRIPTION;LANGUAGE=de;ENCODING=QUOTED-PRINTABLE:Grundschule\nNeuhauser Hauptstraße 59\n18580 Baar\n\n\nÜbersicht https://test.dieliga.online/schedule/overview/639
END:VEVENT
BEGIN:VEVENT
UID:event5
DTSTAMP:20260423T084103Z
DTSTART:20260711T173000Z
LOCATION;LANGUAGE=de;ENCODING=QUOTED-PRINTABLE:
SUMMARY:Punktspiel Grauen Raben vs Nimm 2
DESCRIPTION;LANGUAGE=de;ENCODING=QUOTED-PRINTABLE:\n\nÜbersicht https://test.dieliga.online/schedule/overview/639
END:VEVENT
BEGIN:VEVENT
UID:event6
DTSTAMP:20260423T084103Z
DTSTART:20261012T173000Z
LOCATION;LANGUAGE=de;ENCODING=QUOTED-PRINTABLE:
SUMMARY:Punktspiel Grauen Raben vs Die Überspitzen
DESCRIPTION;LANGUAGE=de;ENCODING=QUOTED-PRINTABLE:\n\nÜbersicht https://test.dieliga.online/schedule/overview/639
END:VEVENT
BEGIN:VEVENT
UID:event7
DTSTAMP:20260423T084103Z
DTSTART:20260827T173000Z
DTEND:20260827T193000Z
LOCATION;LANGUAGE=de;ENCODING=QUOTED-PRINTABLE:Türkenfeldstraße 54\, Rödelsee
SUMMARY:Punktspiel Sandbankrocker vs Grauen Raben
DESCRIPTION;LANGUAGE=de;ENCODING=QUOTED-PRINTABLE:Halle I (Zufahrt in das Schulgelände durch das Eisentor ist nur bis ca. 19:45)\nTürkenfeldstraße 54\nRödelsee\n(Halle hat Hausnr. 103)\n\n\nÜbersicht https://test.dieliga.online/schedule/overview/639
END:VEVENT
BEGIN:VEVENT
UID:event8
DTSTAMP:20260423T084103Z
DTSTART:20260908T173000Z
DTEND:20260908T200000Z
LOCATION;LANGUAGE=de;ENCODING=QUOTED-PRINTABLE:Gussenstadter Straße
SUMMARY:Punktspiel Grauen Raben vs Die Kolibris
DESCRIPTION;LANGUAGE=de;ENCODING=QUOTED-PRINTABLE:Goldachhalle\nGussenstadter Straße\nTreffpunkt an der Treppe\, späterer Einlass nicht möglich\, da in der Halle kein Handy-Empfang\, 2min von S-Bahn Hackerbrücke\n\n\nÜbersicht https://test.dieliga.online/schedule/overview/639
END:VEVENT
BEGIN:VEVENT
UID:event9
DTSTAMP:20260423T084103Z
DTSTART:20260913T183000Z
DTEND:20260913T200000Z
LOCATION;LANGUAGE=de;ENCODING=QUOTED-PRINTABLE:Obersteig 55\, Vöhringen
SUMMARY:Punktspiel Gruppe-X vs Grauen Raben
DESCRIPTION;LANGUAGE=de;ENCODING=QUOTED-PRINTABLE:Grund- und Hauptschule\nObersteig 55\n63039 Vöhringen\n5 min von S-Bahnhof\n\n\nÜbersicht https://test.dieliga.online/schedule/overview/639
END:VEVENT
BEGIN:VEVENT
UID:event10
DTSTAMP:20260423T084103Z
DTSTART:20260922T173000Z
DTEND:20260922T200000Z
LOCATION;LANGUAGE=de;ENCODING=QUOTED-PRINTABLE:Gussenstadter Straße
SUMMARY:Punktspiel Grauen Raben vs Netz Boxxer
DESCRIPTION;LANGUAGE=de;ENCODING=QUOTED-PRINTABLE:Goldachhalle\nGussenstadter Straße\nTreffpunkt an der Treppe\, späterer Einlass nicht möglich\, da in der Halle kein Handy-Empfang\, 2min von S-Bahn Hackerbrücke\n\n\nÜbersicht https://test.dieliga.online/schedule/overview/639
END:VEVENT
END:VCALENDAR