BEGIN:VCALENDAR
VERSION:2.0
PRODID:-//dieLiga//DE
BEGIN:VEVENT
UID:event0
DTSTAMP:20260423T122636Z
DTSTART:20260506T174500Z
LOCATION;LANGUAGE=de;ENCODING=QUOTED-PRINTABLE:
SUMMARY:Punktspiel Nacktschneckenerschrecker vs Ex KGB
DESCRIPTION;LANGUAGE=de;ENCODING=QUOTED-PRINTABLE:\n\nÜbersicht https://test.dieliga.online/schedule/overview/646
END:VEVENT
BEGIN:VEVENT
UID:event1
DTSTAMP:20260423T122636Z
DTSTART:20260325T190000Z
DTEND:20260325T210000Z
LOCATION;LANGUAGE=de;ENCODING=QUOTED-PRINTABLE:Mittelstedter Straße 3\, Egglkofen
SUMMARY:Punktspiel Ex KGB vs Jumping Kangaroos
DESCRIPTION;LANGUAGE=de;ENCODING=QUOTED-PRINTABLE:21:25\, 25:21\, 22:25
END:VEVENT
BEGIN:VEVENT
UID:event2
DTSTAMP:20260423T122636Z
DTSTART:20260416T180000Z
DTEND:20260416T200000Z
LOCATION;LANGUAGE=de;ENCODING=QUOTED-PRINTABLE:Mittelstedter Straße 3\, Egglkofen
SUMMARY:Punktspiel Ex KGB vs Los Ballitos
DESCRIPTION;LANGUAGE=de;ENCODING=QUOTED-PRINTABLE:16:25\, 22:25
END:VEVENT
BEGIN:VEVENT
UID:event3
DTSTAMP:20260423T122636Z
DTSTART:20260425T180000Z
DTEND:20260425T200000Z
LOCATION;LANGUAGE=de;ENCODING=QUOTED-PRINTABLE:Steges Helgen 23\, Immenreuth
SUMMARY:Punktspiel Blind Desaster vs Ex KGB
DESCRIPTION;LANGUAGE=de;ENCODING=QUOTED-PRINTABLE:20:25\, 25:13\, 25:20
END:VEVENT
BEGIN:VEVENT
UID:event4
DTSTAMP:20260423T122636Z
DTSTART:20260513T180000Z
DTEND:20260513T200000Z
LOCATION;LANGUAGE=de;ENCODING=QUOTED-PRINTABLE:Mittelstedter Straße 3\, Egglkofen
SUMMARY:Punktspiel Ex KGB vs Lückensucher
DESCRIPTION;LANGUAGE=de;ENCODING=QUOTED-PRINTABLE:Gemeindehalle (bei der Schule)\nMittelstedter Straße 3\n13659 Egglkofen\n\n\nÜbersicht https://test.dieliga.online/schedule/overview/646
END:VEVENT
BEGIN:VEVENT
UID:event5
DTSTAMP:20260423T122636Z
DTSTART:20260604T170000Z
DTEND:20260604T200000Z
LOCATION;LANGUAGE=de;ENCODING=QUOTED-PRINTABLE:Wagenerstraße\, Bergrheinfeld
SUMMARY:Punktspiel Netzathleten Stonebridge vs Ex KGB
DESCRIPTION;LANGUAGE=de;ENCODING=QUOTED-PRINTABLE:Halle I (Training und Spielbetrieb)\nWagenerstraße\nBergrheinfeld\nzweites Tor rechts neben der Packstation\, Backsteingebäude\n\n\nÜbersicht https://test.dieliga.online/schedule/overview/646
END:VEVENT
BEGIN:VEVENT
UID:event6
DTSTAMP:20260423T122636Z
DTSTART:20260611T180000Z
DTEND:20260611T200000Z
LOCATION;LANGUAGE=de;ENCODING=QUOTED-PRINTABLE:Mittelstedter Straße 3\, Egglkofen
SUMMARY:Punktspiel Ex KGB vs Nacktschneckenerschrecker
DESCRIPTION;LANGUAGE=de;ENCODING=QUOTED-PRINTABLE:Gemeindehalle (bei der Schule)\nMittelstedter Straße 3\n13659 Egglkofen\n\n\nÜbersicht https://test.dieliga.online/schedule/overview/646
END:VEVENT
BEGIN:VEVENT
UID:event7
DTSTAMP:20260423T122636Z
DTSTART:20260718T173000Z
DTEND:20260718T193000Z
LOCATION;LANGUAGE=de;ENCODING=QUOTED-PRINTABLE:Hellensteinstraße 60\, Burgkunstadt
SUMMARY:Punktspiel Jumping Kangaroos vs Ex KGB
DESCRIPTION;LANGUAGE=de;ENCODING=QUOTED-PRINTABLE:\nHellensteinstraße 60\n10182 Burgkunstadt\nwenig Parkplätze zur Verfügung!\n\n\nÜbersicht https://test.dieliga.online/schedule/overview/646
END:VEVENT
BEGIN:VEVENT
UID:event8
DTSTAMP:20260423T122636Z
DTSTART:20260722T180000Z
DTEND:20260722T200000Z
LOCATION;LANGUAGE=de;ENCODING=QUOTED-PRINTABLE:Mittelstedter Straße 3\, Egglkofen
SUMMARY:Punktspiel Ex KGB vs Proleten von Platz
DESCRIPTION;LANGUAGE=de;ENCODING=QUOTED-PRINTABLE:Gemeindehalle (bei der Schule)\nMittelstedter Straße 3\n13659 Egglkofen\n\n\nÜbersicht https://test.dieliga.online/schedule/overview/646
END:VEVENT
BEGIN:VEVENT
UID:event9
DTSTAMP:20260423T122636Z
DTSTART:20260801T173000Z
DTEND:20260801T193000Z
LOCATION;LANGUAGE=de;ENCODING=QUOTED-PRINTABLE:Am Winkelsweg 35\, Reit im Winkl
SUMMARY:Punktspiel Los Ballitos vs Ex KGB
DESCRIPTION;LANGUAGE=de;ENCODING=QUOTED-PRINTABLE:3fach-Halle (Parkplätze an der Schule vorhanden)\nAm Winkelsweg 35\n59117 Reit im Winkl\n\n\nÜbersicht https://test.dieliga.online/schedule/overview/646
END:VEVENT
BEGIN:VEVENT
UID:event10
DTSTAMP:20260423T122636Z
DTSTART:20260805T180000Z
DTEND:20260805T200000Z
LOCATION;LANGUAGE=de;ENCODING=QUOTED-PRINTABLE:Mittelstedter Straße 3\, Egglkofen
SUMMARY:Punktspiel Ex KGB vs Blind Desaster
DESCRIPTION;LANGUAGE=de;ENCODING=QUOTED-PRINTABLE:Gemeindehalle (bei der Schule)\nMittelstedter Straße 3\n13659 Egglkofen\n\n\nÜbersicht https://test.dieliga.online/schedule/overview/646
END:VEVENT
BEGIN:VEVENT
UID:event11
DTSTAMP:20260423T122636Z
DTSTART:20260901T180000Z
DTEND:20260901T200000Z
LOCATION;LANGUAGE=de;ENCODING=QUOTED-PRINTABLE:St. Benedictstraße 43\, Bernau
SUMMARY:Punktspiel Lückensucher vs Ex KGB
DESCRIPTION;LANGUAGE=de;ENCODING=QUOTED-PRINTABLE:Traglufthalle Sportzentrum (Neue Turnhalle)\nSt. Benedictstraße 43\n87752 Bernau\n\n\nÜbersicht https://test.dieliga.online/schedule/overview/646
END:VEVENT
BEGIN:VEVENT
UID:event12
DTSTAMP:20260423T122636Z
DTSTART:20260905T180000Z
DTEND:20260905T200000Z
LOCATION;LANGUAGE=de;ENCODING=QUOTED-PRINTABLE:Mittelstedter Straße 3\, Egglkofen
SUMMARY:Punktspiel Ex KGB vs Netzathleten Stonebridge
DESCRIPTION;LANGUAGE=de;ENCODING=QUOTED-PRINTABLE:Gemeindehalle (bei der Schule)\nMittelstedter Straße 3\n13659 Egglkofen\n\n\nÜbersicht https://test.dieliga.online/schedule/overview/646
END:VEVENT
END:VCALENDAR