BEGIN:VCALENDAR
VERSION:2.0
PRODID:-//dieLiga//DE
BEGIN:VEVENT
UID:event0
DTSTAMP:20260421T070558Z
DTSTART:20260522T183000Z
DTEND:20260522T205000Z
LOCATION;LANGUAGE=de;ENCODING=QUOTED-PRINTABLE:Am St. Annabach 4\, Schierling
SUMMARY:Punktspiel IBU 400 vs Schneeflittchen und die 7 Zwerge
DESCRIPTION;LANGUAGE=de;ENCODING=QUOTED-PRINTABLE:Gemeindehalle (bei der Schule)\nAm St. Annabach 4\n83869 Schierling\n\n\nÜbersicht https://test.dieliga.online/schedule/overview/641
END:VEVENT
BEGIN:VEVENT
UID:event1
DTSTAMP:20260421T070558Z
DTSTART:20260325T190000Z
DTEND:20260325T210000Z
LOCATION;LANGUAGE=de;ENCODING=QUOTED-PRINTABLE:Walporzheimer Straße 24\, Bischberg
SUMMARY:Punktspiel Die Wölfe vs IBU 400
DESCRIPTION;LANGUAGE=de;ENCODING=QUOTED-PRINTABLE:25:22\, 25:23
END:VEVENT
BEGIN:VEVENT
UID:event2
DTSTAMP:20260421T070558Z
DTSTART:20260411T183000Z
DTEND:20260411T205000Z
LOCATION;LANGUAGE=de;ENCODING=QUOTED-PRINTABLE:Am St. Annabach 4\, Schierling
SUMMARY:Punktspiel IBU 400 vs Doppelblock
DESCRIPTION;LANGUAGE=de;ENCODING=QUOTED-PRINTABLE:25:21\, 23:25\, 25:18
END:VEVENT
BEGIN:VEVENT
UID:event3
DTSTAMP:20260421T070558Z
DTSTART:20260416T180000Z
DTEND:20260416T200000Z
LOCATION;LANGUAGE=de;ENCODING=QUOTED-PRINTABLE:Ludwig-Freiherr-v.-Würtzburg-Straße 38\, Hebertsfelden
SUMMARY:Punktspiel Honecker auf Gesundheitsreise vs IBU 400
DESCRIPTION;LANGUAGE=de;ENCODING=QUOTED-PRINTABLE:25:16\, 18:25\, 25:21
END:VEVENT
BEGIN:VEVENT
UID:event4
DTSTAMP:20260421T070558Z
DTSTART:20260425T181500Z
DTEND:20260425T200000Z
LOCATION;LANGUAGE=de;ENCODING=QUOTED-PRINTABLE:Farnweg 21\, Bogen
SUMMARY:Punktspiel Hallensprecher vs IBU 400
DESCRIPTION;LANGUAGE=de;ENCODING=QUOTED-PRINTABLE:25:13\, 23:25\, 23:25
END:VEVENT
BEGIN:VEVENT
UID:event5
DTSTAMP:20260421T070558Z
DTSTART:20260515T183000Z
DTEND:20260515T205000Z
LOCATION;LANGUAGE=de;ENCODING=QUOTED-PRINTABLE:Am St. Annabach 4\, Schierling
SUMMARY:Punktspiel IBU 400 vs Rasenbeacher
DESCRIPTION;LANGUAGE=de;ENCODING=QUOTED-PRINTABLE:Gemeindehalle (bei der Schule)\nAm St. Annabach 4\n83869 Schierling\n\n\nÜbersicht https://test.dieliga.online/schedule/overview/641
END:VEVENT
BEGIN:VEVENT
UID:event6
DTSTAMP:20260421T070558Z
DTSTART:20260604T173000Z
DTEND:20260604T200000Z
LOCATION;LANGUAGE=de;ENCODING=QUOTED-PRINTABLE:Buttermelcherstraße 40\, Zusamaltheim
SUMMARY:Punktspiel Nicht mit uns vs IBU 400
DESCRIPTION;LANGUAGE=de;ENCODING=QUOTED-PRINTABLE:\nButtermelcherstraße 40\nZusamaltheim\nParken nur mit Anwohnerparkausweis möglich!!\n\n\nÜbersicht https://test.dieliga.online/schedule/overview/641
END:VEVENT
BEGIN:VEVENT
UID:event7
DTSTAMP:20260421T070558Z
DTSTART:20260612T170000Z
DTEND:20260612T190000Z
LOCATION;LANGUAGE=de;ENCODING=QUOTED-PRINTABLE:Immestraße 58\, Krombach
SUMMARY:Punktspiel Schneeflittchen und die 7 Zwerge vs IBU 400
DESCRIPTION;LANGUAGE=de;ENCODING=QUOTED-PRINTABLE:Schulzentrum (Backsteinhalle\, vom Schulhof aus rechts)\nImmestraße 58\nKrombach\nstadtauswärts\n\n\nÜbersicht https://test.dieliga.online/schedule/overview/641
END:VEVENT
BEGIN:VEVENT
UID:event8
DTSTAMP:20260421T070558Z
DTSTART:20260717T183000Z
DTEND:20260717T205000Z
LOCATION;LANGUAGE=de;ENCODING=QUOTED-PRINTABLE:Am St. Annabach 4\, Schierling
SUMMARY:Punktspiel IBU 400 vs Die Wölfe
DESCRIPTION;LANGUAGE=de;ENCODING=QUOTED-PRINTABLE:Gemeindehalle (bei der Schule)\nAm St. Annabach 4\n83869 Schierling\n\n\nÜbersicht https://test.dieliga.online/schedule/overview/641
END:VEVENT
BEGIN:VEVENT
UID:event9
DTSTAMP:20260421T070558Z
DTSTART:20260722T180000Z
DTEND:20260722T200000Z
LOCATION;LANGUAGE=de;ENCODING=QUOTED-PRINTABLE:Keusgasse 15\, Höchberg
SUMMARY:Punktspiel Doppelblock vs IBU 400
DESCRIPTION;LANGUAGE=de;ENCODING=QUOTED-PRINTABLE:Hauptschulturnhalle\nKeusgasse 15\n31100 Höchberg\n\n\nÜbersicht https://test.dieliga.online/schedule/overview/641
END:VEVENT
BEGIN:VEVENT
UID:event10
DTSTAMP:20260421T070558Z
DTSTART:20260529T183000Z
DTEND:20260529T205000Z
LOCATION;LANGUAGE=de;ENCODING=QUOTED-PRINTABLE:Am St. Annabach 4\, Schierling
SUMMARY:Punktspiel IBU 400 vs Honecker auf Gesundheitsreise
DESCRIPTION;LANGUAGE=de;ENCODING=QUOTED-PRINTABLE:Gemeindehalle (bei der Schule)\nAm St. Annabach 4\n83869 Schierling\n\n\nÜbersicht https://test.dieliga.online/schedule/overview/641
END:VEVENT
BEGIN:VEVENT
UID:event11
DTSTAMP:20260421T070558Z
DTSTART:20260807T183000Z
DTEND:20260807T205000Z
LOCATION;LANGUAGE=de;ENCODING=QUOTED-PRINTABLE:Am St. Annabach 4\, Schierling
SUMMARY:Punktspiel IBU 400 vs Hallensprecher
DESCRIPTION;LANGUAGE=de;ENCODING=QUOTED-PRINTABLE:Gemeindehalle (bei der Schule)\nAm St. Annabach 4\n83869 Schierling\n\n\nÜbersicht https://test.dieliga.online/schedule/overview/641
END:VEVENT
BEGIN:VEVENT
UID:event12
DTSTAMP:20260421T070558Z
DTSTART:20260901T173000Z
DTEND:20260901T193000Z
LOCATION;LANGUAGE=de;ENCODING=QUOTED-PRINTABLE:Auf der Moorhütte 32\, Unterroth
SUMMARY:Punktspiel Rasenbeacher vs IBU 400
DESCRIPTION;LANGUAGE=de;ENCODING=QUOTED-PRINTABLE:Hauptschulturnhalle\nAuf der Moorhütte 32\nUnterroth\n\n\nÜbersicht https://test.dieliga.online/schedule/overview/641
END:VEVENT
BEGIN:VEVENT
UID:event13
DTSTAMP:20260421T070558Z
DTSTART:20260907T183000Z
DTEND:20260907T205000Z
LOCATION;LANGUAGE=de;ENCODING=QUOTED-PRINTABLE:Am St. Annabach 4\, Schierling
SUMMARY:Punktspiel IBU 400 vs Nicht mit uns
DESCRIPTION;LANGUAGE=de;ENCODING=QUOTED-PRINTABLE:Gemeindehalle (bei der Schule)\nAm St. Annabach 4\n83869 Schierling\n\n\nÜbersicht https://test.dieliga.online/schedule/overview/641
END:VEVENT
END:VCALENDAR