BEGIN:VCALENDAR
VERSION:2.0
PRODID:-//dieLiga//DE
BEGIN:VEVENT
UID:event0
DTSTAMP:20260421T074258Z
DTSTART:20260419T173000Z
DTEND:20260419T193000Z
LOCATION;LANGUAGE=de;ENCODING=QUOTED-PRINTABLE:Kösters Feld 52\, Lutzingen
SUMMARY:Punktspiel Grauen Raben vs De Banane Biegers
DESCRIPTION;LANGUAGE=de;ENCODING=QUOTED-PRINTABLE:26:24\, 25:23
END:VEVENT
BEGIN:VEVENT
UID:event1
DTSTAMP:20260421T074258Z
DTSTART:20260327T190000Z
DTEND:20260327T210000Z
LOCATION;LANGUAGE=de;ENCODING=QUOTED-PRINTABLE:Unterschöbling 31\, Irlbach
SUMMARY:Punktspiel De Banane Biegers vs Ein Hauch von Gewalt und eine Ladung von Gefühl
DESCRIPTION;LANGUAGE=de;ENCODING=QUOTED-PRINTABLE:3fach-Halle\nUnterschöbling 31\nIrlbach\n\n\nÜbersicht https://test.dieliga.online/schedule/overview/646
END:VEVENT
BEGIN:VEVENT
UID:event2
DTSTAMP:20260421T074258Z
DTSTART:20260418T180000Z
DTEND:20260418T200000Z
LOCATION;LANGUAGE=de;ENCODING=QUOTED-PRINTABLE:Unterschöbling 31\, Irlbach
SUMMARY:Punktspiel De Banane Biegers vs Blind Desaster
DESCRIPTION;LANGUAGE=de;ENCODING=QUOTED-PRINTABLE:25:19\, 25:18
END:VEVENT
BEGIN:VEVENT
UID:event3
DTSTAMP:20260421T074258Z
DTSTART:20260425T180000Z
DTEND:20260425T200000Z
LOCATION;LANGUAGE=de;ENCODING=QUOTED-PRINTABLE:Unterschöbling 31\, Irlbach
SUMMARY:Punktspiel De Banane Biegers vs Punkteräuber
DESCRIPTION;LANGUAGE=de;ENCODING=QUOTED-PRINTABLE:20:25\, 25:13\, 25:20
END:VEVENT
BEGIN:VEVENT
UID:event4
DTSTAMP:20260421T074258Z
DTSTART:20260513T170000Z
DTEND:20260513T200000Z
LOCATION;LANGUAGE=de;ENCODING=QUOTED-PRINTABLE:Schleiermacherstraße\, Eberfing
SUMMARY:Punktspiel Trommelwirbel vs De Banane Biegers
DESCRIPTION;LANGUAGE=de;ENCODING=QUOTED-PRINTABLE:Gemeindehalle (bei der Schule) (Training und Spielbetrieb)\nSchleiermacherstraße\nEberfing\nzweites Tor rechts neben der Packstation\, Backsteingebäude\n\n\nÜbersicht https://test.dieliga.online/schedule/overview/646
END:VEVENT
BEGIN:VEVENT
UID:event5
DTSTAMP:20260421T074258Z
DTSTART:20260606T180000Z
DTEND:20260606T200000Z
LOCATION;LANGUAGE=de;ENCODING=QUOTED-PRINTABLE:Unterschöbling 31\, Irlbach
SUMMARY:Punktspiel De Banane Biegers vs Die Unbestechlichen
DESCRIPTION;LANGUAGE=de;ENCODING=QUOTED-PRINTABLE:3fach-Halle\nUnterschöbling 31\nIrlbach\n\n\nÜbersicht https://test.dieliga.online/schedule/overview/646
END:VEVENT
BEGIN:VEVENT
UID:event6
DTSTAMP:20260421T074258Z
DTSTART:20260613T180000Z
DTEND:20260613T200000Z
LOCATION;LANGUAGE=de;ENCODING=QUOTED-PRINTABLE:Unterschöbling 31\, Irlbach
SUMMARY:Punktspiel De Banane Biegers vs Grauen Raben
DESCRIPTION;LANGUAGE=de;ENCODING=QUOTED-PRINTABLE:3fach-Halle\nUnterschöbling 31\nIrlbach\n\n\nÜbersicht https://test.dieliga.online/schedule/overview/646
END:VEVENT
BEGIN:VEVENT
UID:event7
DTSTAMP:20260421T074258Z
DTSTART:20260718T180000Z
DTEND:20260718T200000Z
LOCATION;LANGUAGE=de;ENCODING=QUOTED-PRINTABLE:Katzenbauerstraße 37\, Bobingen
SUMMARY:Punktspiel Ein Hauch von Gewalt und eine Ladung von Gefühl vs De Banane Biegers
DESCRIPTION;LANGUAGE=de;ENCODING=QUOTED-PRINTABLE:Hauptschulturnhalle (Neue Turnhalle)\nKatzenbauerstraße 37\n62039 Bobingen\n\n\nÜbersicht https://test.dieliga.online/schedule/overview/646
END:VEVENT
BEGIN:VEVENT
UID:event8
DTSTAMP:20260421T074258Z
DTSTART:20260724T180000Z
DTEND:20260724T200000Z
LOCATION;LANGUAGE=de;ENCODING=QUOTED-PRINTABLE:Unterschöbling 31\, Irlbach
SUMMARY:Punktspiel De Banane Biegers vs Saubär
DESCRIPTION;LANGUAGE=de;ENCODING=QUOTED-PRINTABLE:3fach-Halle\nUnterschöbling 31\nIrlbach\n\n\nÜbersicht https://test.dieliga.online/schedule/overview/646
END:VEVENT
BEGIN:VEVENT
UID:event9
DTSTAMP:20260421T074258Z
DTSTART:20260731T180000Z
DTEND:20260731T200000Z
LOCATION;LANGUAGE=de;ENCODING=QUOTED-PRINTABLE:Gondelsheimer Straße 52\, Schnaitsee
SUMMARY:Punktspiel Blind Desaster vs De Banane Biegers
DESCRIPTION;LANGUAGE=de;ENCODING=QUOTED-PRINTABLE:Halle I\nGondelsheimer Straße 52\nSchnaitsee\n\n\nÜbersicht https://test.dieliga.online/schedule/overview/646
END:VEVENT
BEGIN:VEVENT
UID:event10
DTSTAMP:20260421T074258Z
DTSTART:20260805T180000Z
DTEND:20260805T200000Z
LOCATION;LANGUAGE=de;ENCODING=QUOTED-PRINTABLE:Aroser Allee 22\, Kraftisried
SUMMARY:Punktspiel Punkteräuber vs De Banane Biegers
DESCRIPTION;LANGUAGE=de;ENCODING=QUOTED-PRINTABLE:Halle an der Alfonsschule\nAroser Allee 22\n87764 Kraftisried\n\n\nÜbersicht https://test.dieliga.online/schedule/overview/646
END:VEVENT
BEGIN:VEVENT
UID:event11
DTSTAMP:20260421T074258Z
DTSTART:20260828T180000Z
DTEND:20260828T200000Z
LOCATION;LANGUAGE=de;ENCODING=QUOTED-PRINTABLE:Unterschöbling 31\, Irlbach
SUMMARY:Punktspiel De Banane Biegers vs Trommelwirbel
DESCRIPTION;LANGUAGE=de;ENCODING=QUOTED-PRINTABLE:3fach-Halle\nUnterschöbling 31\nIrlbach\n\n\nÜbersicht https://test.dieliga.online/schedule/overview/646
END:VEVENT
BEGIN:VEVENT
UID:event12
DTSTAMP:20260421T074258Z
DTSTART:20260908T173000Z
DTEND:20260908T193000Z
LOCATION;LANGUAGE=de;ENCODING=QUOTED-PRINTABLE:Quitzowstraße 37\, Finsing
SUMMARY:Punktspiel Die Unbestechlichen vs De Banane Biegers
DESCRIPTION;LANGUAGE=de;ENCODING=QUOTED-PRINTABLE:\nQuitzowstraße 37\n80865 Finsing\nwenig Parkplätze zur Verfügung!\n\n\nÜbersicht https://test.dieliga.online/schedule/overview/646
END:VEVENT
END:VCALENDAR