BEGIN:VCALENDAR
VERSION:2.0
PRODID:-//dieLiga//DE
BEGIN:VEVENT
UID:event0
DTSTAMP:20260423T110048Z
DTSTART:20260327T190000Z
DTEND:20260327T210000Z
LOCATION;LANGUAGE=de;ENCODING=QUOTED-PRINTABLE:Fritz-Schmenkel-Straße 33\, Bellenberg
SUMMARY:Punktspiel Saubär vs Your Mom’s favorite Team
DESCRIPTION;LANGUAGE=de;ENCODING=QUOTED-PRINTABLE:25:7\, 25:19
END:VEVENT
BEGIN:VEVENT
UID:event1
DTSTAMP:20260423T110048Z
DTSTART:20260410T180000Z
DTEND:20260410T200000Z
LOCATION;LANGUAGE=de;ENCODING=QUOTED-PRINTABLE:Bernhard-Hoetger-Straße 19\, Igensdorf
SUMMARY:Punktspiel Experimentierer vs Your Mom’s favorite Team
DESCRIPTION;LANGUAGE=de;ENCODING=QUOTED-PRINTABLE:25:27\, 8:25
END:VEVENT
BEGIN:VEVENT
UID:event2
DTSTAMP:20260423T110048Z
DTSTART:20260418T173000Z
DTEND:20260418T193000Z
LOCATION;LANGUAGE=de;ENCODING=QUOTED-PRINTABLE:Zschertnitzer Straße 50\, Hunderdorf
SUMMARY:Punktspiel Your Mom’s favorite Team vs Balltöter
DESCRIPTION;LANGUAGE=de;ENCODING=QUOTED-PRINTABLE:17:25\, 24:26
END:VEVENT
BEGIN:VEVENT
UID:event3
DTSTAMP:20260423T110048Z
DTSTART:20260425T180000Z
DTEND:20260425T200000Z
LOCATION;LANGUAGE=de;ENCODING=QUOTED-PRINTABLE:An St. Theresia 51\, Aidhausen
SUMMARY:Punktspiel Die 3 lustigen 2 vs Your Mom’s favorite Team
DESCRIPTION;LANGUAGE=de;ENCODING=QUOTED-PRINTABLE:23:25\, 21:25
END:VEVENT
BEGIN:VEVENT
UID:event4
DTSTAMP:20260423T110048Z
DTSTART:20260515T173000Z
DTEND:20260515T193000Z
LOCATION;LANGUAGE=de;ENCODING=QUOTED-PRINTABLE:Zschertnitzer Straße 50\, Hunderdorf
SUMMARY:Punktspiel Your Mom’s favorite Team vs Birgites Pritscher
DESCRIPTION;LANGUAGE=de;ENCODING=QUOTED-PRINTABLE:Grundschule\nZschertnitzer Straße 50\n20239 Hunderdorf\n\n\nÜbersicht https://test.dieliga.online/schedule/overview/642
END:VEVENT
BEGIN:VEVENT
UID:event5
DTSTAMP:20260423T110048Z
DTSTART:20260605T180000Z
DTEND:20260605T193000Z
LOCATION;LANGUAGE=de;ENCODING=QUOTED-PRINTABLE:Morillenhang 10\, Stadelhofen
SUMMARY:Punktspiel Hart reimt sich auf Bart vs Your Mom’s favorite Team
DESCRIPTION;LANGUAGE=de;ENCODING=QUOTED-PRINTABLE:Vereinshalle\nMorillenhang 10\nStadelhofen\n\n\nÜbersicht https://test.dieliga.online/schedule/overview/642
END:VEVENT
BEGIN:VEVENT
UID:event6
DTSTAMP:20260423T110048Z
DTSTART:20260613T173000Z
DTEND:20260613T193000Z
LOCATION;LANGUAGE=de;ENCODING=QUOTED-PRINTABLE:Zschertnitzer Straße 50\, Hunderdorf
SUMMARY:Punktspiel Your Mom’s favorite Team vs Springflöhe
DESCRIPTION;LANGUAGE=de;ENCODING=QUOTED-PRINTABLE:Grundschule\nZschertnitzer Straße 50\n20239 Hunderdorf\n\n\nÜbersicht https://test.dieliga.online/schedule/overview/642
END:VEVENT
BEGIN:VEVENT
UID:event7
DTSTAMP:20260423T110048Z
DTSTART:20260717T164500Z
DTEND:20260717T190000Z
LOCATION;LANGUAGE=de;ENCODING=QUOTED-PRINTABLE:Am Hofberg 12\, Gollhofen
SUMMARY:Punktspiel Die wo mit dem Udo spielen vs Your Mom’s favorite Team
DESCRIPTION;LANGUAGE=de;ENCODING=QUOTED-PRINTABLE:Dreifachhalle\nAm Hofberg 12\n76762 Gollhofen\nParkplätze in der Tiefgarage auf der gegenüberliegenden Strassenseite\n\n\nÜbersicht https://test.dieliga.online/schedule/overview/642
END:VEVENT
BEGIN:VEVENT
UID:event8
DTSTAMP:20260423T110048Z
DTSTART:20260731T173000Z
DTEND:20260731T193000Z
LOCATION;LANGUAGE=de;ENCODING=QUOTED-PRINTABLE:Zschertnitzer Straße 50\, Hunderdorf
SUMMARY:Punktspiel Your Mom’s favorite Team vs Saubär
DESCRIPTION;LANGUAGE=de;ENCODING=QUOTED-PRINTABLE:Grundschule\nZschertnitzer Straße 50\n20239 Hunderdorf\n\n\nÜbersicht https://test.dieliga.online/schedule/overview/642
END:VEVENT
BEGIN:VEVENT
UID:event9
DTSTAMP:20260423T110048Z
DTSTART:20260807T173000Z
DTEND:20260807T193000Z
LOCATION;LANGUAGE=de;ENCODING=QUOTED-PRINTABLE:Zschertnitzer Straße 50\, Hunderdorf
SUMMARY:Punktspiel Your Mom’s favorite Team vs Experimentierer
DESCRIPTION;LANGUAGE=de;ENCODING=QUOTED-PRINTABLE:Grundschule\nZschertnitzer Straße 50\n20239 Hunderdorf\n\n\nÜbersicht https://test.dieliga.online/schedule/overview/642
END:VEVENT
BEGIN:VEVENT
UID:event10
DTSTAMP:20260423T110048Z
DTSTART:20260826T173000Z
DTEND:20260826T193000Z
LOCATION;LANGUAGE=de;ENCODING=QUOTED-PRINTABLE:Kaliwerk 11\, Aura im Sinngrund
SUMMARY:Punktspiel Balltöter vs Your Mom’s favorite Team
DESCRIPTION;LANGUAGE=de;ENCODING=QUOTED-PRINTABLE:Gymnasium\nKaliwerk 11\n24613 Aura im Sinngrund\nZufahrt über Am alten Brunnen\n\n\nÜbersicht https://test.dieliga.online/schedule/overview/642
END:VEVENT
BEGIN:VEVENT
UID:event11
DTSTAMP:20260423T110048Z
DTSTART:20260907T173000Z
DTEND:20260907T193000Z
LOCATION;LANGUAGE=de;ENCODING=QUOTED-PRINTABLE:Zschertnitzer Straße 50\, Hunderdorf
SUMMARY:Punktspiel Your Mom’s favorite Team vs Die 3 lustigen 2
DESCRIPTION;LANGUAGE=de;ENCODING=QUOTED-PRINTABLE:Grundschule\nZschertnitzer Straße 50\n20239 Hunderdorf\n\n\nÜbersicht https://test.dieliga.online/schedule/overview/642
END:VEVENT
BEGIN:VEVENT
UID:event12
DTSTAMP:20260423T110048Z
DTSTART:20260913T173000Z
DTEND:20260913T193000Z
LOCATION;LANGUAGE=de;ENCODING=QUOTED-PRINTABLE:Geistweg 21\, Markt Indersdorf
SUMMARY:Punktspiel Birgites Pritscher vs Your Mom’s favorite Team
DESCRIPTION;LANGUAGE=de;ENCODING=QUOTED-PRINTABLE:Hauptschulturnhalle\nGeistweg 21\n49715 Markt Indersdorf\n\n\nÜbersicht https://test.dieliga.online/schedule/overview/642
END:VEVENT
BEGIN:VEVENT
UID:event13
DTSTAMP:20260423T110048Z
DTSTART:20260921T173000Z
DTEND:20260921T193000Z
LOCATION;LANGUAGE=de;ENCODING=QUOTED-PRINTABLE:Zschertnitzer Straße 50\, Hunderdorf
SUMMARY:Punktspiel Your Mom’s favorite Team vs Hart reimt sich auf Bart
DESCRIPTION;LANGUAGE=de;ENCODING=QUOTED-PRINTABLE:Grundschule\nZschertnitzer Straße 50\n20239 Hunderdorf\n\n\nÜbersicht https://test.dieliga.online/schedule/overview/642
END:VEVENT
BEGIN:VEVENT
UID:event14
DTSTAMP:20260423T110048Z
DTSTART:20261016T173000Z
DTEND:20261016T193000Z
LOCATION;LANGUAGE=de;ENCODING=QUOTED-PRINTABLE:Weiherbachstraße 10\, Westerheim
SUMMARY:Punktspiel Springflöhe vs Your Mom’s favorite Team
DESCRIPTION;LANGUAGE=de;ENCODING=QUOTED-PRINTABLE:Halle II (Neue Einfachhalle)\nWeiherbachstraße 10\nWesterheim\n\n\nÜbersicht https://test.dieliga.online/schedule/overview/642
END:VEVENT
BEGIN:VEVENT
UID:event15
DTSTAMP:20260423T110048Z
DTSTART:20261025T183000Z
DTEND:20261025T203000Z
LOCATION;LANGUAGE=de;ENCODING=QUOTED-PRINTABLE:Zschertnitzer Straße 50\, Hunderdorf
SUMMARY:Punktspiel Your Mom’s favorite Team vs Die wo mit dem Udo spielen
DESCRIPTION;LANGUAGE=de;ENCODING=QUOTED-PRINTABLE:Grundschule\nZschertnitzer Straße 50\n20239 Hunderdorf\n\n\nÜbersicht https://test.dieliga.online/schedule/overview/642
END:VEVENT
END:VCALENDAR