BEGIN:VCALENDAR
VERSION:2.0
PRODID:-//dieLiga//DE
BEGIN:VEVENT
UID:event0
DTSTAMP:20260421T082213Z
DTSTART:20260318T190000Z
DTEND:20260318T210000Z
LOCATION;LANGUAGE=de;ENCODING=QUOTED-PRINTABLE:Am Eckernkamp 32\, Roding
SUMMARY:Punktspiel No pain no gain vs Erdnuckel
DESCRIPTION;LANGUAGE=de;ENCODING=QUOTED-PRINTABLE:25:17\, 31:29
END:VEVENT
BEGIN:VEVENT
UID:event1
DTSTAMP:20260421T082213Z
DTSTART:20260328T183000Z
DTEND:20260328T210000Z
LOCATION;LANGUAGE=de;ENCODING=QUOTED-PRINTABLE:Zum Wasserschloß 3\, Neustadt
SUMMARY:Punktspiel bis einer weint vs No pain no gain
DESCRIPTION;LANGUAGE=de;ENCODING=QUOTED-PRINTABLE:25:20\, 25:13
END:VEVENT
BEGIN:VEVENT
UID:event2
DTSTAMP:20260421T082213Z
DTSTART:20260506T180000Z
LOCATION;LANGUAGE=de;ENCODING=QUOTED-PRINTABLE:
SUMMARY:Punktspiel No pain no gain vs Hobbybatscher
DESCRIPTION;LANGUAGE=de;ENCODING=QUOTED-PRINTABLE:\n\nÜbersicht https://test.dieliga.online/schedule/overview/640
END:VEVENT
BEGIN:VEVENT
UID:event3
DTSTAMP:20260421T082213Z
DTSTART:20260417T171500Z
DTEND:20260417T193000Z
LOCATION;LANGUAGE=de;ENCODING=QUOTED-PRINTABLE:Brabantstraße\, Starnberg
SUMMARY:Punktspiel Muschelmixer vs No pain no gain
DESCRIPTION;LANGUAGE=de;ENCODING=QUOTED-PRINTABLE:25:22\, 26:24
END:VEVENT
BEGIN:VEVENT
UID:event4
DTSTAMP:20260421T082213Z
DTSTART:20260423T180000Z
DTEND:20260423T200000Z
LOCATION;LANGUAGE=de;ENCODING=QUOTED-PRINTABLE:Am Eckernkamp 32\, Roding
SUMMARY:Punktspiel No pain no gain vs Piranhas
DESCRIPTION;LANGUAGE=de;ENCODING=QUOTED-PRINTABLE:19:25\, 18:25
END:VEVENT
BEGIN:VEVENT
UID:event5
DTSTAMP:20260421T082213Z
DTSTART:20260516T173000Z
DTEND:20260516T192500Z
LOCATION;LANGUAGE=de;ENCODING=QUOTED-PRINTABLE:Am Wingertsberg 44\, Deuerling
SUMMARY:Punktspiel Geh ans Netz und mach was vs No pain no gain
DESCRIPTION;LANGUAGE=de;ENCODING=QUOTED-PRINTABLE:Traglufthalle Sportzentrum\nAm Wingertsberg 44\n49038 Deuerling\n\n\nÜbersicht https://test.dieliga.online/schedule/overview/640
END:VEVENT
BEGIN:VEVENT
UID:event6
DTSTAMP:20260421T082213Z
DTSTART:20260603T160000Z
DTEND:20260603T180000Z
LOCATION;LANGUAGE=de;ENCODING=QUOTED-PRINTABLE:Brünnersgasse 4\, Pleinfeld
SUMMARY:Punktspiel Schnapshamster vs No pain no gain
DESCRIPTION;LANGUAGE=de;ENCODING=QUOTED-PRINTABLE:obere Halle\nBrünnersgasse 4\n13306 Pleinfeld\n\n\nÜbersicht https://test.dieliga.online/schedule/overview/640
END:VEVENT
BEGIN:VEVENT
UID:event7
DTSTAMP:20260421T082213Z
DTSTART:20260611T180000Z
DTEND:20260611T200000Z
LOCATION;LANGUAGE=de;ENCODING=QUOTED-PRINTABLE:Dachsbergweg 39\, Hollenbach
SUMMARY:Punktspiel Erdnuckel vs No pain no gain
DESCRIPTION;LANGUAGE=de;ENCODING=QUOTED-PRINTABLE:Sporthalle am Hallenbad\nDachsbergweg 39\n17710 Hollenbach\n\n\nÜbersicht https://test.dieliga.online/schedule/overview/640
END:VEVENT
BEGIN:VEVENT
UID:event8
DTSTAMP:20260421T082213Z
DTSTART:20260715T180000Z
DTEND:20260715T200000Z
LOCATION;LANGUAGE=de;ENCODING=QUOTED-PRINTABLE:Am Eckernkamp 32\, Roding
SUMMARY:Punktspiel No pain no gain vs bis einer weint
DESCRIPTION;LANGUAGE=de;ENCODING=QUOTED-PRINTABLE:Halle 3\nAm Eckernkamp 32\n91610 Roding\n\n\nÜbersicht https://test.dieliga.online/schedule/overview/640
END:VEVENT
BEGIN:VEVENT
UID:event9
DTSTAMP:20260421T082213Z
DTSTART:20260725T180000Z
DTEND:20260725T200000Z
LOCATION;LANGUAGE=de;ENCODING=QUOTED-PRINTABLE:Zur Stegge 51\, Nittendorf
SUMMARY:Punktspiel Hobbybatscher vs No pain no gain
DESCRIPTION;LANGUAGE=de;ENCODING=QUOTED-PRINTABLE:Halle 3\nZur Stegge 51\n53177 Nittendorf\nWohngebiet - Nur wenige Parkplätze\n\n\nÜbersicht https://test.dieliga.online/schedule/overview/640
END:VEVENT
BEGIN:VEVENT
UID:event10
DTSTAMP:20260421T082213Z
DTSTART:20260729T180000Z
DTEND:20260729T200000Z
LOCATION;LANGUAGE=de;ENCODING=QUOTED-PRINTABLE:Am Eckernkamp 32\, Roding
SUMMARY:Punktspiel No pain no gain vs Muschelmixer
DESCRIPTION;LANGUAGE=de;ENCODING=QUOTED-PRINTABLE:Halle 3\nAm Eckernkamp 32\n91610 Roding\n\n\nÜbersicht https://test.dieliga.online/schedule/overview/640
END:VEVENT
BEGIN:VEVENT
UID:event11
DTSTAMP:20260421T082213Z
DTSTART:20260808T180000Z
DTEND:20260808T200000Z
LOCATION;LANGUAGE=de;ENCODING=QUOTED-PRINTABLE:Wienkeweg 14\, Hirschaid
SUMMARY:Punktspiel Piranhas vs No pain no gain
DESCRIPTION;LANGUAGE=de;ENCODING=QUOTED-PRINTABLE:Schulturnhalle\nWienkeweg 14\nHirschaid\n\n\nÜbersicht https://test.dieliga.online/schedule/overview/640
END:VEVENT
BEGIN:VEVENT
UID:event12
DTSTAMP:20260421T082213Z
DTSTART:20260826T180000Z
DTEND:20260826T200000Z
LOCATION;LANGUAGE=de;ENCODING=QUOTED-PRINTABLE:Am Eckernkamp 32\, Roding
SUMMARY:Punktspiel No pain no gain vs Geh ans Netz und mach was
DESCRIPTION;LANGUAGE=de;ENCODING=QUOTED-PRINTABLE:Halle 3\nAm Eckernkamp 32\n91610 Roding\n\n\nÜbersicht https://test.dieliga.online/schedule/overview/640
END:VEVENT
BEGIN:VEVENT
UID:event13
DTSTAMP:20260421T082213Z
DTSTART:20260905T180000Z
DTEND:20260905T200000Z
LOCATION;LANGUAGE=de;ENCODING=QUOTED-PRINTABLE:Am Eckernkamp 32\, Roding
SUMMARY:Punktspiel No pain no gain vs Schnapshamster
DESCRIPTION;LANGUAGE=de;ENCODING=QUOTED-PRINTABLE:Halle 3\nAm Eckernkamp 32\n91610 Roding\n\n\nÜbersicht https://test.dieliga.online/schedule/overview/640
END:VEVENT
END:VCALENDAR