BEGIN:VCALENDAR
VERSION:2.0
PRODID:-//dieLiga//DE
BEGIN:VEVENT
UID:event0
DTSTAMP:20260421T101119Z
DTSTART:20260912T180000Z
DTEND:20260912T200000Z
LOCATION;LANGUAGE=de;ENCODING=QUOTED-PRINTABLE:Keusgasse 15\, Höchberg
SUMMARY:Punktspiel Doppelblock vs Die Wölfe
DESCRIPTION;LANGUAGE=de;ENCODING=QUOTED-PRINTABLE:Hauptschulturnhalle\nKeusgasse 15\n31100 Höchberg\n\n\nÜbersicht https://test.dieliga.online/schedule/overview/641
END:VEVENT
BEGIN:VEVENT
UID:event1
DTSTAMP:20260421T101119Z
DTSTART:20260411T183000Z
DTEND:20260411T205000Z
LOCATION;LANGUAGE=de;ENCODING=QUOTED-PRINTABLE:Am St. Annabach 4\, Schierling
SUMMARY:Punktspiel IBU 400 vs Doppelblock
DESCRIPTION;LANGUAGE=de;ENCODING=QUOTED-PRINTABLE:25:21\, 23:25\, 25:18
END:VEVENT
BEGIN:VEVENT
UID:event2
DTSTAMP:20260421T101119Z
DTSTART:20260416T180000Z
DTEND:20260416T200000Z
LOCATION;LANGUAGE=de;ENCODING=QUOTED-PRINTABLE:Keusgasse 15\, Höchberg
SUMMARY:Punktspiel Doppelblock vs Hallensprecher
DESCRIPTION;LANGUAGE=de;ENCODING=QUOTED-PRINTABLE:25:10\, 25:16
END:VEVENT
BEGIN:VEVENT
UID:event3
DTSTAMP:20260421T101119Z
DTSTART:20260426T173000Z
DTEND:20260426T193000Z
LOCATION;LANGUAGE=de;ENCODING=QUOTED-PRINTABLE:Auf der Moorhütte 32\, Unterroth
SUMMARY:Punktspiel Rasenbeacher vs Doppelblock
DESCRIPTION;LANGUAGE=de;ENCODING=QUOTED-PRINTABLE:13:25\, 25:17\, 25:21
END:VEVENT
BEGIN:VEVENT
UID:event4
DTSTAMP:20260421T101119Z
DTSTART:20260513T180000Z
DTEND:20260513T200000Z
LOCATION;LANGUAGE=de;ENCODING=QUOTED-PRINTABLE:Keusgasse 15\, Höchberg
SUMMARY:Punktspiel Doppelblock vs Nicht mit uns
DESCRIPTION;LANGUAGE=de;ENCODING=QUOTED-PRINTABLE:Hauptschulturnhalle\nKeusgasse 15\n31100 Höchberg\n\n\nÜbersicht https://test.dieliga.online/schedule/overview/641
END:VEVENT
BEGIN:VEVENT
UID:event5
DTSTAMP:20260421T101119Z
DTSTART:20260605T170000Z
DTEND:20260605T190000Z
LOCATION;LANGUAGE=de;ENCODING=QUOTED-PRINTABLE:Immestraße 58\, Krombach
SUMMARY:Punktspiel Schneeflittchen und die 7 Zwerge vs Doppelblock
DESCRIPTION;LANGUAGE=de;ENCODING=QUOTED-PRINTABLE:Schulzentrum (Backsteinhalle\, vom Schulhof aus rechts)\nImmestraße 58\nKrombach\nstadtauswärts\n\n\nÜbersicht https://test.dieliga.online/schedule/overview/641
END:VEVENT
BEGIN:VEVENT
UID:event6
DTSTAMP:20260421T101119Z
DTSTART:20260611T180000Z
DTEND:20260611T200000Z
LOCATION;LANGUAGE=de;ENCODING=QUOTED-PRINTABLE:Walporzheimer Straße 24\, Bischberg
SUMMARY:Punktspiel Die Wölfe vs Doppelblock
DESCRIPTION;LANGUAGE=de;ENCODING=QUOTED-PRINTABLE:Elly-Heuss-Realschule\nWalporzheimer Straße 24\n48643 Bischberg\n\n\nÜbersicht https://test.dieliga.online/schedule/overview/641
END:VEVENT
BEGIN:VEVENT
UID:event7
DTSTAMP:20260421T101119Z
DTSTART:20260715T180000Z
DTEND:20260715T200000Z
LOCATION;LANGUAGE=de;ENCODING=QUOTED-PRINTABLE:Keusgasse 15\, Höchberg
SUMMARY:Punktspiel Doppelblock vs Honecker auf Gesundheitsreise
DESCRIPTION;LANGUAGE=de;ENCODING=QUOTED-PRINTABLE:Hauptschulturnhalle\nKeusgasse 15\n31100 Höchberg\n\n\nÜbersicht https://test.dieliga.online/schedule/overview/641
END:VEVENT
BEGIN:VEVENT
UID:event8
DTSTAMP:20260421T101119Z
DTSTART:20260722T180000Z
DTEND:20260722T200000Z
LOCATION;LANGUAGE=de;ENCODING=QUOTED-PRINTABLE:Keusgasse 15\, Höchberg
SUMMARY:Punktspiel Doppelblock vs IBU 400
DESCRIPTION;LANGUAGE=de;ENCODING=QUOTED-PRINTABLE:Hauptschulturnhalle\nKeusgasse 15\n31100 Höchberg\n\n\nÜbersicht https://test.dieliga.online/schedule/overview/641
END:VEVENT
BEGIN:VEVENT
UID:event9
DTSTAMP:20260421T101119Z
DTSTART:20260731T181500Z
DTEND:20260731T200000Z
LOCATION;LANGUAGE=de;ENCODING=QUOTED-PRINTABLE:Farnweg 21\, Bogen
SUMMARY:Punktspiel Hallensprecher vs Doppelblock
DESCRIPTION;LANGUAGE=de;ENCODING=QUOTED-PRINTABLE: (Parkplätze vorhanden)\nFarnweg 21\nBogen\n\n\nÜbersicht https://test.dieliga.online/schedule/overview/641
END:VEVENT
BEGIN:VEVENT
UID:event10
DTSTAMP:20260421T101119Z
DTSTART:20260805T180000Z
DTEND:20260805T200000Z
LOCATION;LANGUAGE=de;ENCODING=QUOTED-PRINTABLE:Keusgasse 15\, Höchberg
SUMMARY:Punktspiel Doppelblock vs Rasenbeacher
DESCRIPTION;LANGUAGE=de;ENCODING=QUOTED-PRINTABLE:Hauptschulturnhalle\nKeusgasse 15\n31100 Höchberg\n\n\nÜbersicht https://test.dieliga.online/schedule/overview/641
END:VEVENT
BEGIN:VEVENT
UID:event11
DTSTAMP:20260421T101119Z
DTSTART:20260826T173000Z
DTEND:20260826T200000Z
LOCATION;LANGUAGE=de;ENCODING=QUOTED-PRINTABLE:Buttermelcherstraße 40\, Zusamaltheim
SUMMARY:Punktspiel Nicht mit uns vs Doppelblock
DESCRIPTION;LANGUAGE=de;ENCODING=QUOTED-PRINTABLE:\nButtermelcherstraße 40\nZusamaltheim\nParken nur mit Anwohnerparkausweis möglich!!\n\n\nÜbersicht https://test.dieliga.online/schedule/overview/641
END:VEVENT
BEGIN:VEVENT
UID:event12
DTSTAMP:20260421T101119Z
DTSTART:20260905T180000Z
DTEND:20260905T200000Z
LOCATION;LANGUAGE=de;ENCODING=QUOTED-PRINTABLE:Keusgasse 15\, Höchberg
SUMMARY:Punktspiel Doppelblock vs Schneeflittchen und die 7 Zwerge
DESCRIPTION;LANGUAGE=de;ENCODING=QUOTED-PRINTABLE:Hauptschulturnhalle\nKeusgasse 15\n31100 Höchberg\n\n\nÜbersicht https://test.dieliga.online/schedule/overview/641
END:VEVENT
END:VCALENDAR