BEGIN:VCALENDAR
VERSION:2.0
PRODID:-//dieLiga//DE
BEGIN:VEVENT
UID:event0
DTSTAMP:20260421T095735Z
DTSTART:20260412T180000Z
DTEND:20260412T210000Z
LOCATION;LANGUAGE=de;ENCODING=QUOTED-PRINTABLE:Zur Helling 34\, Großostheim
SUMMARY:Punktspiel Die grünen Punkte und ihren gelben Säcke vs Speedteam
DESCRIPTION;LANGUAGE=de;ENCODING=QUOTED-PRINTABLE:25:13\, 25:22
END:VEVENT
BEGIN:VEVENT
UID:event1
DTSTAMP:20260421T095735Z
DTSTART:20260416T173000Z
DTEND:20260416T200000Z
LOCATION;LANGUAGE=de;ENCODING=QUOTED-PRINTABLE:Am Seelachwald 11\, Kötz
SUMMARY:Punktspiel Speedteam vs 0815
DESCRIPTION;LANGUAGE=de;ENCODING=QUOTED-PRINTABLE:23:25\, 16:25
END:VEVENT
BEGIN:VEVENT
UID:event2
DTSTAMP:20260421T095735Z
DTSTART:20260513T173000Z
DTEND:20260513T200000Z
LOCATION;LANGUAGE=de;ENCODING=QUOTED-PRINTABLE:Am Seelachwald 11\, Kötz
SUMMARY:Punktspiel Speedteam vs Hai-Tai-Tai
DESCRIPTION;LANGUAGE=de;ENCODING=QUOTED-PRINTABLE: (Parkplätze sind Mangelware ...)\nAm Seelachwald 11\n30732 Kötz\n\n\nÜbersicht https://test.dieliga.online/schedule/overview/639
END:VEVENT
BEGIN:VEVENT
UID:event3
DTSTAMP:20260421T095735Z
DTSTART:20260604T173000Z
DTEND:20260604T200000Z
LOCATION;LANGUAGE=de;ENCODING=QUOTED-PRINTABLE:Am Seelachwald 11\, Kötz
SUMMARY:Punktspiel Speedteam vs die Alten
DESCRIPTION;LANGUAGE=de;ENCODING=QUOTED-PRINTABLE: (Parkplätze sind Mangelware ...)\nAm Seelachwald 11\n30732 Kötz\n\n\nÜbersicht https://test.dieliga.online/schedule/overview/639
END:VEVENT
BEGIN:VEVENT
UID:event4
DTSTAMP:20260421T095735Z
DTSTART:20260612T180000Z
DTEND:20260612T200000Z
LOCATION;LANGUAGE=de;ENCODING=QUOTED-PRINTABLE:Gisibodenstraße 41\, Pollenfeld
SUMMARY:Punktspiel Gandhis Enkel vs Speedteam
DESCRIPTION;LANGUAGE=de;ENCODING=QUOTED-PRINTABLE:Grundschule\nGisibodenstraße 41\n41676 Pollenfeld\n\n\nÜbersicht https://test.dieliga.online/schedule/overview/639
END:VEVENT
BEGIN:VEVENT
UID:event5
DTSTAMP:20260421T095735Z
DTSTART:20260715T173000Z
DTEND:20260715T200000Z
LOCATION;LANGUAGE=de;ENCODING=QUOTED-PRINTABLE:Am Seelachwald 11\, Kötz
SUMMARY:Punktspiel Speedteam vs Rasenmäher
DESCRIPTION;LANGUAGE=de;ENCODING=QUOTED-PRINTABLE: (Parkplätze sind Mangelware ...)\nAm Seelachwald 11\n30732 Kötz\n\n\nÜbersicht https://test.dieliga.online/schedule/overview/639
END:VEVENT
BEGIN:VEVENT
UID:event6
DTSTAMP:20260421T095735Z
DTSTART:20260722T173000Z
DTEND:20260722T200000Z
LOCATION;LANGUAGE=de;ENCODING=QUOTED-PRINTABLE:Am Seelachwald 11\, Kötz
SUMMARY:Punktspiel Speedteam vs Die grünen Punkte und ihren gelben Säcke
DESCRIPTION;LANGUAGE=de;ENCODING=QUOTED-PRINTABLE: (Parkplätze sind Mangelware ...)\nAm Seelachwald 11\n30732 Kötz\n\n\nÜbersicht https://test.dieliga.online/schedule/overview/639
END:VEVENT
BEGIN:VEVENT
UID:event7
DTSTAMP:20260421T095735Z
DTSTART:20260730T173000Z
DTEND:20260730T193000Z
LOCATION;LANGUAGE=de;ENCODING=QUOTED-PRINTABLE:Dohrmannweg 35\, Landensberg
SUMMARY:Punktspiel 0815 vs Speedteam
DESCRIPTION;LANGUAGE=de;ENCODING=QUOTED-PRINTABLE:Traglufthalle Sportzentrum (Zufahrt in das Schulgelände durch das Eisentor ist nur bis ca. 19:45)\nDohrmannweg 35\nLandensberg\n(Halle hat Hausnr. 103)\n\n\nÜbersicht https://test.dieliga.online/schedule/overview/639
END:VEVENT
BEGIN:VEVENT
UID:event8
DTSTAMP:20260421T095735Z
DTSTART:20260805T173000Z
DTEND:20260805T200000Z
LOCATION;LANGUAGE=de;ENCODING=QUOTED-PRINTABLE:Am Seelachwald 11\, Kötz
SUMMARY:Punktspiel Speedteam vs Die Maschinen
DESCRIPTION;LANGUAGE=de;ENCODING=QUOTED-PRINTABLE: (Parkplätze sind Mangelware ...)\nAm Seelachwald 11\n30732 Kötz\n\n\nÜbersicht https://test.dieliga.online/schedule/overview/639
END:VEVENT
BEGIN:VEVENT
UID:event9
DTSTAMP:20260421T095735Z
DTSTART:20260827T183000Z
DTEND:20260827T200000Z
LOCATION;LANGUAGE=de;ENCODING=QUOTED-PRINTABLE:Karl-Lemnitz-Straße 16\, Ampfing
SUMMARY:Punktspiel Hai-Tai-Tai vs Speedteam
DESCRIPTION;LANGUAGE=de;ENCODING=QUOTED-PRINTABLE:Grund- und Hauptschule\nKarl-Lemnitz-Straße 16\n71303 Ampfing\n5 min von S-Bahnhof\n\n\nÜbersicht https://test.dieliga.online/schedule/overview/639
END:VEVENT
BEGIN:VEVENT
UID:event10
DTSTAMP:20260421T095735Z
DTSTART:20260904T180000Z
DTEND:20260904T200000Z
LOCATION;LANGUAGE=de;ENCODING=QUOTED-PRINTABLE:Prager Straße 21\, Ernsgaden
SUMMARY:Punktspiel die Alten vs Speedteam
DESCRIPTION;LANGUAGE=de;ENCODING=QUOTED-PRINTABLE:Halle 3\nPrager Straße 21\n26294 Ernsgaden\n\n\nÜbersicht https://test.dieliga.online/schedule/overview/639
END:VEVENT
BEGIN:VEVENT
UID:event11
DTSTAMP:20260421T095735Z
DTSTART:20260912T173000Z
DTEND:20260912T200000Z
LOCATION;LANGUAGE=de;ENCODING=QUOTED-PRINTABLE:Am Seelachwald 11\, Kötz
SUMMARY:Punktspiel Speedteam vs Gandhis Enkel
DESCRIPTION;LANGUAGE=de;ENCODING=QUOTED-PRINTABLE: (Parkplätze sind Mangelware ...)\nAm Seelachwald 11\n30732 Kötz\n\n\nÜbersicht https://test.dieliga.online/schedule/overview/639
END:VEVENT
BEGIN:VEVENT
UID:event12
DTSTAMP:20260421T095735Z
DTSTART:20260922T173000Z
DTEND:20260922T200000Z
LOCATION;LANGUAGE=de;ENCODING=QUOTED-PRINTABLE:Altbachstraße
SUMMARY:Punktspiel Rasenmäher vs Speedteam
DESCRIPTION;LANGUAGE=de;ENCODING=QUOTED-PRINTABLE:Grund- und Förderschule\nAltbachstraße\nTreffpunkt an der Treppe\, späterer Einlass nicht möglich\, da in der Halle kein Handy-Empfang\, 2min von S-Bahn Hackerbrücke\n\n\nÜbersicht https://test.dieliga.online/schedule/overview/639
END:VEVENT
END:VCALENDAR